BEGIN:VCALENDAR
VERSION:2.0
PRODID:-//Charlestown - ECPv6.6.4.2//NONSGML v1.0//EN
CALSCALE:GREGORIAN
METHOD:PUBLISH
X-WR-CALNAME:Charlestown
X-ORIGINAL-URL:https://charlestown.ie
X-WR-CALDESC:Events for Charlestown
REFRESH-INTERVAL;VALUE=DURATION:PT1H
X-Robots-Tag:noindex
X-PUBLISHED-TTL:PT1H
BEGIN:VTIMEZONE
TZID:Europe/Dublin
BEGIN:DAYLIGHT
TZOFFSETFROM:+0000
TZOFFSETTO:+0100
TZNAME:IST
DTSTART:20270328T010000
END:DAYLIGHT
BEGIN:STANDARD
TZOFFSETFROM:+0100
TZOFFSETTO:+0000
TZNAME:GMT
DTSTART:20271031T010000
END:STANDARD
BEGIN:DAYLIGHT
TZOFFSETFROM:+0000
TZOFFSETTO:+0100
TZNAME:IST
DTSTART:20280326T010000
END:DAYLIGHT
BEGIN:STANDARD
TZOFFSETFROM:+0100
TZOFFSETTO:+0000
TZNAME:GMT
DTSTART:20281029T010000
END:STANDARD
END:VTIMEZONE
BEGIN:VEVENT
DTSTART;TZID=Europe/Dublin:20270623T110000
DTEND;TZID=Europe/Dublin:20270623T130000
DTSTAMP:20260424T043015
CREATED:20250819T203259Z
LAST-MODIFIED:20250819T203259Z
UID:10002276-1813748400-1813755600@charlestown.ie
SUMMARY:Adult Arts & Crafts Group
DESCRIPTION:
URL:https://charlestown.ie/event/adult-arts-crafts-group/2027-06-23/
LOCATION:Charlestown Arts Centre
ATTACH;FMTTYPE=image/heic:https://charlestown.ie/wp-content/uploads/2025/08/20250819_175055.heic
END:VEVENT
BEGIN:VEVENT
DTSTART;TZID=Europe/Dublin:20270630T110000
DTEND;TZID=Europe/Dublin:20270630T130000
DTSTAMP:20260424T043015
CREATED:20250819T203259Z
LAST-MODIFIED:20250819T203259Z
UID:10002277-1814353200-1814360400@charlestown.ie
SUMMARY:Adult Arts & Crafts Group
DESCRIPTION:
URL:https://charlestown.ie/event/adult-arts-crafts-group/2027-06-30/
LOCATION:Charlestown Arts Centre
ATTACH;FMTTYPE=image/heic:https://charlestown.ie/wp-content/uploads/2025/08/20250819_175055.heic
END:VEVENT
BEGIN:VEVENT
DTSTART;TZID=Europe/Dublin:20270707T110000
DTEND;TZID=Europe/Dublin:20270707T130000
DTSTAMP:20260424T043015
CREATED:20250819T203259Z
LAST-MODIFIED:20250819T203259Z
UID:10002278-1814958000-1814965200@charlestown.ie
SUMMARY:Adult Arts & Crafts Group
DESCRIPTION:
URL:https://charlestown.ie/event/adult-arts-crafts-group/2027-07-07/
LOCATION:Charlestown Arts Centre
ATTACH;FMTTYPE=image/heic:https://charlestown.ie/wp-content/uploads/2025/08/20250819_175055.heic
END:VEVENT
BEGIN:VEVENT
DTSTART;TZID=Europe/Dublin:20270714T110000
DTEND;TZID=Europe/Dublin:20270714T130000
DTSTAMP:20260424T043015
CREATED:20250819T203259Z
LAST-MODIFIED:20250819T203259Z
UID:10002279-1815562800-1815570000@charlestown.ie
SUMMARY:Adult Arts & Crafts Group
DESCRIPTION:
URL:https://charlestown.ie/event/adult-arts-crafts-group/2027-07-14/
LOCATION:Charlestown Arts Centre
ATTACH;FMTTYPE=image/heic:https://charlestown.ie/wp-content/uploads/2025/08/20250819_175055.heic
END:VEVENT
BEGIN:VEVENT
DTSTART;TZID=Europe/Dublin:20270721T110000
DTEND;TZID=Europe/Dublin:20270721T130000
DTSTAMP:20260424T043015
CREATED:20250819T203259Z
LAST-MODIFIED:20250819T203259Z
UID:10002280-1816167600-1816174800@charlestown.ie
SUMMARY:Adult Arts & Crafts Group
DESCRIPTION:
URL:https://charlestown.ie/event/adult-arts-crafts-group/2027-07-21/
LOCATION:Charlestown Arts Centre
ATTACH;FMTTYPE=image/heic:https://charlestown.ie/wp-content/uploads/2025/08/20250819_175055.heic
END:VEVENT
BEGIN:VEVENT
DTSTART;TZID=Europe/Dublin:20270728T110000
DTEND;TZID=Europe/Dublin:20270728T130000
DTSTAMP:20260424T043015
CREATED:20250819T203259Z
LAST-MODIFIED:20250819T203259Z
UID:10002281-1816772400-1816779600@charlestown.ie
SUMMARY:Adult Arts & Crafts Group
DESCRIPTION:
URL:https://charlestown.ie/event/adult-arts-crafts-group/2027-07-28/
LOCATION:Charlestown Arts Centre
ATTACH;FMTTYPE=image/heic:https://charlestown.ie/wp-content/uploads/2025/08/20250819_175055.heic
END:VEVENT
BEGIN:VEVENT
DTSTART;TZID=Europe/Dublin:20270804T110000
DTEND;TZID=Europe/Dublin:20270804T130000
DTSTAMP:20260424T043015
CREATED:20250819T203259Z
LAST-MODIFIED:20250819T203259Z
UID:10002282-1817377200-1817384400@charlestown.ie
SUMMARY:Adult Arts & Crafts Group
DESCRIPTION:
URL:https://charlestown.ie/event/adult-arts-crafts-group/2027-08-04/
LOCATION:Charlestown Arts Centre
ATTACH;FMTTYPE=image/heic:https://charlestown.ie/wp-content/uploads/2025/08/20250819_175055.heic
END:VEVENT
BEGIN:VEVENT
DTSTART;TZID=Europe/Dublin:20270811T110000
DTEND;TZID=Europe/Dublin:20270811T130000
DTSTAMP:20260424T043015
CREATED:20250819T203259Z
LAST-MODIFIED:20250819T203259Z
UID:10002283-1817982000-1817989200@charlestown.ie
SUMMARY:Adult Arts & Crafts Group
DESCRIPTION:
URL:https://charlestown.ie/event/adult-arts-crafts-group/2027-08-11/
LOCATION:Charlestown Arts Centre
ATTACH;FMTTYPE=image/heic:https://charlestown.ie/wp-content/uploads/2025/08/20250819_175055.heic
END:VEVENT
BEGIN:VEVENT
DTSTART;TZID=Europe/Dublin:20270818T110000
DTEND;TZID=Europe/Dublin:20270818T130000
DTSTAMP:20260424T043015
CREATED:20250819T203259Z
LAST-MODIFIED:20250819T203259Z
UID:10002284-1818586800-1818594000@charlestown.ie
SUMMARY:Adult Arts & Crafts Group
DESCRIPTION:
URL:https://charlestown.ie/event/adult-arts-crafts-group/2027-08-18/
LOCATION:Charlestown Arts Centre
ATTACH;FMTTYPE=image/heic:https://charlestown.ie/wp-content/uploads/2025/08/20250819_175055.heic
END:VEVENT
BEGIN:VEVENT
DTSTART;TZID=Europe/Dublin:20270825T110000
DTEND;TZID=Europe/Dublin:20270825T130000
DTSTAMP:20260424T043015
CREATED:20250819T203259Z
LAST-MODIFIED:20250819T203259Z
UID:10002285-1819191600-1819198800@charlestown.ie
SUMMARY:Adult Arts & Crafts Group
DESCRIPTION:
URL:https://charlestown.ie/event/adult-arts-crafts-group/2027-08-25/
LOCATION:Charlestown Arts Centre
ATTACH;FMTTYPE=image/heic:https://charlestown.ie/wp-content/uploads/2025/08/20250819_175055.heic
END:VEVENT
BEGIN:VEVENT
DTSTART;TZID=Europe/Dublin:20270901T110000
DTEND;TZID=Europe/Dublin:20270901T130000
DTSTAMP:20260424T043015
CREATED:20250819T203259Z
LAST-MODIFIED:20250819T203259Z
UID:10002286-1819796400-1819803600@charlestown.ie
SUMMARY:Adult Arts & Crafts Group
DESCRIPTION:
URL:https://charlestown.ie/event/adult-arts-crafts-group/2027-09-01/
LOCATION:Charlestown Arts Centre
ATTACH;FMTTYPE=image/heic:https://charlestown.ie/wp-content/uploads/2025/08/20250819_175055.heic
END:VEVENT
BEGIN:VEVENT
DTSTART;TZID=Europe/Dublin:20270908T110000
DTEND;TZID=Europe/Dublin:20270908T130000
DTSTAMP:20260424T043015
CREATED:20250819T203259Z
LAST-MODIFIED:20250819T203259Z
UID:10002287-1820401200-1820408400@charlestown.ie
SUMMARY:Adult Arts & Crafts Group
DESCRIPTION:
URL:https://charlestown.ie/event/adult-arts-crafts-group/2027-09-08/
LOCATION:Charlestown Arts Centre
ATTACH;FMTTYPE=image/heic:https://charlestown.ie/wp-content/uploads/2025/08/20250819_175055.heic
END:VEVENT
BEGIN:VEVENT
DTSTART;TZID=Europe/Dublin:20270915T110000
DTEND;TZID=Europe/Dublin:20270915T130000
DTSTAMP:20260424T043015
CREATED:20250819T203259Z
LAST-MODIFIED:20250819T203259Z
UID:10002288-1821006000-1821013200@charlestown.ie
SUMMARY:Adult Arts & Crafts Group
DESCRIPTION:
URL:https://charlestown.ie/event/adult-arts-crafts-group/2027-09-15/
LOCATION:Charlestown Arts Centre
ATTACH;FMTTYPE=image/heic:https://charlestown.ie/wp-content/uploads/2025/08/20250819_175055.heic
END:VEVENT
BEGIN:VEVENT
DTSTART;TZID=Europe/Dublin:20270922T110000
DTEND;TZID=Europe/Dublin:20270922T130000
DTSTAMP:20260424T043015
CREATED:20250819T203259Z
LAST-MODIFIED:20250819T203259Z
UID:10002289-1821610800-1821618000@charlestown.ie
SUMMARY:Adult Arts & Crafts Group
DESCRIPTION:
URL:https://charlestown.ie/event/adult-arts-crafts-group/2027-09-22/
LOCATION:Charlestown Arts Centre
ATTACH;FMTTYPE=image/heic:https://charlestown.ie/wp-content/uploads/2025/08/20250819_175055.heic
END:VEVENT
BEGIN:VEVENT
DTSTART;TZID=Europe/Dublin:20270929T110000
DTEND;TZID=Europe/Dublin:20270929T130000
DTSTAMP:20260424T043015
CREATED:20250819T203259Z
LAST-MODIFIED:20250819T203259Z
UID:10002290-1822215600-1822222800@charlestown.ie
SUMMARY:Adult Arts & Crafts Group
DESCRIPTION:
URL:https://charlestown.ie/event/adult-arts-crafts-group/2027-09-29/
LOCATION:Charlestown Arts Centre
ATTACH;FMTTYPE=image/heic:https://charlestown.ie/wp-content/uploads/2025/08/20250819_175055.heic
END:VEVENT
BEGIN:VEVENT
DTSTART;TZID=Europe/Dublin:20271006T110000
DTEND;TZID=Europe/Dublin:20271006T130000
DTSTAMP:20260424T043015
CREATED:20250819T203259Z
LAST-MODIFIED:20250819T203259Z
UID:10002291-1822820400-1822827600@charlestown.ie
SUMMARY:Adult Arts & Crafts Group
DESCRIPTION:
URL:https://charlestown.ie/event/adult-arts-crafts-group/2027-10-06/
LOCATION:Charlestown Arts Centre
ATTACH;FMTTYPE=image/heic:https://charlestown.ie/wp-content/uploads/2025/08/20250819_175055.heic
END:VEVENT
BEGIN:VEVENT
DTSTART;TZID=Europe/Dublin:20271013T110000
DTEND;TZID=Europe/Dublin:20271013T130000
DTSTAMP:20260424T043015
CREATED:20250819T203259Z
LAST-MODIFIED:20250819T203259Z
UID:10002292-1823425200-1823432400@charlestown.ie
SUMMARY:Adult Arts & Crafts Group
DESCRIPTION:
URL:https://charlestown.ie/event/adult-arts-crafts-group/2027-10-13/
LOCATION:Charlestown Arts Centre
ATTACH;FMTTYPE=image/heic:https://charlestown.ie/wp-content/uploads/2025/08/20250819_175055.heic
END:VEVENT
BEGIN:VEVENT
DTSTART;TZID=Europe/Dublin:20271020T110000
DTEND;TZID=Europe/Dublin:20271020T130000
DTSTAMP:20260424T043015
CREATED:20250819T203259Z
LAST-MODIFIED:20250819T203259Z
UID:10002293-1824030000-1824037200@charlestown.ie
SUMMARY:Adult Arts & Crafts Group
DESCRIPTION:
URL:https://charlestown.ie/event/adult-arts-crafts-group/2027-10-20/
LOCATION:Charlestown Arts Centre
ATTACH;FMTTYPE=image/heic:https://charlestown.ie/wp-content/uploads/2025/08/20250819_175055.heic
END:VEVENT
BEGIN:VEVENT
DTSTART;TZID=Europe/Dublin:20271027T110000
DTEND;TZID=Europe/Dublin:20271027T130000
DTSTAMP:20260424T043015
CREATED:20250819T203259Z
LAST-MODIFIED:20250819T203259Z
UID:10002294-1824634800-1824642000@charlestown.ie
SUMMARY:Adult Arts & Crafts Group
DESCRIPTION:
URL:https://charlestown.ie/event/adult-arts-crafts-group/2027-10-27/
LOCATION:Charlestown Arts Centre
ATTACH;FMTTYPE=image/heic:https://charlestown.ie/wp-content/uploads/2025/08/20250819_175055.heic
END:VEVENT
BEGIN:VEVENT
DTSTART;TZID=Europe/Dublin:20271103T110000
DTEND;TZID=Europe/Dublin:20271103T130000
DTSTAMP:20260424T043015
CREATED:20250819T203259Z
LAST-MODIFIED:20250819T203259Z
UID:10002295-1825239600-1825246800@charlestown.ie
SUMMARY:Adult Arts & Crafts Group
DESCRIPTION:
URL:https://charlestown.ie/event/adult-arts-crafts-group/2027-11-03/
LOCATION:Charlestown Arts Centre
ATTACH;FMTTYPE=image/heic:https://charlestown.ie/wp-content/uploads/2025/08/20250819_175055.heic
END:VEVENT
BEGIN:VEVENT
DTSTART;TZID=Europe/Dublin:20271110T110000
DTEND;TZID=Europe/Dublin:20271110T130000
DTSTAMP:20260424T043015
CREATED:20250819T203259Z
LAST-MODIFIED:20250819T203259Z
UID:10002296-1825844400-1825851600@charlestown.ie
SUMMARY:Adult Arts & Crafts Group
DESCRIPTION:
URL:https://charlestown.ie/event/adult-arts-crafts-group/2027-11-10/
LOCATION:Charlestown Arts Centre
ATTACH;FMTTYPE=image/heic:https://charlestown.ie/wp-content/uploads/2025/08/20250819_175055.heic
END:VEVENT
BEGIN:VEVENT
DTSTART;TZID=Europe/Dublin:20271117T110000
DTEND;TZID=Europe/Dublin:20271117T130000
DTSTAMP:20260424T043015
CREATED:20250819T203259Z
LAST-MODIFIED:20250819T203259Z
UID:10002297-1826449200-1826456400@charlestown.ie
SUMMARY:Adult Arts & Crafts Group
DESCRIPTION:
URL:https://charlestown.ie/event/adult-arts-crafts-group/2027-11-17/
LOCATION:Charlestown Arts Centre
ATTACH;FMTTYPE=image/heic:https://charlestown.ie/wp-content/uploads/2025/08/20250819_175055.heic
END:VEVENT
BEGIN:VEVENT
DTSTART;TZID=Europe/Dublin:20271124T110000
DTEND;TZID=Europe/Dublin:20271124T130000
DTSTAMP:20260424T043015
CREATED:20250819T203259Z
LAST-MODIFIED:20250819T203259Z
UID:10002298-1827054000-1827061200@charlestown.ie
SUMMARY:Adult Arts & Crafts Group
DESCRIPTION:
URL:https://charlestown.ie/event/adult-arts-crafts-group/2027-11-24/
LOCATION:Charlestown Arts Centre
ATTACH;FMTTYPE=image/heic:https://charlestown.ie/wp-content/uploads/2025/08/20250819_175055.heic
END:VEVENT
BEGIN:VEVENT
DTSTART;TZID=Europe/Dublin:20271201T110000
DTEND;TZID=Europe/Dublin:20271201T130000
DTSTAMP:20260424T043015
CREATED:20250819T203259Z
LAST-MODIFIED:20250819T203259Z
UID:10002299-1827658800-1827666000@charlestown.ie
SUMMARY:Adult Arts & Crafts Group
DESCRIPTION:
URL:https://charlestown.ie/event/adult-arts-crafts-group/2027-12-01/
LOCATION:Charlestown Arts Centre
ATTACH;FMTTYPE=image/heic:https://charlestown.ie/wp-content/uploads/2025/08/20250819_175055.heic
END:VEVENT
BEGIN:VEVENT
DTSTART;TZID=Europe/Dublin:20271208T110000
DTEND;TZID=Europe/Dublin:20271208T130000
DTSTAMP:20260424T043015
CREATED:20250819T203259Z
LAST-MODIFIED:20250819T203259Z
UID:10002300-1828263600-1828270800@charlestown.ie
SUMMARY:Adult Arts & Crafts Group
DESCRIPTION:
URL:https://charlestown.ie/event/adult-arts-crafts-group/2027-12-08/
LOCATION:Charlestown Arts Centre
ATTACH;FMTTYPE=image/heic:https://charlestown.ie/wp-content/uploads/2025/08/20250819_175055.heic
END:VEVENT
BEGIN:VEVENT
DTSTART;TZID=Europe/Dublin:20271215T110000
DTEND;TZID=Europe/Dublin:20271215T130000
DTSTAMP:20260424T043015
CREATED:20250819T203259Z
LAST-MODIFIED:20250819T203259Z
UID:10002301-1828868400-1828875600@charlestown.ie
SUMMARY:Adult Arts & Crafts Group
DESCRIPTION:
URL:https://charlestown.ie/event/adult-arts-crafts-group/2027-12-15/
LOCATION:Charlestown Arts Centre
ATTACH;FMTTYPE=image/heic:https://charlestown.ie/wp-content/uploads/2025/08/20250819_175055.heic
END:VEVENT
BEGIN:VEVENT
DTSTART;TZID=Europe/Dublin:20271222T110000
DTEND;TZID=Europe/Dublin:20271222T130000
DTSTAMP:20260424T043015
CREATED:20250819T203259Z
LAST-MODIFIED:20250819T203259Z
UID:10002302-1829473200-1829480400@charlestown.ie
SUMMARY:Adult Arts & Crafts Group
DESCRIPTION:
URL:https://charlestown.ie/event/adult-arts-crafts-group/2027-12-22/
LOCATION:Charlestown Arts Centre
ATTACH;FMTTYPE=image/heic:https://charlestown.ie/wp-content/uploads/2025/08/20250819_175055.heic
END:VEVENT
BEGIN:VEVENT
DTSTART;TZID=Europe/Dublin:20271229T110000
DTEND;TZID=Europe/Dublin:20271229T130000
DTSTAMP:20260424T043015
CREATED:20250819T203259Z
LAST-MODIFIED:20250819T203259Z
UID:10002303-1830078000-1830085200@charlestown.ie
SUMMARY:Adult Arts & Crafts Group
DESCRIPTION:
URL:https://charlestown.ie/event/adult-arts-crafts-group/2027-12-29/
LOCATION:Charlestown Arts Centre
ATTACH;FMTTYPE=image/heic:https://charlestown.ie/wp-content/uploads/2025/08/20250819_175055.heic
END:VEVENT
BEGIN:VEVENT
DTSTART;TZID=Europe/Dublin:20280105T110000
DTEND;TZID=Europe/Dublin:20280105T130000
DTSTAMP:20260424T043015
CREATED:20250819T203259Z
LAST-MODIFIED:20250819T203259Z
UID:10002304-1830682800-1830690000@charlestown.ie
SUMMARY:Adult Arts & Crafts Group
DESCRIPTION:
URL:https://charlestown.ie/event/adult-arts-crafts-group/2028-01-05/
LOCATION:Charlestown Arts Centre
ATTACH;FMTTYPE=image/heic:https://charlestown.ie/wp-content/uploads/2025/08/20250819_175055.heic
END:VEVENT
BEGIN:VEVENT
DTSTART;TZID=Europe/Dublin:20280112T110000
DTEND;TZID=Europe/Dublin:20280112T130000
DTSTAMP:20260424T043015
CREATED:20250819T203259Z
LAST-MODIFIED:20250819T203259Z
UID:10002305-1831287600-1831294800@charlestown.ie
SUMMARY:Adult Arts & Crafts Group
DESCRIPTION:
URL:https://charlestown.ie/event/adult-arts-crafts-group/2028-01-12/
LOCATION:Charlestown Arts Centre
ATTACH;FMTTYPE=image/heic:https://charlestown.ie/wp-content/uploads/2025/08/20250819_175055.heic
END:VEVENT
END:VCALENDAR