BEGIN:VCALENDAR
VERSION:2.0
PRODID:-//Charlestown - ECPv6.6.4.2//NONSGML v1.0//EN
CALSCALE:GREGORIAN
METHOD:PUBLISH
X-WR-CALNAME:Charlestown
X-ORIGINAL-URL:https://charlestown.ie
X-WR-CALDESC:Events for Charlestown
REFRESH-INTERVAL;VALUE=DURATION:PT1H
X-Robots-Tag:noindex
X-PUBLISHED-TTL:PT1H
BEGIN:VTIMEZONE
TZID:Europe/Dublin
BEGIN:DAYLIGHT
TZOFFSETFROM:+0000
TZOFFSETTO:+0100
TZNAME:IST
DTSTART:20270328T010000
END:DAYLIGHT
BEGIN:STANDARD
TZOFFSETFROM:+0100
TZOFFSETTO:+0000
TZNAME:GMT
DTSTART:20271031T010000
END:STANDARD
END:VTIMEZONE
BEGIN:VEVENT
DTSTART;TZID=Europe/Dublin:20270204T103000
DTEND;TZID=Europe/Dublin:20270204T130000
DTSTAMP:20260423T211622
CREATED:20250822T154401Z
LAST-MODIFIED:20251028T085401Z
UID:10002688-1801737000-1801746000@charlestown.ie
SUMMARY:Yarn Tales - Knit\, Crochet & Embroidery
DESCRIPTION:
URL:https://charlestown.ie/event/yarn-tales-knit-crochet-embroidery/2027-02-04/
LOCATION:Pastoral Centre\, Lowpark\, Charlestown\, Mayo\, Ireland
ATTACH;FMTTYPE=image/jpeg:https://charlestown.ie/wp-content/uploads/2025/08/Screenshot_20250901_212637_Gmail.jpg
END:VEVENT
BEGIN:VEVENT
DTSTART;TZID=Europe/Dublin:20270211T103000
DTEND;TZID=Europe/Dublin:20270211T130000
DTSTAMP:20260423T211622
CREATED:20250822T154401Z
LAST-MODIFIED:20251028T085401Z
UID:10002689-1802341800-1802350800@charlestown.ie
SUMMARY:Yarn Tales - Knit\, Crochet & Embroidery
DESCRIPTION:
URL:https://charlestown.ie/event/yarn-tales-knit-crochet-embroidery/2027-02-11/
LOCATION:Pastoral Centre\, Lowpark\, Charlestown\, Mayo\, Ireland
ATTACH;FMTTYPE=image/jpeg:https://charlestown.ie/wp-content/uploads/2025/08/Screenshot_20250901_212637_Gmail.jpg
END:VEVENT
BEGIN:VEVENT
DTSTART;TZID=Europe/Dublin:20270218T103000
DTEND;TZID=Europe/Dublin:20270218T130000
DTSTAMP:20260423T211622
CREATED:20250822T154401Z
LAST-MODIFIED:20251028T085401Z
UID:10002690-1802946600-1802955600@charlestown.ie
SUMMARY:Yarn Tales - Knit\, Crochet & Embroidery
DESCRIPTION:
URL:https://charlestown.ie/event/yarn-tales-knit-crochet-embroidery/2027-02-18/
LOCATION:Pastoral Centre\, Lowpark\, Charlestown\, Mayo\, Ireland
ATTACH;FMTTYPE=image/jpeg:https://charlestown.ie/wp-content/uploads/2025/08/Screenshot_20250901_212637_Gmail.jpg
END:VEVENT
BEGIN:VEVENT
DTSTART;TZID=Europe/Dublin:20270225T103000
DTEND;TZID=Europe/Dublin:20270225T130000
DTSTAMP:20260423T211622
CREATED:20250822T154401Z
LAST-MODIFIED:20251028T085401Z
UID:10002691-1803551400-1803560400@charlestown.ie
SUMMARY:Yarn Tales - Knit\, Crochet & Embroidery
DESCRIPTION:
URL:https://charlestown.ie/event/yarn-tales-knit-crochet-embroidery/2027-02-25/
LOCATION:Pastoral Centre\, Lowpark\, Charlestown\, Mayo\, Ireland
ATTACH;FMTTYPE=image/jpeg:https://charlestown.ie/wp-content/uploads/2025/08/Screenshot_20250901_212637_Gmail.jpg
END:VEVENT
BEGIN:VEVENT
DTSTART;TZID=Europe/Dublin:20270304T103000
DTEND;TZID=Europe/Dublin:20270304T130000
DTSTAMP:20260423T211622
CREATED:20250822T154401Z
LAST-MODIFIED:20251028T085401Z
UID:10002692-1804156200-1804165200@charlestown.ie
SUMMARY:Yarn Tales - Knit\, Crochet & Embroidery
DESCRIPTION:
URL:https://charlestown.ie/event/yarn-tales-knit-crochet-embroidery/2027-03-04/
LOCATION:Pastoral Centre\, Lowpark\, Charlestown\, Mayo\, Ireland
ATTACH;FMTTYPE=image/jpeg:https://charlestown.ie/wp-content/uploads/2025/08/Screenshot_20250901_212637_Gmail.jpg
END:VEVENT
BEGIN:VEVENT
DTSTART;TZID=Europe/Dublin:20270311T103000
DTEND;TZID=Europe/Dublin:20270311T130000
DTSTAMP:20260423T211622
CREATED:20250822T154401Z
LAST-MODIFIED:20251028T085401Z
UID:10002693-1804761000-1804770000@charlestown.ie
SUMMARY:Yarn Tales - Knit\, Crochet & Embroidery
DESCRIPTION:
URL:https://charlestown.ie/event/yarn-tales-knit-crochet-embroidery/2027-03-11/
LOCATION:Pastoral Centre\, Lowpark\, Charlestown\, Mayo\, Ireland
ATTACH;FMTTYPE=image/jpeg:https://charlestown.ie/wp-content/uploads/2025/08/Screenshot_20250901_212637_Gmail.jpg
END:VEVENT
BEGIN:VEVENT
DTSTART;TZID=Europe/Dublin:20270318T103000
DTEND;TZID=Europe/Dublin:20270318T130000
DTSTAMP:20260423T211622
CREATED:20250822T154401Z
LAST-MODIFIED:20251028T085401Z
UID:10002694-1805365800-1805374800@charlestown.ie
SUMMARY:Yarn Tales - Knit\, Crochet & Embroidery
DESCRIPTION:
URL:https://charlestown.ie/event/yarn-tales-knit-crochet-embroidery/2027-03-18/
LOCATION:Pastoral Centre\, Lowpark\, Charlestown\, Mayo\, Ireland
ATTACH;FMTTYPE=image/jpeg:https://charlestown.ie/wp-content/uploads/2025/08/Screenshot_20250901_212637_Gmail.jpg
END:VEVENT
BEGIN:VEVENT
DTSTART;TZID=Europe/Dublin:20270325T103000
DTEND;TZID=Europe/Dublin:20270325T130000
DTSTAMP:20260423T211622
CREATED:20250822T154401Z
LAST-MODIFIED:20251028T085401Z
UID:10002695-1805970600-1805979600@charlestown.ie
SUMMARY:Yarn Tales - Knit\, Crochet & Embroidery
DESCRIPTION:
URL:https://charlestown.ie/event/yarn-tales-knit-crochet-embroidery/2027-03-25/
LOCATION:Pastoral Centre\, Lowpark\, Charlestown\, Mayo\, Ireland
ATTACH;FMTTYPE=image/jpeg:https://charlestown.ie/wp-content/uploads/2025/08/Screenshot_20250901_212637_Gmail.jpg
END:VEVENT
BEGIN:VEVENT
DTSTART;TZID=Europe/Dublin:20270401T103000
DTEND;TZID=Europe/Dublin:20270401T130000
DTSTAMP:20260423T211622
CREATED:20250822T154401Z
LAST-MODIFIED:20251028T085401Z
UID:10002696-1806575400-1806584400@charlestown.ie
SUMMARY:Yarn Tales - Knit\, Crochet & Embroidery
DESCRIPTION:
URL:https://charlestown.ie/event/yarn-tales-knit-crochet-embroidery/2027-04-01/
LOCATION:Pastoral Centre\, Lowpark\, Charlestown\, Mayo\, Ireland
ATTACH;FMTTYPE=image/jpeg:https://charlestown.ie/wp-content/uploads/2025/08/Screenshot_20250901_212637_Gmail.jpg
END:VEVENT
BEGIN:VEVENT
DTSTART;TZID=Europe/Dublin:20270408T103000
DTEND;TZID=Europe/Dublin:20270408T130000
DTSTAMP:20260423T211622
CREATED:20250822T154401Z
LAST-MODIFIED:20251028T085401Z
UID:10002697-1807180200-1807189200@charlestown.ie
SUMMARY:Yarn Tales - Knit\, Crochet & Embroidery
DESCRIPTION:
URL:https://charlestown.ie/event/yarn-tales-knit-crochet-embroidery/2027-04-08/
LOCATION:Pastoral Centre\, Lowpark\, Charlestown\, Mayo\, Ireland
ATTACH;FMTTYPE=image/jpeg:https://charlestown.ie/wp-content/uploads/2025/08/Screenshot_20250901_212637_Gmail.jpg
END:VEVENT
BEGIN:VEVENT
DTSTART;TZID=Europe/Dublin:20270415T103000
DTEND;TZID=Europe/Dublin:20270415T130000
DTSTAMP:20260423T211622
CREATED:20250822T154401Z
LAST-MODIFIED:20251028T085401Z
UID:10002698-1807785000-1807794000@charlestown.ie
SUMMARY:Yarn Tales - Knit\, Crochet & Embroidery
DESCRIPTION:
URL:https://charlestown.ie/event/yarn-tales-knit-crochet-embroidery/2027-04-15/
LOCATION:Pastoral Centre\, Lowpark\, Charlestown\, Mayo\, Ireland
ATTACH;FMTTYPE=image/jpeg:https://charlestown.ie/wp-content/uploads/2025/08/Screenshot_20250901_212637_Gmail.jpg
END:VEVENT
BEGIN:VEVENT
DTSTART;TZID=Europe/Dublin:20270422T103000
DTEND;TZID=Europe/Dublin:20270422T130000
DTSTAMP:20260423T211622
CREATED:20250822T154401Z
LAST-MODIFIED:20251028T085401Z
UID:10002699-1808389800-1808398800@charlestown.ie
SUMMARY:Yarn Tales - Knit\, Crochet & Embroidery
DESCRIPTION:
URL:https://charlestown.ie/event/yarn-tales-knit-crochet-embroidery/2027-04-22/
LOCATION:Pastoral Centre\, Lowpark\, Charlestown\, Mayo\, Ireland
ATTACH;FMTTYPE=image/jpeg:https://charlestown.ie/wp-content/uploads/2025/08/Screenshot_20250901_212637_Gmail.jpg
END:VEVENT
BEGIN:VEVENT
DTSTART;TZID=Europe/Dublin:20270429T103000
DTEND;TZID=Europe/Dublin:20270429T130000
DTSTAMP:20260423T211622
CREATED:20250822T154401Z
LAST-MODIFIED:20251028T085401Z
UID:10002700-1808994600-1809003600@charlestown.ie
SUMMARY:Yarn Tales - Knit\, Crochet & Embroidery
DESCRIPTION:
URL:https://charlestown.ie/event/yarn-tales-knit-crochet-embroidery/2027-04-29/
LOCATION:Pastoral Centre\, Lowpark\, Charlestown\, Mayo\, Ireland
ATTACH;FMTTYPE=image/jpeg:https://charlestown.ie/wp-content/uploads/2025/08/Screenshot_20250901_212637_Gmail.jpg
END:VEVENT
BEGIN:VEVENT
DTSTART;TZID=Europe/Dublin:20270506T103000
DTEND;TZID=Europe/Dublin:20270506T130000
DTSTAMP:20260423T211622
CREATED:20250822T154401Z
LAST-MODIFIED:20251028T085401Z
UID:10002701-1809599400-1809608400@charlestown.ie
SUMMARY:Yarn Tales - Knit\, Crochet & Embroidery
DESCRIPTION:
URL:https://charlestown.ie/event/yarn-tales-knit-crochet-embroidery/2027-05-06/
LOCATION:Pastoral Centre\, Lowpark\, Charlestown\, Mayo\, Ireland
ATTACH;FMTTYPE=image/jpeg:https://charlestown.ie/wp-content/uploads/2025/08/Screenshot_20250901_212637_Gmail.jpg
END:VEVENT
BEGIN:VEVENT
DTSTART;TZID=Europe/Dublin:20270513T103000
DTEND;TZID=Europe/Dublin:20270513T130000
DTSTAMP:20260423T211622
CREATED:20250822T154401Z
LAST-MODIFIED:20251028T085401Z
UID:10002702-1810204200-1810213200@charlestown.ie
SUMMARY:Yarn Tales - Knit\, Crochet & Embroidery
DESCRIPTION:
URL:https://charlestown.ie/event/yarn-tales-knit-crochet-embroidery/2027-05-13/
LOCATION:Pastoral Centre\, Lowpark\, Charlestown\, Mayo\, Ireland
ATTACH;FMTTYPE=image/jpeg:https://charlestown.ie/wp-content/uploads/2025/08/Screenshot_20250901_212637_Gmail.jpg
END:VEVENT
BEGIN:VEVENT
DTSTART;TZID=Europe/Dublin:20270520T103000
DTEND;TZID=Europe/Dublin:20270520T130000
DTSTAMP:20260423T211622
CREATED:20250822T154401Z
LAST-MODIFIED:20251028T085401Z
UID:10002703-1810809000-1810818000@charlestown.ie
SUMMARY:Yarn Tales - Knit\, Crochet & Embroidery
DESCRIPTION:
URL:https://charlestown.ie/event/yarn-tales-knit-crochet-embroidery/2027-05-20/
LOCATION:Pastoral Centre\, Lowpark\, Charlestown\, Mayo\, Ireland
ATTACH;FMTTYPE=image/jpeg:https://charlestown.ie/wp-content/uploads/2025/08/Screenshot_20250901_212637_Gmail.jpg
END:VEVENT
BEGIN:VEVENT
DTSTART;TZID=Europe/Dublin:20270527T103000
DTEND;TZID=Europe/Dublin:20270527T130000
DTSTAMP:20260423T211622
CREATED:20250822T154401Z
LAST-MODIFIED:20251028T085401Z
UID:10002704-1811413800-1811422800@charlestown.ie
SUMMARY:Yarn Tales - Knit\, Crochet & Embroidery
DESCRIPTION:
URL:https://charlestown.ie/event/yarn-tales-knit-crochet-embroidery/2027-05-27/
LOCATION:Pastoral Centre\, Lowpark\, Charlestown\, Mayo\, Ireland
ATTACH;FMTTYPE=image/jpeg:https://charlestown.ie/wp-content/uploads/2025/08/Screenshot_20250901_212637_Gmail.jpg
END:VEVENT
BEGIN:VEVENT
DTSTART;TZID=Europe/Dublin:20270603T103000
DTEND;TZID=Europe/Dublin:20270603T130000
DTSTAMP:20260423T211622
CREATED:20250822T154401Z
LAST-MODIFIED:20251028T085401Z
UID:10002705-1812018600-1812027600@charlestown.ie
SUMMARY:Yarn Tales - Knit\, Crochet & Embroidery
DESCRIPTION:
URL:https://charlestown.ie/event/yarn-tales-knit-crochet-embroidery/2027-06-03/
LOCATION:Pastoral Centre\, Lowpark\, Charlestown\, Mayo\, Ireland
ATTACH;FMTTYPE=image/jpeg:https://charlestown.ie/wp-content/uploads/2025/08/Screenshot_20250901_212637_Gmail.jpg
END:VEVENT
BEGIN:VEVENT
DTSTART;TZID=Europe/Dublin:20270610T103000
DTEND;TZID=Europe/Dublin:20270610T130000
DTSTAMP:20260423T211622
CREATED:20250822T154401Z
LAST-MODIFIED:20251028T085401Z
UID:10002706-1812623400-1812632400@charlestown.ie
SUMMARY:Yarn Tales - Knit\, Crochet & Embroidery
DESCRIPTION:
URL:https://charlestown.ie/event/yarn-tales-knit-crochet-embroidery/2027-06-10/
LOCATION:Pastoral Centre\, Lowpark\, Charlestown\, Mayo\, Ireland
ATTACH;FMTTYPE=image/jpeg:https://charlestown.ie/wp-content/uploads/2025/08/Screenshot_20250901_212637_Gmail.jpg
END:VEVENT
BEGIN:VEVENT
DTSTART;TZID=Europe/Dublin:20270617T103000
DTEND;TZID=Europe/Dublin:20270617T130000
DTSTAMP:20260423T211622
CREATED:20250822T154401Z
LAST-MODIFIED:20251028T085401Z
UID:10002707-1813228200-1813237200@charlestown.ie
SUMMARY:Yarn Tales - Knit\, Crochet & Embroidery
DESCRIPTION:
URL:https://charlestown.ie/event/yarn-tales-knit-crochet-embroidery/2027-06-17/
LOCATION:Pastoral Centre\, Lowpark\, Charlestown\, Mayo\, Ireland
ATTACH;FMTTYPE=image/jpeg:https://charlestown.ie/wp-content/uploads/2025/08/Screenshot_20250901_212637_Gmail.jpg
END:VEVENT
BEGIN:VEVENT
DTSTART;TZID=Europe/Dublin:20270624T103000
DTEND;TZID=Europe/Dublin:20270624T130000
DTSTAMP:20260423T211622
CREATED:20250822T154401Z
LAST-MODIFIED:20251028T085401Z
UID:10002708-1813833000-1813842000@charlestown.ie
SUMMARY:Yarn Tales - Knit\, Crochet & Embroidery
DESCRIPTION:
URL:https://charlestown.ie/event/yarn-tales-knit-crochet-embroidery/2027-06-24/
LOCATION:Pastoral Centre\, Lowpark\, Charlestown\, Mayo\, Ireland
ATTACH;FMTTYPE=image/jpeg:https://charlestown.ie/wp-content/uploads/2025/08/Screenshot_20250901_212637_Gmail.jpg
END:VEVENT
BEGIN:VEVENT
DTSTART;TZID=Europe/Dublin:20270701T103000
DTEND;TZID=Europe/Dublin:20270701T130000
DTSTAMP:20260423T211622
CREATED:20250822T154401Z
LAST-MODIFIED:20251028T085401Z
UID:10002709-1814437800-1814446800@charlestown.ie
SUMMARY:Yarn Tales - Knit\, Crochet & Embroidery
DESCRIPTION:
URL:https://charlestown.ie/event/yarn-tales-knit-crochet-embroidery/2027-07-01/
LOCATION:Pastoral Centre\, Lowpark\, Charlestown\, Mayo\, Ireland
ATTACH;FMTTYPE=image/jpeg:https://charlestown.ie/wp-content/uploads/2025/08/Screenshot_20250901_212637_Gmail.jpg
END:VEVENT
BEGIN:VEVENT
DTSTART;TZID=Europe/Dublin:20270708T103000
DTEND;TZID=Europe/Dublin:20270708T130000
DTSTAMP:20260423T211622
CREATED:20250822T154401Z
LAST-MODIFIED:20251028T085401Z
UID:10002710-1815042600-1815051600@charlestown.ie
SUMMARY:Yarn Tales - Knit\, Crochet & Embroidery
DESCRIPTION:
URL:https://charlestown.ie/event/yarn-tales-knit-crochet-embroidery/2027-07-08/
LOCATION:Pastoral Centre\, Lowpark\, Charlestown\, Mayo\, Ireland
ATTACH;FMTTYPE=image/jpeg:https://charlestown.ie/wp-content/uploads/2025/08/Screenshot_20250901_212637_Gmail.jpg
END:VEVENT
BEGIN:VEVENT
DTSTART;TZID=Europe/Dublin:20270715T103000
DTEND;TZID=Europe/Dublin:20270715T130000
DTSTAMP:20260423T211622
CREATED:20250822T154401Z
LAST-MODIFIED:20251028T085401Z
UID:10002711-1815647400-1815656400@charlestown.ie
SUMMARY:Yarn Tales - Knit\, Crochet & Embroidery
DESCRIPTION:
URL:https://charlestown.ie/event/yarn-tales-knit-crochet-embroidery/2027-07-15/
LOCATION:Pastoral Centre\, Lowpark\, Charlestown\, Mayo\, Ireland
ATTACH;FMTTYPE=image/jpeg:https://charlestown.ie/wp-content/uploads/2025/08/Screenshot_20250901_212637_Gmail.jpg
END:VEVENT
BEGIN:VEVENT
DTSTART;TZID=Europe/Dublin:20270722T103000
DTEND;TZID=Europe/Dublin:20270722T130000
DTSTAMP:20260423T211622
CREATED:20250822T154401Z
LAST-MODIFIED:20251028T085401Z
UID:10002712-1816252200-1816261200@charlestown.ie
SUMMARY:Yarn Tales - Knit\, Crochet & Embroidery
DESCRIPTION:
URL:https://charlestown.ie/event/yarn-tales-knit-crochet-embroidery/2027-07-22/
LOCATION:Pastoral Centre\, Lowpark\, Charlestown\, Mayo\, Ireland
ATTACH;FMTTYPE=image/jpeg:https://charlestown.ie/wp-content/uploads/2025/08/Screenshot_20250901_212637_Gmail.jpg
END:VEVENT
BEGIN:VEVENT
DTSTART;TZID=Europe/Dublin:20270729T103000
DTEND;TZID=Europe/Dublin:20270729T130000
DTSTAMP:20260423T211622
CREATED:20250822T154401Z
LAST-MODIFIED:20251028T085401Z
UID:10002713-1816857000-1816866000@charlestown.ie
SUMMARY:Yarn Tales - Knit\, Crochet & Embroidery
DESCRIPTION:
URL:https://charlestown.ie/event/yarn-tales-knit-crochet-embroidery/2027-07-29/
LOCATION:Pastoral Centre\, Lowpark\, Charlestown\, Mayo\, Ireland
ATTACH;FMTTYPE=image/jpeg:https://charlestown.ie/wp-content/uploads/2025/08/Screenshot_20250901_212637_Gmail.jpg
END:VEVENT
BEGIN:VEVENT
DTSTART;TZID=Europe/Dublin:20270805T103000
DTEND;TZID=Europe/Dublin:20270805T130000
DTSTAMP:20260423T211622
CREATED:20250822T154401Z
LAST-MODIFIED:20251028T085401Z
UID:10002714-1817461800-1817470800@charlestown.ie
SUMMARY:Yarn Tales - Knit\, Crochet & Embroidery
DESCRIPTION:
URL:https://charlestown.ie/event/yarn-tales-knit-crochet-embroidery/2027-08-05/
LOCATION:Pastoral Centre\, Lowpark\, Charlestown\, Mayo\, Ireland
ATTACH;FMTTYPE=image/jpeg:https://charlestown.ie/wp-content/uploads/2025/08/Screenshot_20250901_212637_Gmail.jpg
END:VEVENT
BEGIN:VEVENT
DTSTART;TZID=Europe/Dublin:20270812T103000
DTEND;TZID=Europe/Dublin:20270812T130000
DTSTAMP:20260423T211622
CREATED:20250822T154401Z
LAST-MODIFIED:20251028T085401Z
UID:10002715-1818066600-1818075600@charlestown.ie
SUMMARY:Yarn Tales - Knit\, Crochet & Embroidery
DESCRIPTION:
URL:https://charlestown.ie/event/yarn-tales-knit-crochet-embroidery/2027-08-12/
LOCATION:Pastoral Centre\, Lowpark\, Charlestown\, Mayo\, Ireland
ATTACH;FMTTYPE=image/jpeg:https://charlestown.ie/wp-content/uploads/2025/08/Screenshot_20250901_212637_Gmail.jpg
END:VEVENT
BEGIN:VEVENT
DTSTART;TZID=Europe/Dublin:20270819T103000
DTEND;TZID=Europe/Dublin:20270819T130000
DTSTAMP:20260423T211622
CREATED:20250822T154401Z
LAST-MODIFIED:20251028T085401Z
UID:10002716-1818671400-1818680400@charlestown.ie
SUMMARY:Yarn Tales - Knit\, Crochet & Embroidery
DESCRIPTION:
URL:https://charlestown.ie/event/yarn-tales-knit-crochet-embroidery/2027-08-19/
LOCATION:Pastoral Centre\, Lowpark\, Charlestown\, Mayo\, Ireland
ATTACH;FMTTYPE=image/jpeg:https://charlestown.ie/wp-content/uploads/2025/08/Screenshot_20250901_212637_Gmail.jpg
END:VEVENT
BEGIN:VEVENT
DTSTART;TZID=Europe/Dublin:20270826T103000
DTEND;TZID=Europe/Dublin:20270826T130000
DTSTAMP:20260423T211622
CREATED:20250822T154401Z
LAST-MODIFIED:20251028T085401Z
UID:10002717-1819276200-1819285200@charlestown.ie
SUMMARY:Yarn Tales - Knit\, Crochet & Embroidery
DESCRIPTION:
URL:https://charlestown.ie/event/yarn-tales-knit-crochet-embroidery/2027-08-26/
LOCATION:Pastoral Centre\, Lowpark\, Charlestown\, Mayo\, Ireland
ATTACH;FMTTYPE=image/jpeg:https://charlestown.ie/wp-content/uploads/2025/08/Screenshot_20250901_212637_Gmail.jpg
END:VEVENT
END:VCALENDAR