BEGIN:VCALENDAR
VERSION:2.0
PRODID:-//Charlestown - ECPv6.6.4.2//NONSGML v1.0//EN
CALSCALE:GREGORIAN
METHOD:PUBLISH
X-ORIGINAL-URL:https://charlestown.ie
X-WR-CALDESC:Events for Charlestown
REFRESH-INTERVAL;VALUE=DURATION:PT1H
X-Robots-Tag:noindex
X-PUBLISHED-TTL:PT1H
BEGIN:VTIMEZONE
TZID:Europe/Dublin
BEGIN:DAYLIGHT
TZOFFSETFROM:+0000
TZOFFSETTO:+0100
TZNAME:IST
DTSTART:20300331T010000
END:DAYLIGHT
BEGIN:STANDARD
TZOFFSETFROM:+0100
TZOFFSETTO:+0000
TZNAME:GMT
DTSTART:20301027T010000
END:STANDARD
BEGIN:DAYLIGHT
TZOFFSETFROM:+0000
TZOFFSETTO:+0100
TZNAME:IST
DTSTART:20310330T010000
END:DAYLIGHT
BEGIN:STANDARD
TZOFFSETFROM:+0100
TZOFFSETTO:+0000
TZNAME:GMT
DTSTART:20311026T010000
END:STANDARD
END:VTIMEZONE
BEGIN:VEVENT
DTSTART;TZID=Europe/Dublin:20300926T190000
DTEND;TZID=Europe/Dublin:20300926T200000
DTSTAMP:20260424T233011
CREATED:20260204T193609Z
LAST-MODIFIED:20260204T193609Z
UID:10003494-1916679600-1916683200@charlestown.ie
SUMMARY:Parish Choir
DESCRIPTION:
URL:https://charlestown.ie/event/parish-choir/2030-09-26/
LOCATION:St James Church\, Charlestown\, Church St\, Charlestown\, Co Mayo\, Ireland
ATTACH;FMTTYPE=image/jpeg:https://charlestown.ie/wp-content/uploads/2026/01/file_000000006b58720ab11c32110733255a.jpg
END:VEVENT
BEGIN:VEVENT
DTSTART;TZID=Europe/Dublin:20301003T190000
DTEND;TZID=Europe/Dublin:20301003T200000
DTSTAMP:20260424T233011
CREATED:20260204T193609Z
LAST-MODIFIED:20260204T193609Z
UID:10003495-1917284400-1917288000@charlestown.ie
SUMMARY:Parish Choir
DESCRIPTION:
URL:https://charlestown.ie/event/parish-choir/2030-10-03/
LOCATION:St James Church\, Charlestown\, Church St\, Charlestown\, Co Mayo\, Ireland
ATTACH;FMTTYPE=image/jpeg:https://charlestown.ie/wp-content/uploads/2026/01/file_000000006b58720ab11c32110733255a.jpg
END:VEVENT
BEGIN:VEVENT
DTSTART;TZID=Europe/Dublin:20301010T190000
DTEND;TZID=Europe/Dublin:20301010T200000
DTSTAMP:20260424T233011
CREATED:20260204T193609Z
LAST-MODIFIED:20260204T193609Z
UID:10003496-1917889200-1917892800@charlestown.ie
SUMMARY:Parish Choir
DESCRIPTION:
URL:https://charlestown.ie/event/parish-choir/2030-10-10/
LOCATION:St James Church\, Charlestown\, Church St\, Charlestown\, Co Mayo\, Ireland
ATTACH;FMTTYPE=image/jpeg:https://charlestown.ie/wp-content/uploads/2026/01/file_000000006b58720ab11c32110733255a.jpg
END:VEVENT
BEGIN:VEVENT
DTSTART;TZID=Europe/Dublin:20301017T190000
DTEND;TZID=Europe/Dublin:20301017T200000
DTSTAMP:20260424T233011
CREATED:20260204T193609Z
LAST-MODIFIED:20260204T193609Z
UID:10003497-1918494000-1918497600@charlestown.ie
SUMMARY:Parish Choir
DESCRIPTION:
URL:https://charlestown.ie/event/parish-choir/2030-10-17/
LOCATION:St James Church\, Charlestown\, Church St\, Charlestown\, Co Mayo\, Ireland
ATTACH;FMTTYPE=image/jpeg:https://charlestown.ie/wp-content/uploads/2026/01/file_000000006b58720ab11c32110733255a.jpg
END:VEVENT
BEGIN:VEVENT
DTSTART;TZID=Europe/Dublin:20301024T190000
DTEND;TZID=Europe/Dublin:20301024T200000
DTSTAMP:20260424T233011
CREATED:20260204T193609Z
LAST-MODIFIED:20260204T193609Z
UID:10003498-1919098800-1919102400@charlestown.ie
SUMMARY:Parish Choir
DESCRIPTION:
URL:https://charlestown.ie/event/parish-choir/2030-10-24/
LOCATION:St James Church\, Charlestown\, Church St\, Charlestown\, Co Mayo\, Ireland
ATTACH;FMTTYPE=image/jpeg:https://charlestown.ie/wp-content/uploads/2026/01/file_000000006b58720ab11c32110733255a.jpg
END:VEVENT
BEGIN:VEVENT
DTSTART;TZID=Europe/Dublin:20301031T190000
DTEND;TZID=Europe/Dublin:20301031T200000
DTSTAMP:20260424T233011
CREATED:20260204T193609Z
LAST-MODIFIED:20260204T193609Z
UID:10003499-1919703600-1919707200@charlestown.ie
SUMMARY:Parish Choir
DESCRIPTION:
URL:https://charlestown.ie/event/parish-choir/2030-10-31/
LOCATION:St James Church\, Charlestown\, Church St\, Charlestown\, Co Mayo\, Ireland
ATTACH;FMTTYPE=image/jpeg:https://charlestown.ie/wp-content/uploads/2026/01/file_000000006b58720ab11c32110733255a.jpg
END:VEVENT
BEGIN:VEVENT
DTSTART;TZID=Europe/Dublin:20301107T190000
DTEND;TZID=Europe/Dublin:20301107T200000
DTSTAMP:20260424T233011
CREATED:20260204T193609Z
LAST-MODIFIED:20260204T193609Z
UID:10003500-1920308400-1920312000@charlestown.ie
SUMMARY:Parish Choir
DESCRIPTION:
URL:https://charlestown.ie/event/parish-choir/2030-11-07/
LOCATION:St James Church\, Charlestown\, Church St\, Charlestown\, Co Mayo\, Ireland
ATTACH;FMTTYPE=image/jpeg:https://charlestown.ie/wp-content/uploads/2026/01/file_000000006b58720ab11c32110733255a.jpg
END:VEVENT
BEGIN:VEVENT
DTSTART;TZID=Europe/Dublin:20301114T190000
DTEND;TZID=Europe/Dublin:20301114T200000
DTSTAMP:20260424T233011
CREATED:20260204T193609Z
LAST-MODIFIED:20260204T193609Z
UID:10003501-1920913200-1920916800@charlestown.ie
SUMMARY:Parish Choir
DESCRIPTION:
URL:https://charlestown.ie/event/parish-choir/2030-11-14/
LOCATION:St James Church\, Charlestown\, Church St\, Charlestown\, Co Mayo\, Ireland
ATTACH;FMTTYPE=image/jpeg:https://charlestown.ie/wp-content/uploads/2026/01/file_000000006b58720ab11c32110733255a.jpg
END:VEVENT
BEGIN:VEVENT
DTSTART;TZID=Europe/Dublin:20301121T190000
DTEND;TZID=Europe/Dublin:20301121T200000
DTSTAMP:20260424T233011
CREATED:20260204T193609Z
LAST-MODIFIED:20260204T193609Z
UID:10003502-1921518000-1921521600@charlestown.ie
SUMMARY:Parish Choir
DESCRIPTION:
URL:https://charlestown.ie/event/parish-choir/2030-11-21/
LOCATION:St James Church\, Charlestown\, Church St\, Charlestown\, Co Mayo\, Ireland
ATTACH;FMTTYPE=image/jpeg:https://charlestown.ie/wp-content/uploads/2026/01/file_000000006b58720ab11c32110733255a.jpg
END:VEVENT
BEGIN:VEVENT
DTSTART;TZID=Europe/Dublin:20301128T190000
DTEND;TZID=Europe/Dublin:20301128T200000
DTSTAMP:20260424T233011
CREATED:20260204T193609Z
LAST-MODIFIED:20260204T193609Z
UID:10003503-1922122800-1922126400@charlestown.ie
SUMMARY:Parish Choir
DESCRIPTION:
URL:https://charlestown.ie/event/parish-choir/2030-11-28/
LOCATION:St James Church\, Charlestown\, Church St\, Charlestown\, Co Mayo\, Ireland
ATTACH;FMTTYPE=image/jpeg:https://charlestown.ie/wp-content/uploads/2026/01/file_000000006b58720ab11c32110733255a.jpg
END:VEVENT
BEGIN:VEVENT
DTSTART;TZID=Europe/Dublin:20301205T190000
DTEND;TZID=Europe/Dublin:20301205T200000
DTSTAMP:20260424T233011
CREATED:20260204T193609Z
LAST-MODIFIED:20260204T193609Z
UID:10003504-1922727600-1922731200@charlestown.ie
SUMMARY:Parish Choir
DESCRIPTION:
URL:https://charlestown.ie/event/parish-choir/2030-12-05/
LOCATION:St James Church\, Charlestown\, Church St\, Charlestown\, Co Mayo\, Ireland
ATTACH;FMTTYPE=image/jpeg:https://charlestown.ie/wp-content/uploads/2026/01/file_000000006b58720ab11c32110733255a.jpg
END:VEVENT
BEGIN:VEVENT
DTSTART;TZID=Europe/Dublin:20301212T190000
DTEND;TZID=Europe/Dublin:20301212T200000
DTSTAMP:20260424T233011
CREATED:20260204T193609Z
LAST-MODIFIED:20260204T193609Z
UID:10003505-1923332400-1923336000@charlestown.ie
SUMMARY:Parish Choir
DESCRIPTION:
URL:https://charlestown.ie/event/parish-choir/2030-12-12/
LOCATION:St James Church\, Charlestown\, Church St\, Charlestown\, Co Mayo\, Ireland
ATTACH;FMTTYPE=image/jpeg:https://charlestown.ie/wp-content/uploads/2026/01/file_000000006b58720ab11c32110733255a.jpg
END:VEVENT
BEGIN:VEVENT
DTSTART;TZID=Europe/Dublin:20301219T190000
DTEND;TZID=Europe/Dublin:20301219T200000
DTSTAMP:20260424T233011
CREATED:20260204T193609Z
LAST-MODIFIED:20260204T193609Z
UID:10003506-1923937200-1923940800@charlestown.ie
SUMMARY:Parish Choir
DESCRIPTION:
URL:https://charlestown.ie/event/parish-choir/2030-12-19/
LOCATION:St James Church\, Charlestown\, Church St\, Charlestown\, Co Mayo\, Ireland
ATTACH;FMTTYPE=image/jpeg:https://charlestown.ie/wp-content/uploads/2026/01/file_000000006b58720ab11c32110733255a.jpg
END:VEVENT
BEGIN:VEVENT
DTSTART;TZID=Europe/Dublin:20301226T190000
DTEND;TZID=Europe/Dublin:20301226T200000
DTSTAMP:20260424T233011
CREATED:20260204T193609Z
LAST-MODIFIED:20260204T193609Z
UID:10003507-1924542000-1924545600@charlestown.ie
SUMMARY:Parish Choir
DESCRIPTION:
URL:https://charlestown.ie/event/parish-choir/2030-12-26/
LOCATION:St James Church\, Charlestown\, Church St\, Charlestown\, Co Mayo\, Ireland
ATTACH;FMTTYPE=image/jpeg:https://charlestown.ie/wp-content/uploads/2026/01/file_000000006b58720ab11c32110733255a.jpg
END:VEVENT
BEGIN:VEVENT
DTSTART;TZID=Europe/Dublin:20310102T190000
DTEND;TZID=Europe/Dublin:20310102T200000
DTSTAMP:20260424T233011
CREATED:20260204T193609Z
LAST-MODIFIED:20260204T193609Z
UID:10003508-1925146800-1925150400@charlestown.ie
SUMMARY:Parish Choir
DESCRIPTION:
URL:https://charlestown.ie/event/parish-choir/2031-01-02/
LOCATION:St James Church\, Charlestown\, Church St\, Charlestown\, Co Mayo\, Ireland
ATTACH;FMTTYPE=image/jpeg:https://charlestown.ie/wp-content/uploads/2026/01/file_000000006b58720ab11c32110733255a.jpg
END:VEVENT
BEGIN:VEVENT
DTSTART;TZID=Europe/Dublin:20310109T190000
DTEND;TZID=Europe/Dublin:20310109T200000
DTSTAMP:20260424T233011
CREATED:20260204T193609Z
LAST-MODIFIED:20260204T193609Z
UID:10003509-1925751600-1925755200@charlestown.ie
SUMMARY:Parish Choir
DESCRIPTION:
URL:https://charlestown.ie/event/parish-choir/2031-01-09/
LOCATION:St James Church\, Charlestown\, Church St\, Charlestown\, Co Mayo\, Ireland
ATTACH;FMTTYPE=image/jpeg:https://charlestown.ie/wp-content/uploads/2026/01/file_000000006b58720ab11c32110733255a.jpg
END:VEVENT
BEGIN:VEVENT
DTSTART;TZID=Europe/Dublin:20310116T190000
DTEND;TZID=Europe/Dublin:20310116T200000
DTSTAMP:20260424T233011
CREATED:20260204T193609Z
LAST-MODIFIED:20260204T193609Z
UID:10003510-1926356400-1926360000@charlestown.ie
SUMMARY:Parish Choir
DESCRIPTION:
URL:https://charlestown.ie/event/parish-choir/2031-01-16/
LOCATION:St James Church\, Charlestown\, Church St\, Charlestown\, Co Mayo\, Ireland
ATTACH;FMTTYPE=image/jpeg:https://charlestown.ie/wp-content/uploads/2026/01/file_000000006b58720ab11c32110733255a.jpg
END:VEVENT
BEGIN:VEVENT
DTSTART;TZID=Europe/Dublin:20310123T190000
DTEND;TZID=Europe/Dublin:20310123T200000
DTSTAMP:20260424T233011
CREATED:20260204T193609Z
LAST-MODIFIED:20260204T193609Z
UID:10003511-1926961200-1926964800@charlestown.ie
SUMMARY:Parish Choir
DESCRIPTION:
URL:https://charlestown.ie/event/parish-choir/2031-01-23/
LOCATION:St James Church\, Charlestown\, Church St\, Charlestown\, Co Mayo\, Ireland
ATTACH;FMTTYPE=image/jpeg:https://charlestown.ie/wp-content/uploads/2026/01/file_000000006b58720ab11c32110733255a.jpg
END:VEVENT
BEGIN:VEVENT
DTSTART;TZID=Europe/Dublin:20310130T190000
DTEND;TZID=Europe/Dublin:20310130T200000
DTSTAMP:20260424T233011
CREATED:20260204T193609Z
LAST-MODIFIED:20260204T193609Z
UID:10003512-1927566000-1927569600@charlestown.ie
SUMMARY:Parish Choir
DESCRIPTION:
URL:https://charlestown.ie/event/parish-choir/2031-01-30/
LOCATION:St James Church\, Charlestown\, Church St\, Charlestown\, Co Mayo\, Ireland
ATTACH;FMTTYPE=image/jpeg:https://charlestown.ie/wp-content/uploads/2026/01/file_000000006b58720ab11c32110733255a.jpg
END:VEVENT
END:VCALENDAR