BEGIN:VCALENDAR
VERSION:2.0
PRODID:-//Charlestown - ECPv6.6.4.2//NONSGML v1.0//EN
CALSCALE:GREGORIAN
METHOD:PUBLISH
X-ORIGINAL-URL:https://charlestown.ie
X-WR-CALDESC:Events for Charlestown
REFRESH-INTERVAL;VALUE=DURATION:PT1H
X-Robots-Tag:noindex
X-PUBLISHED-TTL:PT1H
BEGIN:VTIMEZONE
TZID:Europe/Dublin
BEGIN:DAYLIGHT
TZOFFSETFROM:+0000
TZOFFSETTO:+0100
TZNAME:IST
DTSTART:20300331T010000
END:DAYLIGHT
BEGIN:STANDARD
TZOFFSETFROM:+0100
TZOFFSETTO:+0000
TZNAME:GMT
DTSTART:20301027T010000
END:STANDARD
END:VTIMEZONE
BEGIN:VEVENT
DTSTART;TZID=Europe/Dublin:20300509T190000
DTEND;TZID=Europe/Dublin:20300509T200000
DTSTAMP:20260424T204953
CREATED:20260204T193609Z
LAST-MODIFIED:20260204T193609Z
UID:10003474-1904583600-1904587200@charlestown.ie
SUMMARY:Parish Choir
DESCRIPTION:
URL:https://charlestown.ie/event/parish-choir/2030-05-09/
LOCATION:St James Church\, Charlestown\, Church St\, Charlestown\, Co Mayo\, Ireland
ATTACH;FMTTYPE=image/jpeg:https://charlestown.ie/wp-content/uploads/2026/01/file_000000006b58720ab11c32110733255a.jpg
END:VEVENT
BEGIN:VEVENT
DTSTART;TZID=Europe/Dublin:20300516T190000
DTEND;TZID=Europe/Dublin:20300516T200000
DTSTAMP:20260424T204953
CREATED:20260204T193609Z
LAST-MODIFIED:20260204T193609Z
UID:10003475-1905188400-1905192000@charlestown.ie
SUMMARY:Parish Choir
DESCRIPTION:
URL:https://charlestown.ie/event/parish-choir/2030-05-16/
LOCATION:St James Church\, Charlestown\, Church St\, Charlestown\, Co Mayo\, Ireland
ATTACH;FMTTYPE=image/jpeg:https://charlestown.ie/wp-content/uploads/2026/01/file_000000006b58720ab11c32110733255a.jpg
END:VEVENT
BEGIN:VEVENT
DTSTART;TZID=Europe/Dublin:20300523T190000
DTEND;TZID=Europe/Dublin:20300523T200000
DTSTAMP:20260424T204953
CREATED:20260204T193609Z
LAST-MODIFIED:20260204T193609Z
UID:10003476-1905793200-1905796800@charlestown.ie
SUMMARY:Parish Choir
DESCRIPTION:
URL:https://charlestown.ie/event/parish-choir/2030-05-23/
LOCATION:St James Church\, Charlestown\, Church St\, Charlestown\, Co Mayo\, Ireland
ATTACH;FMTTYPE=image/jpeg:https://charlestown.ie/wp-content/uploads/2026/01/file_000000006b58720ab11c32110733255a.jpg
END:VEVENT
BEGIN:VEVENT
DTSTART;TZID=Europe/Dublin:20300530T190000
DTEND;TZID=Europe/Dublin:20300530T200000
DTSTAMP:20260424T204953
CREATED:20260204T193609Z
LAST-MODIFIED:20260204T193609Z
UID:10003477-1906398000-1906401600@charlestown.ie
SUMMARY:Parish Choir
DESCRIPTION:
URL:https://charlestown.ie/event/parish-choir/2030-05-30/
LOCATION:St James Church\, Charlestown\, Church St\, Charlestown\, Co Mayo\, Ireland
ATTACH;FMTTYPE=image/jpeg:https://charlestown.ie/wp-content/uploads/2026/01/file_000000006b58720ab11c32110733255a.jpg
END:VEVENT
BEGIN:VEVENT
DTSTART;TZID=Europe/Dublin:20300606T190000
DTEND;TZID=Europe/Dublin:20300606T200000
DTSTAMP:20260424T204953
CREATED:20260204T193609Z
LAST-MODIFIED:20260204T193609Z
UID:10003478-1907002800-1907006400@charlestown.ie
SUMMARY:Parish Choir
DESCRIPTION:
URL:https://charlestown.ie/event/parish-choir/2030-06-06/
LOCATION:St James Church\, Charlestown\, Church St\, Charlestown\, Co Mayo\, Ireland
ATTACH;FMTTYPE=image/jpeg:https://charlestown.ie/wp-content/uploads/2026/01/file_000000006b58720ab11c32110733255a.jpg
END:VEVENT
BEGIN:VEVENT
DTSTART;TZID=Europe/Dublin:20300613T190000
DTEND;TZID=Europe/Dublin:20300613T200000
DTSTAMP:20260424T204953
CREATED:20260204T193609Z
LAST-MODIFIED:20260204T193609Z
UID:10003479-1907607600-1907611200@charlestown.ie
SUMMARY:Parish Choir
DESCRIPTION:
URL:https://charlestown.ie/event/parish-choir/2030-06-13/
LOCATION:St James Church\, Charlestown\, Church St\, Charlestown\, Co Mayo\, Ireland
ATTACH;FMTTYPE=image/jpeg:https://charlestown.ie/wp-content/uploads/2026/01/file_000000006b58720ab11c32110733255a.jpg
END:VEVENT
BEGIN:VEVENT
DTSTART;TZID=Europe/Dublin:20300620T190000
DTEND;TZID=Europe/Dublin:20300620T200000
DTSTAMP:20260424T204953
CREATED:20260204T193609Z
LAST-MODIFIED:20260204T193609Z
UID:10003480-1908212400-1908216000@charlestown.ie
SUMMARY:Parish Choir
DESCRIPTION:
URL:https://charlestown.ie/event/parish-choir/2030-06-20/
LOCATION:St James Church\, Charlestown\, Church St\, Charlestown\, Co Mayo\, Ireland
ATTACH;FMTTYPE=image/jpeg:https://charlestown.ie/wp-content/uploads/2026/01/file_000000006b58720ab11c32110733255a.jpg
END:VEVENT
BEGIN:VEVENT
DTSTART;TZID=Europe/Dublin:20300627T190000
DTEND;TZID=Europe/Dublin:20300627T200000
DTSTAMP:20260424T204953
CREATED:20260204T193609Z
LAST-MODIFIED:20260204T193609Z
UID:10003481-1908817200-1908820800@charlestown.ie
SUMMARY:Parish Choir
DESCRIPTION:
URL:https://charlestown.ie/event/parish-choir/2030-06-27/
LOCATION:St James Church\, Charlestown\, Church St\, Charlestown\, Co Mayo\, Ireland
ATTACH;FMTTYPE=image/jpeg:https://charlestown.ie/wp-content/uploads/2026/01/file_000000006b58720ab11c32110733255a.jpg
END:VEVENT
BEGIN:VEVENT
DTSTART;TZID=Europe/Dublin:20300704T190000
DTEND;TZID=Europe/Dublin:20300704T200000
DTSTAMP:20260424T204953
CREATED:20260204T193609Z
LAST-MODIFIED:20260204T193609Z
UID:10003482-1909422000-1909425600@charlestown.ie
SUMMARY:Parish Choir
DESCRIPTION:
URL:https://charlestown.ie/event/parish-choir/2030-07-04/
LOCATION:St James Church\, Charlestown\, Church St\, Charlestown\, Co Mayo\, Ireland
ATTACH;FMTTYPE=image/jpeg:https://charlestown.ie/wp-content/uploads/2026/01/file_000000006b58720ab11c32110733255a.jpg
END:VEVENT
BEGIN:VEVENT
DTSTART;TZID=Europe/Dublin:20300711T190000
DTEND;TZID=Europe/Dublin:20300711T200000
DTSTAMP:20260424T204953
CREATED:20260204T193609Z
LAST-MODIFIED:20260204T193609Z
UID:10003483-1910026800-1910030400@charlestown.ie
SUMMARY:Parish Choir
DESCRIPTION:
URL:https://charlestown.ie/event/parish-choir/2030-07-11/
LOCATION:St James Church\, Charlestown\, Church St\, Charlestown\, Co Mayo\, Ireland
ATTACH;FMTTYPE=image/jpeg:https://charlestown.ie/wp-content/uploads/2026/01/file_000000006b58720ab11c32110733255a.jpg
END:VEVENT
BEGIN:VEVENT
DTSTART;TZID=Europe/Dublin:20300718T190000
DTEND;TZID=Europe/Dublin:20300718T200000
DTSTAMP:20260424T204953
CREATED:20260204T193609Z
LAST-MODIFIED:20260204T193609Z
UID:10003484-1910631600-1910635200@charlestown.ie
SUMMARY:Parish Choir
DESCRIPTION:
URL:https://charlestown.ie/event/parish-choir/2030-07-18/
LOCATION:St James Church\, Charlestown\, Church St\, Charlestown\, Co Mayo\, Ireland
ATTACH;FMTTYPE=image/jpeg:https://charlestown.ie/wp-content/uploads/2026/01/file_000000006b58720ab11c32110733255a.jpg
END:VEVENT
BEGIN:VEVENT
DTSTART;TZID=Europe/Dublin:20300725T190000
DTEND;TZID=Europe/Dublin:20300725T200000
DTSTAMP:20260424T204953
CREATED:20260204T193609Z
LAST-MODIFIED:20260204T193609Z
UID:10003485-1911236400-1911240000@charlestown.ie
SUMMARY:Parish Choir
DESCRIPTION:
URL:https://charlestown.ie/event/parish-choir/2030-07-25/
LOCATION:St James Church\, Charlestown\, Church St\, Charlestown\, Co Mayo\, Ireland
ATTACH;FMTTYPE=image/jpeg:https://charlestown.ie/wp-content/uploads/2026/01/file_000000006b58720ab11c32110733255a.jpg
END:VEVENT
BEGIN:VEVENT
DTSTART;TZID=Europe/Dublin:20300801T190000
DTEND;TZID=Europe/Dublin:20300801T200000
DTSTAMP:20260424T204953
CREATED:20260204T193609Z
LAST-MODIFIED:20260204T193609Z
UID:10003486-1911841200-1911844800@charlestown.ie
SUMMARY:Parish Choir
DESCRIPTION:
URL:https://charlestown.ie/event/parish-choir/2030-08-01/
LOCATION:St James Church\, Charlestown\, Church St\, Charlestown\, Co Mayo\, Ireland
ATTACH;FMTTYPE=image/jpeg:https://charlestown.ie/wp-content/uploads/2026/01/file_000000006b58720ab11c32110733255a.jpg
END:VEVENT
BEGIN:VEVENT
DTSTART;TZID=Europe/Dublin:20300808T190000
DTEND;TZID=Europe/Dublin:20300808T200000
DTSTAMP:20260424T204953
CREATED:20260204T193609Z
LAST-MODIFIED:20260204T193609Z
UID:10003487-1912446000-1912449600@charlestown.ie
SUMMARY:Parish Choir
DESCRIPTION:
URL:https://charlestown.ie/event/parish-choir/2030-08-08/
LOCATION:St James Church\, Charlestown\, Church St\, Charlestown\, Co Mayo\, Ireland
ATTACH;FMTTYPE=image/jpeg:https://charlestown.ie/wp-content/uploads/2026/01/file_000000006b58720ab11c32110733255a.jpg
END:VEVENT
BEGIN:VEVENT
DTSTART;TZID=Europe/Dublin:20300815T190000
DTEND;TZID=Europe/Dublin:20300815T200000
DTSTAMP:20260424T204953
CREATED:20260204T193609Z
LAST-MODIFIED:20260204T193609Z
UID:10003488-1913050800-1913054400@charlestown.ie
SUMMARY:Parish Choir
DESCRIPTION:
URL:https://charlestown.ie/event/parish-choir/2030-08-15/
LOCATION:St James Church\, Charlestown\, Church St\, Charlestown\, Co Mayo\, Ireland
ATTACH;FMTTYPE=image/jpeg:https://charlestown.ie/wp-content/uploads/2026/01/file_000000006b58720ab11c32110733255a.jpg
END:VEVENT
BEGIN:VEVENT
DTSTART;TZID=Europe/Dublin:20300822T190000
DTEND;TZID=Europe/Dublin:20300822T200000
DTSTAMP:20260424T204953
CREATED:20260204T193609Z
LAST-MODIFIED:20260204T193609Z
UID:10003489-1913655600-1913659200@charlestown.ie
SUMMARY:Parish Choir
DESCRIPTION:
URL:https://charlestown.ie/event/parish-choir/2030-08-22/
LOCATION:St James Church\, Charlestown\, Church St\, Charlestown\, Co Mayo\, Ireland
ATTACH;FMTTYPE=image/jpeg:https://charlestown.ie/wp-content/uploads/2026/01/file_000000006b58720ab11c32110733255a.jpg
END:VEVENT
BEGIN:VEVENT
DTSTART;TZID=Europe/Dublin:20300829T190000
DTEND;TZID=Europe/Dublin:20300829T200000
DTSTAMP:20260424T204953
CREATED:20260204T193609Z
LAST-MODIFIED:20260204T193609Z
UID:10003490-1914260400-1914264000@charlestown.ie
SUMMARY:Parish Choir
DESCRIPTION:
URL:https://charlestown.ie/event/parish-choir/2030-08-29/
LOCATION:St James Church\, Charlestown\, Church St\, Charlestown\, Co Mayo\, Ireland
ATTACH;FMTTYPE=image/jpeg:https://charlestown.ie/wp-content/uploads/2026/01/file_000000006b58720ab11c32110733255a.jpg
END:VEVENT
BEGIN:VEVENT
DTSTART;TZID=Europe/Dublin:20300905T190000
DTEND;TZID=Europe/Dublin:20300905T200000
DTSTAMP:20260424T204953
CREATED:20260204T193609Z
LAST-MODIFIED:20260204T193609Z
UID:10003491-1914865200-1914868800@charlestown.ie
SUMMARY:Parish Choir
DESCRIPTION:
URL:https://charlestown.ie/event/parish-choir/2030-09-05/
LOCATION:St James Church\, Charlestown\, Church St\, Charlestown\, Co Mayo\, Ireland
ATTACH;FMTTYPE=image/jpeg:https://charlestown.ie/wp-content/uploads/2026/01/file_000000006b58720ab11c32110733255a.jpg
END:VEVENT
BEGIN:VEVENT
DTSTART;TZID=Europe/Dublin:20300912T190000
DTEND;TZID=Europe/Dublin:20300912T200000
DTSTAMP:20260424T204953
CREATED:20260204T193609Z
LAST-MODIFIED:20260204T193609Z
UID:10003492-1915470000-1915473600@charlestown.ie
SUMMARY:Parish Choir
DESCRIPTION:
URL:https://charlestown.ie/event/parish-choir/2030-09-12/
LOCATION:St James Church\, Charlestown\, Church St\, Charlestown\, Co Mayo\, Ireland
ATTACH;FMTTYPE=image/jpeg:https://charlestown.ie/wp-content/uploads/2026/01/file_000000006b58720ab11c32110733255a.jpg
END:VEVENT
BEGIN:VEVENT
DTSTART;TZID=Europe/Dublin:20300919T190000
DTEND;TZID=Europe/Dublin:20300919T200000
DTSTAMP:20260424T204953
CREATED:20260204T193609Z
LAST-MODIFIED:20260204T193609Z
UID:10003493-1916074800-1916078400@charlestown.ie
SUMMARY:Parish Choir
DESCRIPTION:
URL:https://charlestown.ie/event/parish-choir/2030-09-19/
LOCATION:St James Church\, Charlestown\, Church St\, Charlestown\, Co Mayo\, Ireland
ATTACH;FMTTYPE=image/jpeg:https://charlestown.ie/wp-content/uploads/2026/01/file_000000006b58720ab11c32110733255a.jpg
END:VEVENT
BEGIN:VEVENT
DTSTART;TZID=Europe/Dublin:20300926T190000
DTEND;TZID=Europe/Dublin:20300926T200000
DTSTAMP:20260424T204953
CREATED:20260204T193609Z
LAST-MODIFIED:20260204T193609Z
UID:10003494-1916679600-1916683200@charlestown.ie
SUMMARY:Parish Choir
DESCRIPTION:
URL:https://charlestown.ie/event/parish-choir/2030-09-26/
LOCATION:St James Church\, Charlestown\, Church St\, Charlestown\, Co Mayo\, Ireland
ATTACH;FMTTYPE=image/jpeg:https://charlestown.ie/wp-content/uploads/2026/01/file_000000006b58720ab11c32110733255a.jpg
END:VEVENT
BEGIN:VEVENT
DTSTART;TZID=Europe/Dublin:20301003T190000
DTEND;TZID=Europe/Dublin:20301003T200000
DTSTAMP:20260424T204953
CREATED:20260204T193609Z
LAST-MODIFIED:20260204T193609Z
UID:10003495-1917284400-1917288000@charlestown.ie
SUMMARY:Parish Choir
DESCRIPTION:
URL:https://charlestown.ie/event/parish-choir/2030-10-03/
LOCATION:St James Church\, Charlestown\, Church St\, Charlestown\, Co Mayo\, Ireland
ATTACH;FMTTYPE=image/jpeg:https://charlestown.ie/wp-content/uploads/2026/01/file_000000006b58720ab11c32110733255a.jpg
END:VEVENT
BEGIN:VEVENT
DTSTART;TZID=Europe/Dublin:20301010T190000
DTEND;TZID=Europe/Dublin:20301010T200000
DTSTAMP:20260424T204953
CREATED:20260204T193609Z
LAST-MODIFIED:20260204T193609Z
UID:10003496-1917889200-1917892800@charlestown.ie
SUMMARY:Parish Choir
DESCRIPTION:
URL:https://charlestown.ie/event/parish-choir/2030-10-10/
LOCATION:St James Church\, Charlestown\, Church St\, Charlestown\, Co Mayo\, Ireland
ATTACH;FMTTYPE=image/jpeg:https://charlestown.ie/wp-content/uploads/2026/01/file_000000006b58720ab11c32110733255a.jpg
END:VEVENT
BEGIN:VEVENT
DTSTART;TZID=Europe/Dublin:20301017T190000
DTEND;TZID=Europe/Dublin:20301017T200000
DTSTAMP:20260424T204953
CREATED:20260204T193609Z
LAST-MODIFIED:20260204T193609Z
UID:10003497-1918494000-1918497600@charlestown.ie
SUMMARY:Parish Choir
DESCRIPTION:
URL:https://charlestown.ie/event/parish-choir/2030-10-17/
LOCATION:St James Church\, Charlestown\, Church St\, Charlestown\, Co Mayo\, Ireland
ATTACH;FMTTYPE=image/jpeg:https://charlestown.ie/wp-content/uploads/2026/01/file_000000006b58720ab11c32110733255a.jpg
END:VEVENT
BEGIN:VEVENT
DTSTART;TZID=Europe/Dublin:20301024T190000
DTEND;TZID=Europe/Dublin:20301024T200000
DTSTAMP:20260424T204953
CREATED:20260204T193609Z
LAST-MODIFIED:20260204T193609Z
UID:10003498-1919098800-1919102400@charlestown.ie
SUMMARY:Parish Choir
DESCRIPTION:
URL:https://charlestown.ie/event/parish-choir/2030-10-24/
LOCATION:St James Church\, Charlestown\, Church St\, Charlestown\, Co Mayo\, Ireland
ATTACH;FMTTYPE=image/jpeg:https://charlestown.ie/wp-content/uploads/2026/01/file_000000006b58720ab11c32110733255a.jpg
END:VEVENT
BEGIN:VEVENT
DTSTART;TZID=Europe/Dublin:20301031T190000
DTEND;TZID=Europe/Dublin:20301031T200000
DTSTAMP:20260424T204953
CREATED:20260204T193609Z
LAST-MODIFIED:20260204T193609Z
UID:10003499-1919703600-1919707200@charlestown.ie
SUMMARY:Parish Choir
DESCRIPTION:
URL:https://charlestown.ie/event/parish-choir/2030-10-31/
LOCATION:St James Church\, Charlestown\, Church St\, Charlestown\, Co Mayo\, Ireland
ATTACH;FMTTYPE=image/jpeg:https://charlestown.ie/wp-content/uploads/2026/01/file_000000006b58720ab11c32110733255a.jpg
END:VEVENT
BEGIN:VEVENT
DTSTART;TZID=Europe/Dublin:20301107T190000
DTEND;TZID=Europe/Dublin:20301107T200000
DTSTAMP:20260424T204953
CREATED:20260204T193609Z
LAST-MODIFIED:20260204T193609Z
UID:10003500-1920308400-1920312000@charlestown.ie
SUMMARY:Parish Choir
DESCRIPTION:
URL:https://charlestown.ie/event/parish-choir/2030-11-07/
LOCATION:St James Church\, Charlestown\, Church St\, Charlestown\, Co Mayo\, Ireland
ATTACH;FMTTYPE=image/jpeg:https://charlestown.ie/wp-content/uploads/2026/01/file_000000006b58720ab11c32110733255a.jpg
END:VEVENT
BEGIN:VEVENT
DTSTART;TZID=Europe/Dublin:20301114T190000
DTEND;TZID=Europe/Dublin:20301114T200000
DTSTAMP:20260424T204953
CREATED:20260204T193609Z
LAST-MODIFIED:20260204T193609Z
UID:10003501-1920913200-1920916800@charlestown.ie
SUMMARY:Parish Choir
DESCRIPTION:
URL:https://charlestown.ie/event/parish-choir/2030-11-14/
LOCATION:St James Church\, Charlestown\, Church St\, Charlestown\, Co Mayo\, Ireland
ATTACH;FMTTYPE=image/jpeg:https://charlestown.ie/wp-content/uploads/2026/01/file_000000006b58720ab11c32110733255a.jpg
END:VEVENT
BEGIN:VEVENT
DTSTART;TZID=Europe/Dublin:20301121T190000
DTEND;TZID=Europe/Dublin:20301121T200000
DTSTAMP:20260424T204953
CREATED:20260204T193609Z
LAST-MODIFIED:20260204T193609Z
UID:10003502-1921518000-1921521600@charlestown.ie
SUMMARY:Parish Choir
DESCRIPTION:
URL:https://charlestown.ie/event/parish-choir/2030-11-21/
LOCATION:St James Church\, Charlestown\, Church St\, Charlestown\, Co Mayo\, Ireland
ATTACH;FMTTYPE=image/jpeg:https://charlestown.ie/wp-content/uploads/2026/01/file_000000006b58720ab11c32110733255a.jpg
END:VEVENT
BEGIN:VEVENT
DTSTART;TZID=Europe/Dublin:20301128T190000
DTEND;TZID=Europe/Dublin:20301128T200000
DTSTAMP:20260424T204953
CREATED:20260204T193609Z
LAST-MODIFIED:20260204T193609Z
UID:10003503-1922122800-1922126400@charlestown.ie
SUMMARY:Parish Choir
DESCRIPTION:
URL:https://charlestown.ie/event/parish-choir/2030-11-28/
LOCATION:St James Church\, Charlestown\, Church St\, Charlestown\, Co Mayo\, Ireland
ATTACH;FMTTYPE=image/jpeg:https://charlestown.ie/wp-content/uploads/2026/01/file_000000006b58720ab11c32110733255a.jpg
END:VEVENT
END:VCALENDAR