BEGIN:VCALENDAR
VERSION:2.0
PRODID:-//Charlestown - ECPv6.6.4.2//NONSGML v1.0//EN
CALSCALE:GREGORIAN
METHOD:PUBLISH
X-ORIGINAL-URL:https://charlestown.ie
X-WR-CALDESC:Events for Charlestown
REFRESH-INTERVAL;VALUE=DURATION:PT1H
X-Robots-Tag:noindex
X-PUBLISHED-TTL:PT1H
BEGIN:VTIMEZONE
TZID:Europe/Dublin
BEGIN:DAYLIGHT
TZOFFSETFROM:+0000
TZOFFSETTO:+0100
TZNAME:IST
DTSTART:20290325T010000
END:DAYLIGHT
BEGIN:STANDARD
TZOFFSETFROM:+0100
TZOFFSETTO:+0000
TZNAME:GMT
DTSTART:20291028T010000
END:STANDARD
BEGIN:DAYLIGHT
TZOFFSETFROM:+0000
TZOFFSETTO:+0100
TZNAME:IST
DTSTART:20300331T010000
END:DAYLIGHT
BEGIN:STANDARD
TZOFFSETFROM:+0100
TZOFFSETTO:+0000
TZNAME:GMT
DTSTART:20301027T010000
END:STANDARD
END:VTIMEZONE
BEGIN:VEVENT
DTSTART;TZID=Europe/Dublin:20290802T190000
DTEND;TZID=Europe/Dublin:20290802T200000
DTSTAMP:20260424T160155
CREATED:20260204T193609Z
LAST-MODIFIED:20260204T193609Z
UID:10003434-1880391600-1880395200@charlestown.ie
SUMMARY:Parish Choir
DESCRIPTION:
URL:https://charlestown.ie/event/parish-choir/2029-08-02/
LOCATION:St James Church\, Charlestown\, Church St\, Charlestown\, Co Mayo\, Ireland
ATTACH;FMTTYPE=image/jpeg:https://charlestown.ie/wp-content/uploads/2026/01/file_000000006b58720ab11c32110733255a.jpg
END:VEVENT
BEGIN:VEVENT
DTSTART;TZID=Europe/Dublin:20290809T190000
DTEND;TZID=Europe/Dublin:20290809T200000
DTSTAMP:20260424T160155
CREATED:20260204T193609Z
LAST-MODIFIED:20260204T193609Z
UID:10003435-1880996400-1881000000@charlestown.ie
SUMMARY:Parish Choir
DESCRIPTION:
URL:https://charlestown.ie/event/parish-choir/2029-08-09/
LOCATION:St James Church\, Charlestown\, Church St\, Charlestown\, Co Mayo\, Ireland
ATTACH;FMTTYPE=image/jpeg:https://charlestown.ie/wp-content/uploads/2026/01/file_000000006b58720ab11c32110733255a.jpg
END:VEVENT
BEGIN:VEVENT
DTSTART;TZID=Europe/Dublin:20290816T190000
DTEND;TZID=Europe/Dublin:20290816T200000
DTSTAMP:20260424T160155
CREATED:20260204T193609Z
LAST-MODIFIED:20260204T193609Z
UID:10003436-1881601200-1881604800@charlestown.ie
SUMMARY:Parish Choir
DESCRIPTION:
URL:https://charlestown.ie/event/parish-choir/2029-08-16/
LOCATION:St James Church\, Charlestown\, Church St\, Charlestown\, Co Mayo\, Ireland
ATTACH;FMTTYPE=image/jpeg:https://charlestown.ie/wp-content/uploads/2026/01/file_000000006b58720ab11c32110733255a.jpg
END:VEVENT
BEGIN:VEVENT
DTSTART;TZID=Europe/Dublin:20290823T190000
DTEND;TZID=Europe/Dublin:20290823T200000
DTSTAMP:20260424T160155
CREATED:20260204T193609Z
LAST-MODIFIED:20260204T193609Z
UID:10003437-1882206000-1882209600@charlestown.ie
SUMMARY:Parish Choir
DESCRIPTION:
URL:https://charlestown.ie/event/parish-choir/2029-08-23/
LOCATION:St James Church\, Charlestown\, Church St\, Charlestown\, Co Mayo\, Ireland
ATTACH;FMTTYPE=image/jpeg:https://charlestown.ie/wp-content/uploads/2026/01/file_000000006b58720ab11c32110733255a.jpg
END:VEVENT
BEGIN:VEVENT
DTSTART;TZID=Europe/Dublin:20290830T190000
DTEND;TZID=Europe/Dublin:20290830T200000
DTSTAMP:20260424T160155
CREATED:20260204T193609Z
LAST-MODIFIED:20260204T193609Z
UID:10003438-1882810800-1882814400@charlestown.ie
SUMMARY:Parish Choir
DESCRIPTION:
URL:https://charlestown.ie/event/parish-choir/2029-08-30/
LOCATION:St James Church\, Charlestown\, Church St\, Charlestown\, Co Mayo\, Ireland
ATTACH;FMTTYPE=image/jpeg:https://charlestown.ie/wp-content/uploads/2026/01/file_000000006b58720ab11c32110733255a.jpg
END:VEVENT
BEGIN:VEVENT
DTSTART;TZID=Europe/Dublin:20290906T190000
DTEND;TZID=Europe/Dublin:20290906T200000
DTSTAMP:20260424T160155
CREATED:20260204T193609Z
LAST-MODIFIED:20260204T193609Z
UID:10003439-1883415600-1883419200@charlestown.ie
SUMMARY:Parish Choir
DESCRIPTION:
URL:https://charlestown.ie/event/parish-choir/2029-09-06/
LOCATION:St James Church\, Charlestown\, Church St\, Charlestown\, Co Mayo\, Ireland
ATTACH;FMTTYPE=image/jpeg:https://charlestown.ie/wp-content/uploads/2026/01/file_000000006b58720ab11c32110733255a.jpg
END:VEVENT
BEGIN:VEVENT
DTSTART;TZID=Europe/Dublin:20290913T190000
DTEND;TZID=Europe/Dublin:20290913T200000
DTSTAMP:20260424T160155
CREATED:20260204T193609Z
LAST-MODIFIED:20260204T193609Z
UID:10003440-1884020400-1884024000@charlestown.ie
SUMMARY:Parish Choir
DESCRIPTION:
URL:https://charlestown.ie/event/parish-choir/2029-09-13/
LOCATION:St James Church\, Charlestown\, Church St\, Charlestown\, Co Mayo\, Ireland
ATTACH;FMTTYPE=image/jpeg:https://charlestown.ie/wp-content/uploads/2026/01/file_000000006b58720ab11c32110733255a.jpg
END:VEVENT
BEGIN:VEVENT
DTSTART;TZID=Europe/Dublin:20290920T190000
DTEND;TZID=Europe/Dublin:20290920T200000
DTSTAMP:20260424T160155
CREATED:20260204T193609Z
LAST-MODIFIED:20260204T193609Z
UID:10003441-1884625200-1884628800@charlestown.ie
SUMMARY:Parish Choir
DESCRIPTION:
URL:https://charlestown.ie/event/parish-choir/2029-09-20/
LOCATION:St James Church\, Charlestown\, Church St\, Charlestown\, Co Mayo\, Ireland
ATTACH;FMTTYPE=image/jpeg:https://charlestown.ie/wp-content/uploads/2026/01/file_000000006b58720ab11c32110733255a.jpg
END:VEVENT
BEGIN:VEVENT
DTSTART;TZID=Europe/Dublin:20290927T190000
DTEND;TZID=Europe/Dublin:20290927T200000
DTSTAMP:20260424T160155
CREATED:20260204T193609Z
LAST-MODIFIED:20260204T193609Z
UID:10003442-1885230000-1885233600@charlestown.ie
SUMMARY:Parish Choir
DESCRIPTION:
URL:https://charlestown.ie/event/parish-choir/2029-09-27/
LOCATION:St James Church\, Charlestown\, Church St\, Charlestown\, Co Mayo\, Ireland
ATTACH;FMTTYPE=image/jpeg:https://charlestown.ie/wp-content/uploads/2026/01/file_000000006b58720ab11c32110733255a.jpg
END:VEVENT
BEGIN:VEVENT
DTSTART;TZID=Europe/Dublin:20291004T190000
DTEND;TZID=Europe/Dublin:20291004T200000
DTSTAMP:20260424T160155
CREATED:20260204T193609Z
LAST-MODIFIED:20260204T193609Z
UID:10003443-1885834800-1885838400@charlestown.ie
SUMMARY:Parish Choir
DESCRIPTION:
URL:https://charlestown.ie/event/parish-choir/2029-10-04/
LOCATION:St James Church\, Charlestown\, Church St\, Charlestown\, Co Mayo\, Ireland
ATTACH;FMTTYPE=image/jpeg:https://charlestown.ie/wp-content/uploads/2026/01/file_000000006b58720ab11c32110733255a.jpg
END:VEVENT
BEGIN:VEVENT
DTSTART;TZID=Europe/Dublin:20291011T190000
DTEND;TZID=Europe/Dublin:20291011T200000
DTSTAMP:20260424T160155
CREATED:20260204T193609Z
LAST-MODIFIED:20260204T193609Z
UID:10003444-1886439600-1886443200@charlestown.ie
SUMMARY:Parish Choir
DESCRIPTION:
URL:https://charlestown.ie/event/parish-choir/2029-10-11/
LOCATION:St James Church\, Charlestown\, Church St\, Charlestown\, Co Mayo\, Ireland
ATTACH;FMTTYPE=image/jpeg:https://charlestown.ie/wp-content/uploads/2026/01/file_000000006b58720ab11c32110733255a.jpg
END:VEVENT
BEGIN:VEVENT
DTSTART;TZID=Europe/Dublin:20291018T190000
DTEND;TZID=Europe/Dublin:20291018T200000
DTSTAMP:20260424T160155
CREATED:20260204T193609Z
LAST-MODIFIED:20260204T193609Z
UID:10003445-1887044400-1887048000@charlestown.ie
SUMMARY:Parish Choir
DESCRIPTION:
URL:https://charlestown.ie/event/parish-choir/2029-10-18/
LOCATION:St James Church\, Charlestown\, Church St\, Charlestown\, Co Mayo\, Ireland
ATTACH;FMTTYPE=image/jpeg:https://charlestown.ie/wp-content/uploads/2026/01/file_000000006b58720ab11c32110733255a.jpg
END:VEVENT
BEGIN:VEVENT
DTSTART;TZID=Europe/Dublin:20291025T190000
DTEND;TZID=Europe/Dublin:20291025T200000
DTSTAMP:20260424T160155
CREATED:20260204T193609Z
LAST-MODIFIED:20260204T193609Z
UID:10003446-1887649200-1887652800@charlestown.ie
SUMMARY:Parish Choir
DESCRIPTION:
URL:https://charlestown.ie/event/parish-choir/2029-10-25/
LOCATION:St James Church\, Charlestown\, Church St\, Charlestown\, Co Mayo\, Ireland
ATTACH;FMTTYPE=image/jpeg:https://charlestown.ie/wp-content/uploads/2026/01/file_000000006b58720ab11c32110733255a.jpg
END:VEVENT
BEGIN:VEVENT
DTSTART;TZID=Europe/Dublin:20291101T190000
DTEND;TZID=Europe/Dublin:20291101T200000
DTSTAMP:20260424T160155
CREATED:20260204T193609Z
LAST-MODIFIED:20260204T193609Z
UID:10003447-1888254000-1888257600@charlestown.ie
SUMMARY:Parish Choir
DESCRIPTION:
URL:https://charlestown.ie/event/parish-choir/2029-11-01/
LOCATION:St James Church\, Charlestown\, Church St\, Charlestown\, Co Mayo\, Ireland
ATTACH;FMTTYPE=image/jpeg:https://charlestown.ie/wp-content/uploads/2026/01/file_000000006b58720ab11c32110733255a.jpg
END:VEVENT
BEGIN:VEVENT
DTSTART;TZID=Europe/Dublin:20291108T190000
DTEND;TZID=Europe/Dublin:20291108T200000
DTSTAMP:20260424T160155
CREATED:20260204T193609Z
LAST-MODIFIED:20260204T193609Z
UID:10003448-1888858800-1888862400@charlestown.ie
SUMMARY:Parish Choir
DESCRIPTION:
URL:https://charlestown.ie/event/parish-choir/2029-11-08/
LOCATION:St James Church\, Charlestown\, Church St\, Charlestown\, Co Mayo\, Ireland
ATTACH;FMTTYPE=image/jpeg:https://charlestown.ie/wp-content/uploads/2026/01/file_000000006b58720ab11c32110733255a.jpg
END:VEVENT
BEGIN:VEVENT
DTSTART;TZID=Europe/Dublin:20291115T190000
DTEND;TZID=Europe/Dublin:20291115T200000
DTSTAMP:20260424T160155
CREATED:20260204T193609Z
LAST-MODIFIED:20260204T193609Z
UID:10003449-1889463600-1889467200@charlestown.ie
SUMMARY:Parish Choir
DESCRIPTION:
URL:https://charlestown.ie/event/parish-choir/2029-11-15/
LOCATION:St James Church\, Charlestown\, Church St\, Charlestown\, Co Mayo\, Ireland
ATTACH;FMTTYPE=image/jpeg:https://charlestown.ie/wp-content/uploads/2026/01/file_000000006b58720ab11c32110733255a.jpg
END:VEVENT
BEGIN:VEVENT
DTSTART;TZID=Europe/Dublin:20291122T190000
DTEND;TZID=Europe/Dublin:20291122T200000
DTSTAMP:20260424T160155
CREATED:20260204T193609Z
LAST-MODIFIED:20260204T193609Z
UID:10003450-1890068400-1890072000@charlestown.ie
SUMMARY:Parish Choir
DESCRIPTION:
URL:https://charlestown.ie/event/parish-choir/2029-11-22/
LOCATION:St James Church\, Charlestown\, Church St\, Charlestown\, Co Mayo\, Ireland
ATTACH;FMTTYPE=image/jpeg:https://charlestown.ie/wp-content/uploads/2026/01/file_000000006b58720ab11c32110733255a.jpg
END:VEVENT
BEGIN:VEVENT
DTSTART;TZID=Europe/Dublin:20291129T190000
DTEND;TZID=Europe/Dublin:20291129T200000
DTSTAMP:20260424T160155
CREATED:20260204T193609Z
LAST-MODIFIED:20260204T193609Z
UID:10003451-1890673200-1890676800@charlestown.ie
SUMMARY:Parish Choir
DESCRIPTION:
URL:https://charlestown.ie/event/parish-choir/2029-11-29/
LOCATION:St James Church\, Charlestown\, Church St\, Charlestown\, Co Mayo\, Ireland
ATTACH;FMTTYPE=image/jpeg:https://charlestown.ie/wp-content/uploads/2026/01/file_000000006b58720ab11c32110733255a.jpg
END:VEVENT
BEGIN:VEVENT
DTSTART;TZID=Europe/Dublin:20291206T190000
DTEND;TZID=Europe/Dublin:20291206T200000
DTSTAMP:20260424T160155
CREATED:20260204T193609Z
LAST-MODIFIED:20260204T193609Z
UID:10003452-1891278000-1891281600@charlestown.ie
SUMMARY:Parish Choir
DESCRIPTION:
URL:https://charlestown.ie/event/parish-choir/2029-12-06/
LOCATION:St James Church\, Charlestown\, Church St\, Charlestown\, Co Mayo\, Ireland
ATTACH;FMTTYPE=image/jpeg:https://charlestown.ie/wp-content/uploads/2026/01/file_000000006b58720ab11c32110733255a.jpg
END:VEVENT
BEGIN:VEVENT
DTSTART;TZID=Europe/Dublin:20291213T190000
DTEND;TZID=Europe/Dublin:20291213T200000
DTSTAMP:20260424T160155
CREATED:20260204T193609Z
LAST-MODIFIED:20260204T193609Z
UID:10003453-1891882800-1891886400@charlestown.ie
SUMMARY:Parish Choir
DESCRIPTION:
URL:https://charlestown.ie/event/parish-choir/2029-12-13/
LOCATION:St James Church\, Charlestown\, Church St\, Charlestown\, Co Mayo\, Ireland
ATTACH;FMTTYPE=image/jpeg:https://charlestown.ie/wp-content/uploads/2026/01/file_000000006b58720ab11c32110733255a.jpg
END:VEVENT
BEGIN:VEVENT
DTSTART;TZID=Europe/Dublin:20291220T190000
DTEND;TZID=Europe/Dublin:20291220T200000
DTSTAMP:20260424T160155
CREATED:20260204T193609Z
LAST-MODIFIED:20260204T193609Z
UID:10003454-1892487600-1892491200@charlestown.ie
SUMMARY:Parish Choir
DESCRIPTION:
URL:https://charlestown.ie/event/parish-choir/2029-12-20/
LOCATION:St James Church\, Charlestown\, Church St\, Charlestown\, Co Mayo\, Ireland
ATTACH;FMTTYPE=image/jpeg:https://charlestown.ie/wp-content/uploads/2026/01/file_000000006b58720ab11c32110733255a.jpg
END:VEVENT
BEGIN:VEVENT
DTSTART;TZID=Europe/Dublin:20291227T190000
DTEND;TZID=Europe/Dublin:20291227T200000
DTSTAMP:20260424T160155
CREATED:20260204T193609Z
LAST-MODIFIED:20260204T193609Z
UID:10003455-1893092400-1893096000@charlestown.ie
SUMMARY:Parish Choir
DESCRIPTION:
URL:https://charlestown.ie/event/parish-choir/2029-12-27/
LOCATION:St James Church\, Charlestown\, Church St\, Charlestown\, Co Mayo\, Ireland
ATTACH;FMTTYPE=image/jpeg:https://charlestown.ie/wp-content/uploads/2026/01/file_000000006b58720ab11c32110733255a.jpg
END:VEVENT
BEGIN:VEVENT
DTSTART;TZID=Europe/Dublin:20300103T190000
DTEND;TZID=Europe/Dublin:20300103T200000
DTSTAMP:20260424T160155
CREATED:20260204T193609Z
LAST-MODIFIED:20260204T193609Z
UID:10003456-1893697200-1893700800@charlestown.ie
SUMMARY:Parish Choir
DESCRIPTION:
URL:https://charlestown.ie/event/parish-choir/2030-01-03/
LOCATION:St James Church\, Charlestown\, Church St\, Charlestown\, Co Mayo\, Ireland
ATTACH;FMTTYPE=image/jpeg:https://charlestown.ie/wp-content/uploads/2026/01/file_000000006b58720ab11c32110733255a.jpg
END:VEVENT
BEGIN:VEVENT
DTSTART;TZID=Europe/Dublin:20300110T190000
DTEND;TZID=Europe/Dublin:20300110T200000
DTSTAMP:20260424T160155
CREATED:20260204T193609Z
LAST-MODIFIED:20260204T193609Z
UID:10003457-1894302000-1894305600@charlestown.ie
SUMMARY:Parish Choir
DESCRIPTION:
URL:https://charlestown.ie/event/parish-choir/2030-01-10/
LOCATION:St James Church\, Charlestown\, Church St\, Charlestown\, Co Mayo\, Ireland
ATTACH;FMTTYPE=image/jpeg:https://charlestown.ie/wp-content/uploads/2026/01/file_000000006b58720ab11c32110733255a.jpg
END:VEVENT
BEGIN:VEVENT
DTSTART;TZID=Europe/Dublin:20300117T190000
DTEND;TZID=Europe/Dublin:20300117T200000
DTSTAMP:20260424T160155
CREATED:20260204T193609Z
LAST-MODIFIED:20260204T193609Z
UID:10003458-1894906800-1894910400@charlestown.ie
SUMMARY:Parish Choir
DESCRIPTION:
URL:https://charlestown.ie/event/parish-choir/2030-01-17/
LOCATION:St James Church\, Charlestown\, Church St\, Charlestown\, Co Mayo\, Ireland
ATTACH;FMTTYPE=image/jpeg:https://charlestown.ie/wp-content/uploads/2026/01/file_000000006b58720ab11c32110733255a.jpg
END:VEVENT
BEGIN:VEVENT
DTSTART;TZID=Europe/Dublin:20300124T190000
DTEND;TZID=Europe/Dublin:20300124T200000
DTSTAMP:20260424T160155
CREATED:20260204T193609Z
LAST-MODIFIED:20260204T193609Z
UID:10003459-1895511600-1895515200@charlestown.ie
SUMMARY:Parish Choir
DESCRIPTION:
URL:https://charlestown.ie/event/parish-choir/2030-01-24/
LOCATION:St James Church\, Charlestown\, Church St\, Charlestown\, Co Mayo\, Ireland
ATTACH;FMTTYPE=image/jpeg:https://charlestown.ie/wp-content/uploads/2026/01/file_000000006b58720ab11c32110733255a.jpg
END:VEVENT
BEGIN:VEVENT
DTSTART;TZID=Europe/Dublin:20300131T190000
DTEND;TZID=Europe/Dublin:20300131T200000
DTSTAMP:20260424T160155
CREATED:20260204T193609Z
LAST-MODIFIED:20260204T193609Z
UID:10003460-1896116400-1896120000@charlestown.ie
SUMMARY:Parish Choir
DESCRIPTION:
URL:https://charlestown.ie/event/parish-choir/2030-01-31/
LOCATION:St James Church\, Charlestown\, Church St\, Charlestown\, Co Mayo\, Ireland
ATTACH;FMTTYPE=image/jpeg:https://charlestown.ie/wp-content/uploads/2026/01/file_000000006b58720ab11c32110733255a.jpg
END:VEVENT
BEGIN:VEVENT
DTSTART;TZID=Europe/Dublin:20300207T190000
DTEND;TZID=Europe/Dublin:20300207T200000
DTSTAMP:20260424T160155
CREATED:20260204T193609Z
LAST-MODIFIED:20260204T193609Z
UID:10003461-1896721200-1896724800@charlestown.ie
SUMMARY:Parish Choir
DESCRIPTION:
URL:https://charlestown.ie/event/parish-choir/2030-02-07/
LOCATION:St James Church\, Charlestown\, Church St\, Charlestown\, Co Mayo\, Ireland
ATTACH;FMTTYPE=image/jpeg:https://charlestown.ie/wp-content/uploads/2026/01/file_000000006b58720ab11c32110733255a.jpg
END:VEVENT
BEGIN:VEVENT
DTSTART;TZID=Europe/Dublin:20300214T190000
DTEND;TZID=Europe/Dublin:20300214T200000
DTSTAMP:20260424T160155
CREATED:20260204T193609Z
LAST-MODIFIED:20260204T193609Z
UID:10003462-1897326000-1897329600@charlestown.ie
SUMMARY:Parish Choir
DESCRIPTION:
URL:https://charlestown.ie/event/parish-choir/2030-02-14/
LOCATION:St James Church\, Charlestown\, Church St\, Charlestown\, Co Mayo\, Ireland
ATTACH;FMTTYPE=image/jpeg:https://charlestown.ie/wp-content/uploads/2026/01/file_000000006b58720ab11c32110733255a.jpg
END:VEVENT
BEGIN:VEVENT
DTSTART;TZID=Europe/Dublin:20300221T190000
DTEND;TZID=Europe/Dublin:20300221T200000
DTSTAMP:20260424T160155
CREATED:20260204T193609Z
LAST-MODIFIED:20260204T193609Z
UID:10003463-1897930800-1897934400@charlestown.ie
SUMMARY:Parish Choir
DESCRIPTION:
URL:https://charlestown.ie/event/parish-choir/2030-02-21/
LOCATION:St James Church\, Charlestown\, Church St\, Charlestown\, Co Mayo\, Ireland
ATTACH;FMTTYPE=image/jpeg:https://charlestown.ie/wp-content/uploads/2026/01/file_000000006b58720ab11c32110733255a.jpg
END:VEVENT
END:VCALENDAR