BEGIN:VCALENDAR
VERSION:2.0
PRODID:-//Charlestown - ECPv6.6.4.2//NONSGML v1.0//EN
CALSCALE:GREGORIAN
METHOD:PUBLISH
X-WR-CALNAME:Charlestown
X-ORIGINAL-URL:https://charlestown.ie
X-WR-CALDESC:Events for Charlestown
REFRESH-INTERVAL;VALUE=DURATION:PT1H
X-Robots-Tag:noindex
X-PUBLISHED-TTL:PT1H
BEGIN:VTIMEZONE
TZID:Europe/Dublin
BEGIN:DAYLIGHT
TZOFFSETFROM:+0000
TZOFFSETTO:+0100
TZNAME:IST
DTSTART:20280326T010000
END:DAYLIGHT
BEGIN:STANDARD
TZOFFSETFROM:+0100
TZOFFSETTO:+0000
TZNAME:GMT
DTSTART:20281029T010000
END:STANDARD
END:VTIMEZONE
BEGIN:VEVENT
DTSTART;TZID=Europe/Dublin:20280607T110000
DTEND;TZID=Europe/Dublin:20280607T130000
DTSTAMP:20260425T150907
CREATED:20250819T203259Z
LAST-MODIFIED:20250819T203259Z
UID:10002326-1843988400-1843995600@charlestown.ie
SUMMARY:Adult Arts & Crafts Group
DESCRIPTION:
URL:https://charlestown.ie/event/adult-arts-crafts-group/2028-06-07/
LOCATION:Charlestown Arts Centre
ATTACH;FMTTYPE=image/heic:https://charlestown.ie/wp-content/uploads/2025/08/20250819_175055.heic
END:VEVENT
BEGIN:VEVENT
DTSTART;TZID=Europe/Dublin:20280614T110000
DTEND;TZID=Europe/Dublin:20280614T130000
DTSTAMP:20260425T150907
CREATED:20250819T203259Z
LAST-MODIFIED:20250819T203259Z
UID:10002327-1844593200-1844600400@charlestown.ie
SUMMARY:Adult Arts & Crafts Group
DESCRIPTION:
URL:https://charlestown.ie/event/adult-arts-crafts-group/2028-06-14/
LOCATION:Charlestown Arts Centre
ATTACH;FMTTYPE=image/heic:https://charlestown.ie/wp-content/uploads/2025/08/20250819_175055.heic
END:VEVENT
BEGIN:VEVENT
DTSTART;TZID=Europe/Dublin:20280621T110000
DTEND;TZID=Europe/Dublin:20280621T130000
DTSTAMP:20260425T150907
CREATED:20250819T203259Z
LAST-MODIFIED:20250819T203259Z
UID:10002328-1845198000-1845205200@charlestown.ie
SUMMARY:Adult Arts & Crafts Group
DESCRIPTION:
URL:https://charlestown.ie/event/adult-arts-crafts-group/2028-06-21/
LOCATION:Charlestown Arts Centre
ATTACH;FMTTYPE=image/heic:https://charlestown.ie/wp-content/uploads/2025/08/20250819_175055.heic
END:VEVENT
BEGIN:VEVENT
DTSTART;TZID=Europe/Dublin:20280628T110000
DTEND;TZID=Europe/Dublin:20280628T130000
DTSTAMP:20260425T150907
CREATED:20250819T203259Z
LAST-MODIFIED:20250819T203259Z
UID:10002329-1845802800-1845810000@charlestown.ie
SUMMARY:Adult Arts & Crafts Group
DESCRIPTION:
URL:https://charlestown.ie/event/adult-arts-crafts-group/2028-06-28/
LOCATION:Charlestown Arts Centre
ATTACH;FMTTYPE=image/heic:https://charlestown.ie/wp-content/uploads/2025/08/20250819_175055.heic
END:VEVENT
BEGIN:VEVENT
DTSTART;TZID=Europe/Dublin:20280705T110000
DTEND;TZID=Europe/Dublin:20280705T130000
DTSTAMP:20260425T150907
CREATED:20250819T203259Z
LAST-MODIFIED:20250819T203259Z
UID:10002330-1846407600-1846414800@charlestown.ie
SUMMARY:Adult Arts & Crafts Group
DESCRIPTION:
URL:https://charlestown.ie/event/adult-arts-crafts-group/2028-07-05/
LOCATION:Charlestown Arts Centre
ATTACH;FMTTYPE=image/heic:https://charlestown.ie/wp-content/uploads/2025/08/20250819_175055.heic
END:VEVENT
BEGIN:VEVENT
DTSTART;TZID=Europe/Dublin:20280712T110000
DTEND;TZID=Europe/Dublin:20280712T130000
DTSTAMP:20260425T150907
CREATED:20250819T203259Z
LAST-MODIFIED:20250819T203259Z
UID:10002331-1847012400-1847019600@charlestown.ie
SUMMARY:Adult Arts & Crafts Group
DESCRIPTION:
URL:https://charlestown.ie/event/adult-arts-crafts-group/2028-07-12/
LOCATION:Charlestown Arts Centre
ATTACH;FMTTYPE=image/heic:https://charlestown.ie/wp-content/uploads/2025/08/20250819_175055.heic
END:VEVENT
BEGIN:VEVENT
DTSTART;TZID=Europe/Dublin:20280719T110000
DTEND;TZID=Europe/Dublin:20280719T130000
DTSTAMP:20260425T150907
CREATED:20250819T203259Z
LAST-MODIFIED:20250819T203259Z
UID:10002332-1847617200-1847624400@charlestown.ie
SUMMARY:Adult Arts & Crafts Group
DESCRIPTION:
URL:https://charlestown.ie/event/adult-arts-crafts-group/2028-07-19/
LOCATION:Charlestown Arts Centre
ATTACH;FMTTYPE=image/heic:https://charlestown.ie/wp-content/uploads/2025/08/20250819_175055.heic
END:VEVENT
BEGIN:VEVENT
DTSTART;TZID=Europe/Dublin:20280726T110000
DTEND;TZID=Europe/Dublin:20280726T130000
DTSTAMP:20260425T150907
CREATED:20250819T203259Z
LAST-MODIFIED:20250819T203259Z
UID:10002333-1848222000-1848229200@charlestown.ie
SUMMARY:Adult Arts & Crafts Group
DESCRIPTION:
URL:https://charlestown.ie/event/adult-arts-crafts-group/2028-07-26/
LOCATION:Charlestown Arts Centre
ATTACH;FMTTYPE=image/heic:https://charlestown.ie/wp-content/uploads/2025/08/20250819_175055.heic
END:VEVENT
BEGIN:VEVENT
DTSTART;TZID=Europe/Dublin:20280802T110000
DTEND;TZID=Europe/Dublin:20280802T130000
DTSTAMP:20260425T150907
CREATED:20250819T203259Z
LAST-MODIFIED:20250819T203259Z
UID:10002334-1848826800-1848834000@charlestown.ie
SUMMARY:Adult Arts & Crafts Group
DESCRIPTION:
URL:https://charlestown.ie/event/adult-arts-crafts-group/2028-08-02/
LOCATION:Charlestown Arts Centre
ATTACH;FMTTYPE=image/heic:https://charlestown.ie/wp-content/uploads/2025/08/20250819_175055.heic
END:VEVENT
BEGIN:VEVENT
DTSTART;TZID=Europe/Dublin:20280809T110000
DTEND;TZID=Europe/Dublin:20280809T130000
DTSTAMP:20260425T150907
CREATED:20250819T203259Z
LAST-MODIFIED:20250819T203259Z
UID:10002335-1849431600-1849438800@charlestown.ie
SUMMARY:Adult Arts & Crafts Group
DESCRIPTION:
URL:https://charlestown.ie/event/adult-arts-crafts-group/2028-08-09/
LOCATION:Charlestown Arts Centre
ATTACH;FMTTYPE=image/heic:https://charlestown.ie/wp-content/uploads/2025/08/20250819_175055.heic
END:VEVENT
BEGIN:VEVENT
DTSTART;TZID=Europe/Dublin:20280816T110000
DTEND;TZID=Europe/Dublin:20280816T130000
DTSTAMP:20260425T150907
CREATED:20250819T203259Z
LAST-MODIFIED:20250819T203259Z
UID:10002336-1850036400-1850043600@charlestown.ie
SUMMARY:Adult Arts & Crafts Group
DESCRIPTION:
URL:https://charlestown.ie/event/adult-arts-crafts-group/2028-08-16/
LOCATION:Charlestown Arts Centre
ATTACH;FMTTYPE=image/heic:https://charlestown.ie/wp-content/uploads/2025/08/20250819_175055.heic
END:VEVENT
BEGIN:VEVENT
DTSTART;TZID=Europe/Dublin:20280823T110000
DTEND;TZID=Europe/Dublin:20280823T130000
DTSTAMP:20260425T150907
CREATED:20250819T203259Z
LAST-MODIFIED:20250819T203259Z
UID:10002337-1850641200-1850648400@charlestown.ie
SUMMARY:Adult Arts & Crafts Group
DESCRIPTION:
URL:https://charlestown.ie/event/adult-arts-crafts-group/2028-08-23/
LOCATION:Charlestown Arts Centre
ATTACH;FMTTYPE=image/heic:https://charlestown.ie/wp-content/uploads/2025/08/20250819_175055.heic
END:VEVENT
BEGIN:VEVENT
DTSTART;TZID=Europe/Dublin:20280830T110000
DTEND;TZID=Europe/Dublin:20280830T130000
DTSTAMP:20260425T150907
CREATED:20250819T203259Z
LAST-MODIFIED:20250819T203259Z
UID:10002338-1851246000-1851253200@charlestown.ie
SUMMARY:Adult Arts & Crafts Group
DESCRIPTION:
URL:https://charlestown.ie/event/adult-arts-crafts-group/2028-08-30/
LOCATION:Charlestown Arts Centre
ATTACH;FMTTYPE=image/heic:https://charlestown.ie/wp-content/uploads/2025/08/20250819_175055.heic
END:VEVENT
BEGIN:VEVENT
DTSTART;TZID=Europe/Dublin:20280906T110000
DTEND;TZID=Europe/Dublin:20280906T130000
DTSTAMP:20260425T150907
CREATED:20250819T203259Z
LAST-MODIFIED:20250819T203259Z
UID:10002339-1851850800-1851858000@charlestown.ie
SUMMARY:Adult Arts & Crafts Group
DESCRIPTION:
URL:https://charlestown.ie/event/adult-arts-crafts-group/2028-09-06/
LOCATION:Charlestown Arts Centre
ATTACH;FMTTYPE=image/heic:https://charlestown.ie/wp-content/uploads/2025/08/20250819_175055.heic
END:VEVENT
BEGIN:VEVENT
DTSTART;TZID=Europe/Dublin:20280913T110000
DTEND;TZID=Europe/Dublin:20280913T130000
DTSTAMP:20260425T150907
CREATED:20250819T203259Z
LAST-MODIFIED:20250819T203259Z
UID:10002340-1852455600-1852462800@charlestown.ie
SUMMARY:Adult Arts & Crafts Group
DESCRIPTION:
URL:https://charlestown.ie/event/adult-arts-crafts-group/2028-09-13/
LOCATION:Charlestown Arts Centre
ATTACH;FMTTYPE=image/heic:https://charlestown.ie/wp-content/uploads/2025/08/20250819_175055.heic
END:VEVENT
BEGIN:VEVENT
DTSTART;TZID=Europe/Dublin:20280920T110000
DTEND;TZID=Europe/Dublin:20280920T130000
DTSTAMP:20260425T150907
CREATED:20250819T203259Z
LAST-MODIFIED:20250819T203259Z
UID:10002341-1853060400-1853067600@charlestown.ie
SUMMARY:Adult Arts & Crafts Group
DESCRIPTION:
URL:https://charlestown.ie/event/adult-arts-crafts-group/2028-09-20/
LOCATION:Charlestown Arts Centre
ATTACH;FMTTYPE=image/heic:https://charlestown.ie/wp-content/uploads/2025/08/20250819_175055.heic
END:VEVENT
BEGIN:VEVENT
DTSTART;TZID=Europe/Dublin:20280927T110000
DTEND;TZID=Europe/Dublin:20280927T130000
DTSTAMP:20260425T150907
CREATED:20250819T203259Z
LAST-MODIFIED:20250819T203259Z
UID:10002342-1853665200-1853672400@charlestown.ie
SUMMARY:Adult Arts & Crafts Group
DESCRIPTION:
URL:https://charlestown.ie/event/adult-arts-crafts-group/2028-09-27/
LOCATION:Charlestown Arts Centre
ATTACH;FMTTYPE=image/heic:https://charlestown.ie/wp-content/uploads/2025/08/20250819_175055.heic
END:VEVENT
BEGIN:VEVENT
DTSTART;TZID=Europe/Dublin:20281004T110000
DTEND;TZID=Europe/Dublin:20281004T130000
DTSTAMP:20260425T150907
CREATED:20250819T203259Z
LAST-MODIFIED:20250819T203259Z
UID:10002343-1854270000-1854277200@charlestown.ie
SUMMARY:Adult Arts & Crafts Group
DESCRIPTION:
URL:https://charlestown.ie/event/adult-arts-crafts-group/2028-10-04/
LOCATION:Charlestown Arts Centre
ATTACH;FMTTYPE=image/heic:https://charlestown.ie/wp-content/uploads/2025/08/20250819_175055.heic
END:VEVENT
BEGIN:VEVENT
DTSTART;TZID=Europe/Dublin:20281011T110000
DTEND;TZID=Europe/Dublin:20281011T130000
DTSTAMP:20260425T150908
CREATED:20250819T203259Z
LAST-MODIFIED:20250819T203259Z
UID:10002344-1854874800-1854882000@charlestown.ie
SUMMARY:Adult Arts & Crafts Group
DESCRIPTION:
URL:https://charlestown.ie/event/adult-arts-crafts-group/2028-10-11/
LOCATION:Charlestown Arts Centre
ATTACH;FMTTYPE=image/heic:https://charlestown.ie/wp-content/uploads/2025/08/20250819_175055.heic
END:VEVENT
BEGIN:VEVENT
DTSTART;TZID=Europe/Dublin:20281018T110000
DTEND;TZID=Europe/Dublin:20281018T130000
DTSTAMP:20260425T150908
CREATED:20250819T203259Z
LAST-MODIFIED:20250819T203259Z
UID:10002345-1855479600-1855486800@charlestown.ie
SUMMARY:Adult Arts & Crafts Group
DESCRIPTION:
URL:https://charlestown.ie/event/adult-arts-crafts-group/2028-10-18/
LOCATION:Charlestown Arts Centre
ATTACH;FMTTYPE=image/heic:https://charlestown.ie/wp-content/uploads/2025/08/20250819_175055.heic
END:VEVENT
BEGIN:VEVENT
DTSTART;TZID=Europe/Dublin:20281025T110000
DTEND;TZID=Europe/Dublin:20281025T130000
DTSTAMP:20260425T150908
CREATED:20250819T203259Z
LAST-MODIFIED:20250819T203259Z
UID:10002346-1856084400-1856091600@charlestown.ie
SUMMARY:Adult Arts & Crafts Group
DESCRIPTION:
URL:https://charlestown.ie/event/adult-arts-crafts-group/2028-10-25/
LOCATION:Charlestown Arts Centre
ATTACH;FMTTYPE=image/heic:https://charlestown.ie/wp-content/uploads/2025/08/20250819_175055.heic
END:VEVENT
BEGIN:VEVENT
DTSTART;TZID=Europe/Dublin:20281101T110000
DTEND;TZID=Europe/Dublin:20281101T130000
DTSTAMP:20260425T150908
CREATED:20250819T203259Z
LAST-MODIFIED:20250819T203259Z
UID:10002347-1856689200-1856696400@charlestown.ie
SUMMARY:Adult Arts & Crafts Group
DESCRIPTION:
URL:https://charlestown.ie/event/adult-arts-crafts-group/2028-11-01/
LOCATION:Charlestown Arts Centre
ATTACH;FMTTYPE=image/heic:https://charlestown.ie/wp-content/uploads/2025/08/20250819_175055.heic
END:VEVENT
BEGIN:VEVENT
DTSTART;TZID=Europe/Dublin:20281108T110000
DTEND;TZID=Europe/Dublin:20281108T130000
DTSTAMP:20260425T150908
CREATED:20250819T203259Z
LAST-MODIFIED:20250819T203259Z
UID:10002348-1857294000-1857301200@charlestown.ie
SUMMARY:Adult Arts & Crafts Group
DESCRIPTION:
URL:https://charlestown.ie/event/adult-arts-crafts-group/2028-11-08/
LOCATION:Charlestown Arts Centre
ATTACH;FMTTYPE=image/heic:https://charlestown.ie/wp-content/uploads/2025/08/20250819_175055.heic
END:VEVENT
BEGIN:VEVENT
DTSTART;TZID=Europe/Dublin:20281115T110000
DTEND;TZID=Europe/Dublin:20281115T130000
DTSTAMP:20260425T150908
CREATED:20250819T203259Z
LAST-MODIFIED:20250819T203259Z
UID:10002349-1857898800-1857906000@charlestown.ie
SUMMARY:Adult Arts & Crafts Group
DESCRIPTION:
URL:https://charlestown.ie/event/adult-arts-crafts-group/2028-11-15/
LOCATION:Charlestown Arts Centre
ATTACH;FMTTYPE=image/heic:https://charlestown.ie/wp-content/uploads/2025/08/20250819_175055.heic
END:VEVENT
BEGIN:VEVENT
DTSTART;TZID=Europe/Dublin:20281122T110000
DTEND;TZID=Europe/Dublin:20281122T130000
DTSTAMP:20260425T150908
CREATED:20250819T203259Z
LAST-MODIFIED:20250819T203259Z
UID:10002350-1858503600-1858510800@charlestown.ie
SUMMARY:Adult Arts & Crafts Group
DESCRIPTION:
URL:https://charlestown.ie/event/adult-arts-crafts-group/2028-11-22/
LOCATION:Charlestown Arts Centre
ATTACH;FMTTYPE=image/heic:https://charlestown.ie/wp-content/uploads/2025/08/20250819_175055.heic
END:VEVENT
BEGIN:VEVENT
DTSTART;TZID=Europe/Dublin:20281129T110000
DTEND;TZID=Europe/Dublin:20281129T130000
DTSTAMP:20260425T150908
CREATED:20250819T203259Z
LAST-MODIFIED:20250819T203259Z
UID:10002351-1859108400-1859115600@charlestown.ie
SUMMARY:Adult Arts & Crafts Group
DESCRIPTION:
URL:https://charlestown.ie/event/adult-arts-crafts-group/2028-11-29/
LOCATION:Charlestown Arts Centre
ATTACH;FMTTYPE=image/heic:https://charlestown.ie/wp-content/uploads/2025/08/20250819_175055.heic
END:VEVENT
BEGIN:VEVENT
DTSTART;TZID=Europe/Dublin:20281206T110000
DTEND;TZID=Europe/Dublin:20281206T130000
DTSTAMP:20260425T150908
CREATED:20250819T203259Z
LAST-MODIFIED:20250819T203259Z
UID:10002352-1859713200-1859720400@charlestown.ie
SUMMARY:Adult Arts & Crafts Group
DESCRIPTION:
URL:https://charlestown.ie/event/adult-arts-crafts-group/2028-12-06/
LOCATION:Charlestown Arts Centre
ATTACH;FMTTYPE=image/heic:https://charlestown.ie/wp-content/uploads/2025/08/20250819_175055.heic
END:VEVENT
BEGIN:VEVENT
DTSTART;TZID=Europe/Dublin:20281213T110000
DTEND;TZID=Europe/Dublin:20281213T130000
DTSTAMP:20260425T150908
CREATED:20250819T203259Z
LAST-MODIFIED:20250819T203259Z
UID:10002353-1860318000-1860325200@charlestown.ie
SUMMARY:Adult Arts & Crafts Group
DESCRIPTION:
URL:https://charlestown.ie/event/adult-arts-crafts-group/2028-12-13/
LOCATION:Charlestown Arts Centre
ATTACH;FMTTYPE=image/heic:https://charlestown.ie/wp-content/uploads/2025/08/20250819_175055.heic
END:VEVENT
BEGIN:VEVENT
DTSTART;TZID=Europe/Dublin:20281220T110000
DTEND;TZID=Europe/Dublin:20281220T130000
DTSTAMP:20260425T150908
CREATED:20250819T203259Z
LAST-MODIFIED:20250819T203259Z
UID:10002354-1860922800-1860930000@charlestown.ie
SUMMARY:Adult Arts & Crafts Group
DESCRIPTION:
URL:https://charlestown.ie/event/adult-arts-crafts-group/2028-12-20/
LOCATION:Charlestown Arts Centre
ATTACH;FMTTYPE=image/heic:https://charlestown.ie/wp-content/uploads/2025/08/20250819_175055.heic
END:VEVENT
BEGIN:VEVENT
DTSTART;TZID=Europe/Dublin:20281227T110000
DTEND;TZID=Europe/Dublin:20281227T130000
DTSTAMP:20260425T150908
CREATED:20250819T203259Z
LAST-MODIFIED:20250819T203259Z
UID:10002355-1861527600-1861534800@charlestown.ie
SUMMARY:Adult Arts & Crafts Group
DESCRIPTION:
URL:https://charlestown.ie/event/adult-arts-crafts-group/2028-12-27/
LOCATION:Charlestown Arts Centre
ATTACH;FMTTYPE=image/heic:https://charlestown.ie/wp-content/uploads/2025/08/20250819_175055.heic
END:VEVENT
END:VCALENDAR