BEGIN:VCALENDAR
VERSION:2.0
PRODID:-//Charlestown - ECPv6.6.4.2//NONSGML v1.0//EN
CALSCALE:GREGORIAN
METHOD:PUBLISH
X-ORIGINAL-URL:https://charlestown.ie
X-WR-CALDESC:Events for Charlestown
REFRESH-INTERVAL;VALUE=DURATION:PT1H
X-Robots-Tag:noindex
X-PUBLISHED-TTL:PT1H
BEGIN:VTIMEZONE
TZID:Europe/Dublin
BEGIN:DAYLIGHT
TZOFFSETFROM:+0000
TZOFFSETTO:+0100
TZNAME:IST
DTSTART:20260329T010000
END:DAYLIGHT
BEGIN:STANDARD
TZOFFSETFROM:+0100
TZOFFSETTO:+0000
TZNAME:GMT
DTSTART:20261025T010000
END:STANDARD
END:VTIMEZONE
BEGIN:VEVENT
DTSTART;TZID=Europe/Dublin:20260428T191500
DTEND;TZID=Europe/Dublin:20260428T201500
DTSTAMP:20260423T194824
CREATED:20250820T123631Z
LAST-MODIFIED:20250820T123631Z
UID:10002475-1777403700-1777407300@charlestown.ie
SUMMARY:Yoga with Trish
DESCRIPTION:
URL:https://charlestown.ie/event/yoga-with-trish/2026-04-28/
LOCATION:Charlestown Arts Centre
ATTACH;FMTTYPE=image/jpeg:https://charlestown.ie/wp-content/uploads/2025/08/Screenshot_20250819_162049_Canva.jpg
END:VEVENT
BEGIN:VEVENT
DTSTART;TZID=Europe/Dublin:20260505T191500
DTEND;TZID=Europe/Dublin:20260505T201500
DTSTAMP:20260423T194824
CREATED:20250820T123631Z
LAST-MODIFIED:20250820T123631Z
UID:10002476-1778008500-1778012100@charlestown.ie
SUMMARY:Yoga with Trish
DESCRIPTION:
URL:https://charlestown.ie/event/yoga-with-trish/2026-05-05/
LOCATION:Charlestown Arts Centre
ATTACH;FMTTYPE=image/jpeg:https://charlestown.ie/wp-content/uploads/2025/08/Screenshot_20250819_162049_Canva.jpg
END:VEVENT
BEGIN:VEVENT
DTSTART;TZID=Europe/Dublin:20260512T191500
DTEND;TZID=Europe/Dublin:20260512T201500
DTSTAMP:20260423T194824
CREATED:20250820T123631Z
LAST-MODIFIED:20250820T123631Z
UID:10002477-1778613300-1778616900@charlestown.ie
SUMMARY:Yoga with Trish
DESCRIPTION:
URL:https://charlestown.ie/event/yoga-with-trish/2026-05-12/
LOCATION:Charlestown Arts Centre
ATTACH;FMTTYPE=image/jpeg:https://charlestown.ie/wp-content/uploads/2025/08/Screenshot_20250819_162049_Canva.jpg
END:VEVENT
BEGIN:VEVENT
DTSTART;TZID=Europe/Dublin:20260519T191500
DTEND;TZID=Europe/Dublin:20260519T201500
DTSTAMP:20260423T194824
CREATED:20250820T123631Z
LAST-MODIFIED:20250820T123631Z
UID:10002478-1779218100-1779221700@charlestown.ie
SUMMARY:Yoga with Trish
DESCRIPTION:
URL:https://charlestown.ie/event/yoga-with-trish/2026-05-19/
LOCATION:Charlestown Arts Centre
ATTACH;FMTTYPE=image/jpeg:https://charlestown.ie/wp-content/uploads/2025/08/Screenshot_20250819_162049_Canva.jpg
END:VEVENT
BEGIN:VEVENT
DTSTART;TZID=Europe/Dublin:20260526T191500
DTEND;TZID=Europe/Dublin:20260526T201500
DTSTAMP:20260423T194824
CREATED:20250820T123631Z
LAST-MODIFIED:20250820T123631Z
UID:10002479-1779822900-1779826500@charlestown.ie
SUMMARY:Yoga with Trish
DESCRIPTION:
URL:https://charlestown.ie/event/yoga-with-trish/2026-05-26/
LOCATION:Charlestown Arts Centre
ATTACH;FMTTYPE=image/jpeg:https://charlestown.ie/wp-content/uploads/2025/08/Screenshot_20250819_162049_Canva.jpg
END:VEVENT
BEGIN:VEVENT
DTSTART;TZID=Europe/Dublin:20260602T191500
DTEND;TZID=Europe/Dublin:20260602T201500
DTSTAMP:20260423T194824
CREATED:20250820T123631Z
LAST-MODIFIED:20250820T123631Z
UID:10002480-1780427700-1780431300@charlestown.ie
SUMMARY:Yoga with Trish
DESCRIPTION:
URL:https://charlestown.ie/event/yoga-with-trish/2026-06-02/
LOCATION:Charlestown Arts Centre
ATTACH;FMTTYPE=image/jpeg:https://charlestown.ie/wp-content/uploads/2025/08/Screenshot_20250819_162049_Canva.jpg
END:VEVENT
BEGIN:VEVENT
DTSTART;TZID=Europe/Dublin:20260609T191500
DTEND;TZID=Europe/Dublin:20260609T201500
DTSTAMP:20260423T194824
CREATED:20250820T123631Z
LAST-MODIFIED:20250820T123631Z
UID:10002481-1781032500-1781036100@charlestown.ie
SUMMARY:Yoga with Trish
DESCRIPTION:
URL:https://charlestown.ie/event/yoga-with-trish/2026-06-09/
LOCATION:Charlestown Arts Centre
ATTACH;FMTTYPE=image/jpeg:https://charlestown.ie/wp-content/uploads/2025/08/Screenshot_20250819_162049_Canva.jpg
END:VEVENT
BEGIN:VEVENT
DTSTART;TZID=Europe/Dublin:20260616T191500
DTEND;TZID=Europe/Dublin:20260616T201500
DTSTAMP:20260423T194824
CREATED:20250820T123631Z
LAST-MODIFIED:20250820T123631Z
UID:10002482-1781637300-1781640900@charlestown.ie
SUMMARY:Yoga with Trish
DESCRIPTION:
URL:https://charlestown.ie/event/yoga-with-trish/2026-06-16/
LOCATION:Charlestown Arts Centre
ATTACH;FMTTYPE=image/jpeg:https://charlestown.ie/wp-content/uploads/2025/08/Screenshot_20250819_162049_Canva.jpg
END:VEVENT
BEGIN:VEVENT
DTSTART;TZID=Europe/Dublin:20260623T191500
DTEND;TZID=Europe/Dublin:20260623T201500
DTSTAMP:20260423T194824
CREATED:20250820T123631Z
LAST-MODIFIED:20250820T123631Z
UID:10002483-1782242100-1782245700@charlestown.ie
SUMMARY:Yoga with Trish
DESCRIPTION:
URL:https://charlestown.ie/event/yoga-with-trish/2026-06-23/
LOCATION:Charlestown Arts Centre
ATTACH;FMTTYPE=image/jpeg:https://charlestown.ie/wp-content/uploads/2025/08/Screenshot_20250819_162049_Canva.jpg
END:VEVENT
BEGIN:VEVENT
DTSTART;TZID=Europe/Dublin:20260630T191500
DTEND;TZID=Europe/Dublin:20260630T201500
DTSTAMP:20260423T194824
CREATED:20250820T123631Z
LAST-MODIFIED:20250820T123631Z
UID:10002484-1782846900-1782850500@charlestown.ie
SUMMARY:Yoga with Trish
DESCRIPTION:
URL:https://charlestown.ie/event/yoga-with-trish/2026-06-30/
LOCATION:Charlestown Arts Centre
ATTACH;FMTTYPE=image/jpeg:https://charlestown.ie/wp-content/uploads/2025/08/Screenshot_20250819_162049_Canva.jpg
END:VEVENT
END:VCALENDAR