BEGIN:VCALENDAR
VERSION:2.0
PRODID:-//Charlestown - ECPv6.6.4.2//NONSGML v1.0//EN
CALSCALE:GREGORIAN
METHOD:PUBLISH
X-WR-CALNAME:Charlestown
X-ORIGINAL-URL:https://charlestown.ie
X-WR-CALDESC:Events for Charlestown
REFRESH-INTERVAL;VALUE=DURATION:PT1H
X-Robots-Tag:noindex
X-PUBLISHED-TTL:PT1H
BEGIN:VTIMEZONE
TZID:Europe/Dublin
BEGIN:DAYLIGHT
TZOFFSETFROM:+0000
TZOFFSETTO:+0100
TZNAME:IST
DTSTART:20260329T010000
END:DAYLIGHT
BEGIN:STANDARD
TZOFFSETFROM:+0100
TZOFFSETTO:+0000
TZNAME:GMT
DTSTART:20261025T010000
END:STANDARD
END:VTIMEZONE
BEGIN:VEVENT
DTSTART;TZID=Europe/Dublin:20260424T093000
DTEND;TZID=Europe/Dublin:20260424T103000
DTSTAMP:20260423T164906
CREATED:20250312T224914Z
LAST-MODIFIED:20260111T123846Z
UID:10001811-1777023000-1777026600@charlestown.ie
SUMMARY:Buggy Walking Group
DESCRIPTION:
URL:https://charlestown.ie/event/new-buggy-walking-group/2026-04-24/
LOCATION:CBD Recreational Centre\, Charlestown\, Lowpark\, Charlestown\, Mayo\, Ireland
ATTACH;FMTTYPE=image/jpeg:https://charlestown.ie/wp-content/uploads/2025/03/Screenshot_20250312_195807_Canva-1.jpg
END:VEVENT
BEGIN:VEVENT
DTSTART;TZID=Europe/Dublin:20260501T093000
DTEND;TZID=Europe/Dublin:20260501T103000
DTSTAMP:20260423T164906
CREATED:20250312T224914Z
LAST-MODIFIED:20260111T123846Z
UID:10001812-1777627800-1777631400@charlestown.ie
SUMMARY:Buggy Walking Group
DESCRIPTION:
URL:https://charlestown.ie/event/new-buggy-walking-group/2026-05-01/
LOCATION:CBD Recreational Centre\, Charlestown\, Lowpark\, Charlestown\, Mayo\, Ireland
ATTACH;FMTTYPE=image/jpeg:https://charlestown.ie/wp-content/uploads/2025/03/Screenshot_20250312_195807_Canva-1.jpg
END:VEVENT
BEGIN:VEVENT
DTSTART;TZID=Europe/Dublin:20260508T093000
DTEND;TZID=Europe/Dublin:20260508T103000
DTSTAMP:20260423T164906
CREATED:20250312T224914Z
LAST-MODIFIED:20260111T123846Z
UID:10001813-1778232600-1778236200@charlestown.ie
SUMMARY:Buggy Walking Group
DESCRIPTION:
URL:https://charlestown.ie/event/new-buggy-walking-group/2026-05-08/
LOCATION:CBD Recreational Centre\, Charlestown\, Lowpark\, Charlestown\, Mayo\, Ireland
ATTACH;FMTTYPE=image/jpeg:https://charlestown.ie/wp-content/uploads/2025/03/Screenshot_20250312_195807_Canva-1.jpg
END:VEVENT
BEGIN:VEVENT
DTSTART;TZID=Europe/Dublin:20260515T093000
DTEND;TZID=Europe/Dublin:20260515T103000
DTSTAMP:20260423T164906
CREATED:20250312T224914Z
LAST-MODIFIED:20260111T123846Z
UID:10001814-1778837400-1778841000@charlestown.ie
SUMMARY:Buggy Walking Group
DESCRIPTION:
URL:https://charlestown.ie/event/new-buggy-walking-group/2026-05-15/
LOCATION:CBD Recreational Centre\, Charlestown\, Lowpark\, Charlestown\, Mayo\, Ireland
ATTACH;FMTTYPE=image/jpeg:https://charlestown.ie/wp-content/uploads/2025/03/Screenshot_20250312_195807_Canva-1.jpg
END:VEVENT
BEGIN:VEVENT
DTSTART;TZID=Europe/Dublin:20260522T093000
DTEND;TZID=Europe/Dublin:20260522T103000
DTSTAMP:20260423T164906
CREATED:20250312T224914Z
LAST-MODIFIED:20260111T123846Z
UID:10001815-1779442200-1779445800@charlestown.ie
SUMMARY:Buggy Walking Group
DESCRIPTION:
URL:https://charlestown.ie/event/new-buggy-walking-group/2026-05-22/
LOCATION:CBD Recreational Centre\, Charlestown\, Lowpark\, Charlestown\, Mayo\, Ireland
ATTACH;FMTTYPE=image/jpeg:https://charlestown.ie/wp-content/uploads/2025/03/Screenshot_20250312_195807_Canva-1.jpg
END:VEVENT
BEGIN:VEVENT
DTSTART;TZID=Europe/Dublin:20260529T093000
DTEND;TZID=Europe/Dublin:20260529T103000
DTSTAMP:20260423T164906
CREATED:20250312T224914Z
LAST-MODIFIED:20260111T123846Z
UID:10001816-1780047000-1780050600@charlestown.ie
SUMMARY:Buggy Walking Group
DESCRIPTION:
URL:https://charlestown.ie/event/new-buggy-walking-group/2026-05-29/
LOCATION:CBD Recreational Centre\, Charlestown\, Lowpark\, Charlestown\, Mayo\, Ireland
ATTACH;FMTTYPE=image/jpeg:https://charlestown.ie/wp-content/uploads/2025/03/Screenshot_20250312_195807_Canva-1.jpg
END:VEVENT
BEGIN:VEVENT
DTSTART;TZID=Europe/Dublin:20260605T093000
DTEND;TZID=Europe/Dublin:20260605T103000
DTSTAMP:20260423T164906
CREATED:20250312T224914Z
LAST-MODIFIED:20260111T123846Z
UID:10001817-1780651800-1780655400@charlestown.ie
SUMMARY:Buggy Walking Group
DESCRIPTION:
URL:https://charlestown.ie/event/new-buggy-walking-group/2026-06-05/
LOCATION:CBD Recreational Centre\, Charlestown\, Lowpark\, Charlestown\, Mayo\, Ireland
ATTACH;FMTTYPE=image/jpeg:https://charlestown.ie/wp-content/uploads/2025/03/Screenshot_20250312_195807_Canva-1.jpg
END:VEVENT
BEGIN:VEVENT
DTSTART;TZID=Europe/Dublin:20260612T093000
DTEND;TZID=Europe/Dublin:20260612T103000
DTSTAMP:20260423T164906
CREATED:20250312T224914Z
LAST-MODIFIED:20260111T123846Z
UID:10001818-1781256600-1781260200@charlestown.ie
SUMMARY:Buggy Walking Group
DESCRIPTION:
URL:https://charlestown.ie/event/new-buggy-walking-group/2026-06-12/
LOCATION:CBD Recreational Centre\, Charlestown\, Lowpark\, Charlestown\, Mayo\, Ireland
ATTACH;FMTTYPE=image/jpeg:https://charlestown.ie/wp-content/uploads/2025/03/Screenshot_20250312_195807_Canva-1.jpg
END:VEVENT
BEGIN:VEVENT
DTSTART;TZID=Europe/Dublin:20260619T093000
DTEND;TZID=Europe/Dublin:20260619T103000
DTSTAMP:20260423T164906
CREATED:20250312T224914Z
LAST-MODIFIED:20260111T123846Z
UID:10001819-1781861400-1781865000@charlestown.ie
SUMMARY:Buggy Walking Group
DESCRIPTION:
URL:https://charlestown.ie/event/new-buggy-walking-group/2026-06-19/
LOCATION:CBD Recreational Centre\, Charlestown\, Lowpark\, Charlestown\, Mayo\, Ireland
ATTACH;FMTTYPE=image/jpeg:https://charlestown.ie/wp-content/uploads/2025/03/Screenshot_20250312_195807_Canva-1.jpg
END:VEVENT
BEGIN:VEVENT
DTSTART;TZID=Europe/Dublin:20260626T093000
DTEND;TZID=Europe/Dublin:20260626T103000
DTSTAMP:20260423T164906
CREATED:20250312T224914Z
LAST-MODIFIED:20260111T123846Z
UID:10001820-1782466200-1782469800@charlestown.ie
SUMMARY:Buggy Walking Group
DESCRIPTION:
URL:https://charlestown.ie/event/new-buggy-walking-group/2026-06-26/
LOCATION:CBD Recreational Centre\, Charlestown\, Lowpark\, Charlestown\, Mayo\, Ireland
ATTACH;FMTTYPE=image/jpeg:https://charlestown.ie/wp-content/uploads/2025/03/Screenshot_20250312_195807_Canva-1.jpg
END:VEVENT
BEGIN:VEVENT
DTSTART;TZID=Europe/Dublin:20260703T093000
DTEND;TZID=Europe/Dublin:20260703T103000
DTSTAMP:20260423T164906
CREATED:20250312T224914Z
LAST-MODIFIED:20260111T123846Z
UID:10001821-1783071000-1783074600@charlestown.ie
SUMMARY:Buggy Walking Group
DESCRIPTION:
URL:https://charlestown.ie/event/new-buggy-walking-group/2026-07-03/
LOCATION:CBD Recreational Centre\, Charlestown\, Lowpark\, Charlestown\, Mayo\, Ireland
ATTACH;FMTTYPE=image/jpeg:https://charlestown.ie/wp-content/uploads/2025/03/Screenshot_20250312_195807_Canva-1.jpg
END:VEVENT
BEGIN:VEVENT
DTSTART;TZID=Europe/Dublin:20260710T093000
DTEND;TZID=Europe/Dublin:20260710T103000
DTSTAMP:20260423T164906
CREATED:20250312T224914Z
LAST-MODIFIED:20260111T123846Z
UID:10001822-1783675800-1783679400@charlestown.ie
SUMMARY:Buggy Walking Group
DESCRIPTION:
URL:https://charlestown.ie/event/new-buggy-walking-group/2026-07-10/
LOCATION:CBD Recreational Centre\, Charlestown\, Lowpark\, Charlestown\, Mayo\, Ireland
ATTACH;FMTTYPE=image/jpeg:https://charlestown.ie/wp-content/uploads/2025/03/Screenshot_20250312_195807_Canva-1.jpg
END:VEVENT
BEGIN:VEVENT
DTSTART;TZID=Europe/Dublin:20260717T093000
DTEND;TZID=Europe/Dublin:20260717T103000
DTSTAMP:20260423T164906
CREATED:20250312T224914Z
LAST-MODIFIED:20260111T123846Z
UID:10001823-1784280600-1784284200@charlestown.ie
SUMMARY:Buggy Walking Group
DESCRIPTION:
URL:https://charlestown.ie/event/new-buggy-walking-group/2026-07-17/
LOCATION:CBD Recreational Centre\, Charlestown\, Lowpark\, Charlestown\, Mayo\, Ireland
ATTACH;FMTTYPE=image/jpeg:https://charlestown.ie/wp-content/uploads/2025/03/Screenshot_20250312_195807_Canva-1.jpg
END:VEVENT
BEGIN:VEVENT
DTSTART;TZID=Europe/Dublin:20260724T093000
DTEND;TZID=Europe/Dublin:20260724T103000
DTSTAMP:20260423T164906
CREATED:20250312T224914Z
LAST-MODIFIED:20260111T123846Z
UID:10001824-1784885400-1784889000@charlestown.ie
SUMMARY:Buggy Walking Group
DESCRIPTION:
URL:https://charlestown.ie/event/new-buggy-walking-group/2026-07-24/
LOCATION:CBD Recreational Centre\, Charlestown\, Lowpark\, Charlestown\, Mayo\, Ireland
ATTACH;FMTTYPE=image/jpeg:https://charlestown.ie/wp-content/uploads/2025/03/Screenshot_20250312_195807_Canva-1.jpg
END:VEVENT
BEGIN:VEVENT
DTSTART;TZID=Europe/Dublin:20260731T093000
DTEND;TZID=Europe/Dublin:20260731T103000
DTSTAMP:20260423T164906
CREATED:20250312T224914Z
LAST-MODIFIED:20260111T123846Z
UID:10001825-1785490200-1785493800@charlestown.ie
SUMMARY:Buggy Walking Group
DESCRIPTION:
URL:https://charlestown.ie/event/new-buggy-walking-group/2026-07-31/
LOCATION:CBD Recreational Centre\, Charlestown\, Lowpark\, Charlestown\, Mayo\, Ireland
ATTACH;FMTTYPE=image/jpeg:https://charlestown.ie/wp-content/uploads/2025/03/Screenshot_20250312_195807_Canva-1.jpg
END:VEVENT
BEGIN:VEVENT
DTSTART;TZID=Europe/Dublin:20260807T093000
DTEND;TZID=Europe/Dublin:20260807T103000
DTSTAMP:20260423T164906
CREATED:20250312T224914Z
LAST-MODIFIED:20260111T123846Z
UID:10001826-1786095000-1786098600@charlestown.ie
SUMMARY:Buggy Walking Group
DESCRIPTION:
URL:https://charlestown.ie/event/new-buggy-walking-group/2026-08-07/
LOCATION:CBD Recreational Centre\, Charlestown\, Lowpark\, Charlestown\, Mayo\, Ireland
ATTACH;FMTTYPE=image/jpeg:https://charlestown.ie/wp-content/uploads/2025/03/Screenshot_20250312_195807_Canva-1.jpg
END:VEVENT
BEGIN:VEVENT
DTSTART;TZID=Europe/Dublin:20260814T093000
DTEND;TZID=Europe/Dublin:20260814T103000
DTSTAMP:20260423T164906
CREATED:20250312T224914Z
LAST-MODIFIED:20260111T123846Z
UID:10001827-1786699800-1786703400@charlestown.ie
SUMMARY:Buggy Walking Group
DESCRIPTION:
URL:https://charlestown.ie/event/new-buggy-walking-group/2026-08-14/
LOCATION:CBD Recreational Centre\, Charlestown\, Lowpark\, Charlestown\, Mayo\, Ireland
ATTACH;FMTTYPE=image/jpeg:https://charlestown.ie/wp-content/uploads/2025/03/Screenshot_20250312_195807_Canva-1.jpg
END:VEVENT
BEGIN:VEVENT
DTSTART;TZID=Europe/Dublin:20260821T093000
DTEND;TZID=Europe/Dublin:20260821T103000
DTSTAMP:20260423T164906
CREATED:20250312T224914Z
LAST-MODIFIED:20260111T123846Z
UID:10001828-1787304600-1787308200@charlestown.ie
SUMMARY:Buggy Walking Group
DESCRIPTION:
URL:https://charlestown.ie/event/new-buggy-walking-group/2026-08-21/
LOCATION:CBD Recreational Centre\, Charlestown\, Lowpark\, Charlestown\, Mayo\, Ireland
ATTACH;FMTTYPE=image/jpeg:https://charlestown.ie/wp-content/uploads/2025/03/Screenshot_20250312_195807_Canva-1.jpg
END:VEVENT
BEGIN:VEVENT
DTSTART;TZID=Europe/Dublin:20260828T093000
DTEND;TZID=Europe/Dublin:20260828T103000
DTSTAMP:20260423T164906
CREATED:20250312T224914Z
LAST-MODIFIED:20260111T123846Z
UID:10001829-1787909400-1787913000@charlestown.ie
SUMMARY:Buggy Walking Group
DESCRIPTION:
URL:https://charlestown.ie/event/new-buggy-walking-group/2026-08-28/
LOCATION:CBD Recreational Centre\, Charlestown\, Lowpark\, Charlestown\, Mayo\, Ireland
ATTACH;FMTTYPE=image/jpeg:https://charlestown.ie/wp-content/uploads/2025/03/Screenshot_20250312_195807_Canva-1.jpg
END:VEVENT
BEGIN:VEVENT
DTSTART;TZID=Europe/Dublin:20260904T093000
DTEND;TZID=Europe/Dublin:20260904T103000
DTSTAMP:20260423T164906
CREATED:20250312T224914Z
LAST-MODIFIED:20260111T123846Z
UID:10001830-1788514200-1788517800@charlestown.ie
SUMMARY:Buggy Walking Group
DESCRIPTION:
URL:https://charlestown.ie/event/new-buggy-walking-group/2026-09-04/
LOCATION:CBD Recreational Centre\, Charlestown\, Lowpark\, Charlestown\, Mayo\, Ireland
ATTACH;FMTTYPE=image/jpeg:https://charlestown.ie/wp-content/uploads/2025/03/Screenshot_20250312_195807_Canva-1.jpg
END:VEVENT
BEGIN:VEVENT
DTSTART;TZID=Europe/Dublin:20260911T093000
DTEND;TZID=Europe/Dublin:20260911T103000
DTSTAMP:20260423T164906
CREATED:20250312T224914Z
LAST-MODIFIED:20260111T123846Z
UID:10001831-1789119000-1789122600@charlestown.ie
SUMMARY:Buggy Walking Group
DESCRIPTION:
URL:https://charlestown.ie/event/new-buggy-walking-group/2026-09-11/
LOCATION:CBD Recreational Centre\, Charlestown\, Lowpark\, Charlestown\, Mayo\, Ireland
ATTACH;FMTTYPE=image/jpeg:https://charlestown.ie/wp-content/uploads/2025/03/Screenshot_20250312_195807_Canva-1.jpg
END:VEVENT
BEGIN:VEVENT
DTSTART;TZID=Europe/Dublin:20260918T093000
DTEND;TZID=Europe/Dublin:20260918T103000
DTSTAMP:20260423T164906
CREATED:20250312T224914Z
LAST-MODIFIED:20260111T123846Z
UID:10001832-1789723800-1789727400@charlestown.ie
SUMMARY:Buggy Walking Group
DESCRIPTION:
URL:https://charlestown.ie/event/new-buggy-walking-group/2026-09-18/
LOCATION:CBD Recreational Centre\, Charlestown\, Lowpark\, Charlestown\, Mayo\, Ireland
ATTACH;FMTTYPE=image/jpeg:https://charlestown.ie/wp-content/uploads/2025/03/Screenshot_20250312_195807_Canva-1.jpg
END:VEVENT
BEGIN:VEVENT
DTSTART;TZID=Europe/Dublin:20260925T093000
DTEND;TZID=Europe/Dublin:20260925T103000
DTSTAMP:20260423T164906
CREATED:20250312T224914Z
LAST-MODIFIED:20260111T123846Z
UID:10001833-1790328600-1790332200@charlestown.ie
SUMMARY:Buggy Walking Group
DESCRIPTION:
URL:https://charlestown.ie/event/new-buggy-walking-group/2026-09-25/
LOCATION:CBD Recreational Centre\, Charlestown\, Lowpark\, Charlestown\, Mayo\, Ireland
ATTACH;FMTTYPE=image/jpeg:https://charlestown.ie/wp-content/uploads/2025/03/Screenshot_20250312_195807_Canva-1.jpg
END:VEVENT
BEGIN:VEVENT
DTSTART;TZID=Europe/Dublin:20261002T093000
DTEND;TZID=Europe/Dublin:20261002T103000
DTSTAMP:20260423T164906
CREATED:20250312T224914Z
LAST-MODIFIED:20260111T123846Z
UID:10001834-1790933400-1790937000@charlestown.ie
SUMMARY:Buggy Walking Group
DESCRIPTION:
URL:https://charlestown.ie/event/new-buggy-walking-group/2026-10-02/
LOCATION:CBD Recreational Centre\, Charlestown\, Lowpark\, Charlestown\, Mayo\, Ireland
ATTACH;FMTTYPE=image/jpeg:https://charlestown.ie/wp-content/uploads/2025/03/Screenshot_20250312_195807_Canva-1.jpg
END:VEVENT
END:VCALENDAR