BEGIN:VCALENDAR
VERSION:2.0
PRODID:-//Charlestown - ECPv6.6.4.2//NONSGML v1.0//EN
CALSCALE:GREGORIAN
METHOD:PUBLISH
X-WR-CALNAME:Charlestown
X-ORIGINAL-URL:https://charlestown.ie
X-WR-CALDESC:Events for Charlestown
REFRESH-INTERVAL;VALUE=DURATION:PT1H
X-Robots-Tag:noindex
X-PUBLISHED-TTL:PT1H
BEGIN:VTIMEZONE
TZID:Europe/Dublin
BEGIN:DAYLIGHT
TZOFFSETFROM:+0000
TZOFFSETTO:+0100
TZNAME:IST
DTSTART:20230326T010000
END:DAYLIGHT
BEGIN:STANDARD
TZOFFSETFROM:+0100
TZOFFSETTO:+0000
TZNAME:GMT
DTSTART:20231029T010000
END:STANDARD
BEGIN:DAYLIGHT
TZOFFSETFROM:+0000
TZOFFSETTO:+0100
TZNAME:IST
DTSTART:20240331T010000
END:DAYLIGHT
BEGIN:STANDARD
TZOFFSETFROM:+0100
TZOFFSETTO:+0000
TZNAME:GMT
DTSTART:20241027T010000
END:STANDARD
END:VTIMEZONE
BEGIN:VEVENT
DTSTART;TZID=Europe/Dublin:20240410T190000
DTEND;TZID=Europe/Dublin:20240410T193000
DTSTAMP:20260426T040925
CREATED:20240408T170407Z
LAST-MODIFIED:20240408T185827Z
UID:10000916-1712775600-1712777400@charlestown.ie
SUMMARY:GAA U12 Spring League v Aghamore (home)
DESCRIPTION:
URL:https://charlestown.ie/event/gaa-u12-soring-league-v-aghamore-home/
LOCATION:Charlestown Sarsfields GAA grounds\, Lowpark\, Charlestown\, Co. Mayo\, Ireland
CATEGORIES:Children,Community,GAA- LGFA,Sport
ATTACH;FMTTYPE=image/jpeg:https://charlestown.ie/wp-content/uploads/2015/06/Charlestown-Aerial-View.jpg
END:VEVENT
BEGIN:VEVENT
DTSTART;TZID=Europe/Dublin:20240408T180000
DTEND;TZID=Europe/Dublin:20240408T193000
DTSTAMP:20260426T040925
CREATED:20240404T060415Z
LAST-MODIFIED:20240404T060415Z
UID:10000913-1712599200-1712604600@charlestown.ie
SUMMARY:LGFA - U14 League v Westport A (home)
DESCRIPTION:
URL:https://charlestown.ie/event/lgfa-u14-league-v-westport-a-home/
LOCATION:Charlestown Sarsfields GAA grounds\, Lowpark\, Charlestown\, Co. Mayo\, Ireland
CATEGORIES:Children,Community,GAA- LGFA,Sport
ATTACH;FMTTYPE=image/jpeg:https://charlestown.ie/wp-content/uploads/2015/06/Charlestown-Aerial-View.jpg
END:VEVENT
BEGIN:VEVENT
DTSTART;TZID=Europe/Dublin:20240407T120000
DTEND;TZID=Europe/Dublin:20240407T120000
DTSTAMP:20260426T040925
CREATED:20240402T092331Z
LAST-MODIFIED:20240402T092331Z
UID:10000911-1712491200-1712491200@charlestown.ie
SUMMARY:GAA - East Mayo Centenary Cup v Ballaghaderreen (home)
DESCRIPTION:
URL:https://charlestown.ie/event/gaa-east-mayo-centenary-cup-v-ballaghaderreen-home/
LOCATION:Fr. O’ Hara Park\, Charlestown Sarsfields GAA Club\, Lowpark\, Charlestown\, Mayo
CATEGORIES:Community,Schools,Sport
ATTACH;FMTTYPE=image/jpeg:https://charlestown.ie/wp-content/uploads/2024/04/Club-Fixture-1st-April-2024.jpg
END:VEVENT
BEGIN:VEVENT
DTSTART;TZID=Europe/Dublin:20240407T110000
DTEND;TZID=Europe/Dublin:20240407T130000
DTSTAMP:20260426T040925
CREATED:20240404T060159Z
LAST-MODIFIED:20240404T060159Z
UID:10000912-1712487600-1712494800@charlestown.ie
SUMMARY:LGFA - Senior Ladies v Burrishoole (away)
DESCRIPTION:
URL:https://charlestown.ie/event/lgfa-senior-ladies-v-burrishoole-away/
LOCATION:Mayo
CATEGORIES:GAA- LGFA,Sport
ATTACH;FMTTYPE=image/jpeg:https://charlestown.ie/wp-content/uploads/2015/06/Charlestown-Aerial-View.jpg
END:VEVENT
BEGIN:VEVENT
DTSTART;TZID=Europe/Dublin:20240406T110000
DTEND;TZID=Europe/Dublin:20240406T130000
DTSTAMP:20260426T040925
CREATED:20240405T053738Z
LAST-MODIFIED:20240405T053738Z
UID:10000914-1712401200-1712408400@charlestown.ie
SUMMARY:GAA - U14 Dev League v Burrishoole (away)
DESCRIPTION:
URL:https://charlestown.ie/event/gaa-u14-dev-league-v-burrishoole-away/
LOCATION:Mayo
CATEGORIES:GAA- LGFA,Sport
ATTACH;FMTTYPE=image/jpeg:https://charlestown.ie/wp-content/uploads/2015/06/Charlestown-Aerial-View.jpg
END:VEVENT
BEGIN:VEVENT
DTSTART;TZID=Europe/Dublin:20240402T100000
DTEND;TZID=Europe/Dublin:20240405T140000
DTSTAMP:20260426T040925
CREATED:20240318T080526Z
LAST-MODIFIED:20240318T080526Z
UID:10000895-1712052000-1712325600@charlestown.ie
SUMMARY:Charlestown AFC - Soccer Camp
DESCRIPTION:9
URL:https://charlestown.ie/event/charlestown-afc-soccer-camp/
LOCATION:Bellaghy Soccer Pitch\, Bellaghy\, Charlestown\, Mayo\, Ireland
CATEGORIES:Children,Community,Sport
ATTACH;FMTTYPE=image/jpeg:https://charlestown.ie/wp-content/uploads/2015/06/Charlestown-Aerial-View.jpg
END:VEVENT
BEGIN:VEVENT
DTSTART;VALUE=DATE:20240402
DTEND;VALUE=DATE:20240403
DTSTAMP:20260426T040925
CREATED:20240402T092015Z
LAST-MODIFIED:20240402T092015Z
UID:10000910-1712016000-1712102399@charlestown.ie
SUMMARY:GAA - Minor League Division 2 v Ballinrobe (away)
DESCRIPTION:Venue: Ballinrobe \nTime: 18:45pm
URL:https://charlestown.ie/event/gaa-minor-league-division-2-v-ballinrobe-away/
LOCATION:Mayo
CATEGORIES:Community,Schools,Sport
ATTACH;FMTTYPE=image/jpeg:https://charlestown.ie/wp-content/uploads/2024/04/Club-Fixture-1st-April-2024.jpg
END:VEVENT
BEGIN:VEVENT
DTSTART;TZID=Europe/Dublin:20240330T110000
DTEND;TZID=Europe/Dublin:20240330T110000
DTSTAMP:20260426T040925
CREATED:20240326T114308Z
LAST-MODIFIED:20240327T105452Z
UID:10000908-1711796400-1711796400@charlestown.ie
SUMMARY:GAA - U14 Division 7 v Balla (home)
DESCRIPTION:
URL:https://charlestown.ie/event/gaa-u14-division-7-v-balla-home/
LOCATION:Fr. O’ Hara Park\, Charlestown Sarsfields GAA Club\, Lowpark\, Charlestown\, Mayo
CATEGORIES:Community,Schools,Sport
ATTACH;FMTTYPE=image/jpeg:https://charlestown.ie/wp-content/uploads/2024/03/Club-Fixtures-25th-March-2024-1.jpg
END:VEVENT
BEGIN:VEVENT
DTSTART;TZID=Europe/Dublin:20240329T170000
DTEND;TZID=Europe/Dublin:20240329T170000
DTSTAMP:20260426T040925
CREATED:20240326T114103Z
LAST-MODIFIED:20240327T105525Z
UID:10000907-1711731600-1711731600@charlestown.ie
SUMMARY:GAA - East Mayo Centenary Cup v Aghamore (away)
DESCRIPTION:Venue: Aghamore
URL:https://charlestown.ie/event/gaa-east-mayo-centenary-cup-v-aghamore-away-2/
LOCATION:Mayo
CATEGORIES:Community,Sport
ATTACH;FMTTYPE=image/jpeg:https://charlestown.ie/wp-content/uploads/2024/03/Club-Fixtures-25th-March-2024-1.jpg
END:VEVENT
BEGIN:VEVENT
DTSTART;TZID=Europe/Dublin:20240328T180000
DTEND;TZID=Europe/Dublin:20240328T180000
DTSTAMP:20260426T040925
CREATED:20240326T113621Z
LAST-MODIFIED:20240327T105607Z
UID:10000906-1711648800-1711648800@charlestown.ie
SUMMARY:GAA - U16 League Division 2 v Parke/Keelogues/Crimlin (away)
DESCRIPTION:Venue: Parke
URL:https://charlestown.ie/event/gaa-u16-league-division-2-v-parke-keelogues-crimlin-away/
LOCATION:Mayo
CATEGORIES:Children,Community,Schools,Sport
ATTACH;FMTTYPE=image/jpeg:https://charlestown.ie/wp-content/uploads/2024/03/Club-Fixtures-25th-March-2024-1.jpg
END:VEVENT
BEGIN:VEVENT
DTSTART;TZID=Europe/Dublin:20240324T170000
DTEND;TZID=Europe/Dublin:20240324T190000
DTSTAMP:20260426T040925
CREATED:20240312T222231Z
LAST-MODIFIED:20240322T160247Z
UID:10000893-1711299600-1711306800@charlestown.ie
SUMMARY:LGFA - U14 League v McHale Rovers (away)
DESCRIPTION:
URL:https://charlestown.ie/event/lgfa-u14-league-v-mchale-rovers-away/
LOCATION:Mayo
CATEGORIES:Children,GAA- LGFA,Sport
ATTACH;FMTTYPE=image/jpeg:https://charlestown.ie/wp-content/uploads/2015/06/Charlestown-Aerial-View.jpg
END:VEVENT
BEGIN:VEVENT
DTSTART;TZID=Europe/Dublin:20240324T120000
DTEND;TZID=Europe/Dublin:20240324T140000
DTSTAMP:20260426T040925
CREATED:20240319T002336Z
LAST-MODIFIED:20240319T002336Z
UID:10000901-1711281600-1711288800@charlestown.ie
SUMMARY:GAA - U18 League v St Jarlaths (away)
DESCRIPTION:Sun\, 24 Mar\, Venue: Brickens\, St Jarlaths V Sarsfields Shamrocks 12:00\, Ref: Enda Nolan
URL:https://charlestown.ie/event/gaa-u18-league-v-st-jarlaths-away/
LOCATION:Mayo
CATEGORIES:Community,GAA- LGFA,Sport
ATTACH;FMTTYPE=image/jpeg:https://charlestown.ie/wp-content/uploads/2015/06/Charlestown-Aerial-View.jpg
END:VEVENT
BEGIN:VEVENT
DTSTART;TZID=Europe/Dublin:20240324T110000
DTEND;TZID=Europe/Dublin:20240324T123000
DTSTAMP:20260426T040925
CREATED:20240318T235538Z
LAST-MODIFIED:20240318T235538Z
UID:10000898-1711278000-1711283400@charlestown.ie
SUMMARY:LGFA - Memorial League Senior Ladies - Rd 1 v Moy Davitts (home)
DESCRIPTION:
URL:https://charlestown.ie/event/lgfa-memorial-league-senior-ladies-rd-1-v-moy-davitts-home/
LOCATION:Charlestown Sarsfields GAA grounds\, Lowpark\, Charlestown\, Co. Mayo\, Ireland
CATEGORIES:Community,GAA- LGFA,Sport
ATTACH;FMTTYPE=image/jpeg:https://charlestown.ie/wp-content/uploads/2015/06/Charlestown-Aerial-View.jpg
END:VEVENT
BEGIN:VEVENT
DTSTART;TZID=Europe/Dublin:20240323T160000
DTEND;TZID=Europe/Dublin:20240323T170000
DTSTAMP:20260426T040925
CREATED:20240319T002049Z
LAST-MODIFIED:20240319T002049Z
UID:10000900-1711209600-1711213200@charlestown.ie
SUMMARY:GAA - Mayo GAA County Cup Senior Men v Ballina (home)
DESCRIPTION:
URL:https://charlestown.ie/event/gaa-mayo-gaa-county-cup-senior-men-v-ballina-home/
LOCATION:Charlestown Sarsfields GAA grounds\, Lowpark\, Charlestown\, Co. Mayo\, Ireland
CATEGORIES:Community,GAA- LGFA,Sport
ATTACH;FMTTYPE=image/jpeg:https://charlestown.ie/wp-content/uploads/2015/06/Charlestown-Aerial-View.jpg
ORGANIZER;CN="Charlestown Sarsfields GAA":MAILTO:secretary.charlestown.mayo@gaa.ie
END:VEVENT
BEGIN:VEVENT
DTSTART;TZID=Europe/Dublin:20240323T110000
DTEND;TZID=Europe/Dublin:20240323T130000
DTSTAMP:20260426T040925
CREATED:20240319T000820Z
LAST-MODIFIED:20240319T000820Z
UID:10000899-1711191600-1711198800@charlestown.ie
SUMMARY:GAA - U14 (2) League - Rd 2 v Shrule (away)
DESCRIPTION:
URL:https://charlestown.ie/event/gaa-u14-2-league-rd-2-v-shrule-away/
LOCATION:Mayo
CATEGORIES:Community,GAA- LGFA,Sport
ATTACH;FMTTYPE=image/jpeg:https://charlestown.ie/wp-content/uploads/2015/06/Charlestown-Aerial-View.jpg
END:VEVENT
BEGIN:VEVENT
DTSTART;VALUE=DATE:20240318
DTEND;VALUE=DATE:20240319
DTSTAMP:20260426T040925
CREATED:20240313T074051Z
LAST-MODIFIED:20240313T074051Z
UID:10000894-1710720000-1710806399@charlestown.ie
SUMMARY:Basketball - U16 Girls Div 1 League Final v Kiltimagh (away)
DESCRIPTION:De la Salle – Castlebar
URL:https://charlestown.ie/event/basketball-u16-girls-div-1-league-final-v-kiltimagh-away/
LOCATION:Mayo
CATEGORIES:Basketball,Children,Community,Sport
ATTACH;FMTTYPE=image/jpeg:https://charlestown.ie/wp-content/uploads/2015/06/Charlestown-Aerial-View.jpg
END:VEVENT
BEGIN:VEVENT
DTSTART;TZID=Europe/Dublin:20240317T110000
DTEND;TZID=Europe/Dublin:20240317T110000
DTSTAMP:20260426T040925
CREATED:20240312T141815Z
LAST-MODIFIED:20240312T141815Z
UID:10000892-1710673200-1710673200@charlestown.ie
SUMMARY:GAA - Minor League Division 2 v Ballina Stephenities (home)
DESCRIPTION:
URL:https://charlestown.ie/event/gaa-minor-league-division-2-v-ballina-stephenities-home/
LOCATION:Fr. O’ Hara Park\, Charlestown Sarsfields GAA Club\, Lowpark\, Charlestown\, Mayo
CATEGORIES:Community,Schools,Sport
ATTACH;FMTTYPE=image/jpeg:https://charlestown.ie/wp-content/uploads/2015/06/Charlestown-Aerial-View.jpg
END:VEVENT
BEGIN:VEVENT
DTSTART;TZID=Europe/Dublin:20240316T160000
DTEND;TZID=Europe/Dublin:20240316T160000
DTSTAMP:20260426T040925
CREATED:20240312T135834Z
LAST-MODIFIED:20240312T135834Z
UID:10000891-1710604800-1710604800@charlestown.ie
SUMMARY:GAA - East Mayo Centenary Cup v Aghamore (away)
DESCRIPTION:Venue: Aghamore
URL:https://charlestown.ie/event/gaa-east-mayo-centenary-cup-v-aghamore-away/
LOCATION:Mayo
CATEGORIES:Children,Community,Schools,Sport
ATTACH;FMTTYPE=image/jpeg:https://charlestown.ie/wp-content/uploads/2015/06/Charlestown-Aerial-View.jpg
END:VEVENT
BEGIN:VEVENT
DTSTART;TZID=Europe/Dublin:20240316T110000
DTEND;TZID=Europe/Dublin:20240316T110000
DTSTAMP:20260426T040925
CREATED:20240312T134650Z
LAST-MODIFIED:20240312T134650Z
UID:10000890-1710586800-1710586800@charlestown.ie
SUMMARY:GAA - U16 Division 2 v Breaffy (home)
DESCRIPTION:
URL:https://charlestown.ie/event/gaa-u16-division-2-v-breaffy-home/
LOCATION:Fr. O’ Hara Park\, Charlestown Sarsfields GAA Club\, Lowpark\, Charlestown\, Mayo
CATEGORIES:Children,Community,Schools,Sport
ATTACH;FMTTYPE=image/jpeg:https://charlestown.ie/wp-content/uploads/2015/06/Charlestown-Aerial-View.jpg
END:VEVENT
BEGIN:VEVENT
DTSTART;TZID=Europe/Dublin:20240316T110000
DTEND;TZID=Europe/Dublin:20240316T110000
DTSTAMP:20260426T040925
CREATED:20240312T123708Z
LAST-MODIFIED:20240312T134708Z
UID:10000889-1710586800-1710586800@charlestown.ie
SUMMARY:GAA - U14 Development League v Ballintubber (away)
DESCRIPTION:Venue: Ray Prendergast Memorial Park\, Ballintubber.
URL:https://charlestown.ie/event/gaa-u-14-development-league-v-ballintubber-away/
LOCATION:Mayo
CATEGORIES:Children,Community,Schools,Sport
ATTACH;FMTTYPE=image/jpeg:https://charlestown.ie/wp-content/uploads/2015/06/Charlestown-Aerial-View.jpg
END:VEVENT
BEGIN:VEVENT
DTSTART;TZID=Europe/Dublin:20240309T190000
DTEND;TZID=Europe/Dublin:20240309T200000
DTSTAMP:20260426T040925
CREATED:20240131T204937Z
LAST-MODIFIED:20240131T204937Z
UID:10000866-1710010800-1710014400@charlestown.ie
SUMMARY:Charlestown Sarsfields GAA & LGFA Annual Dinner Dance 2024
DESCRIPTION:
URL:https://charlestown.ie/event/charlestown-sarsfields-gaa-lgfa-annual-dinner-dance-2024/
LOCATION:Mayo
CATEGORIES:Community,GAA- LGFA,Sport
END:VEVENT
BEGIN:VEVENT
DTSTART;TZID=Europe/Dublin:20240309T120000
DTEND;TZID=Europe/Dublin:20240309T170000
DTSTAMP:20260426T040925
CREATED:20240224T211522Z
LAST-MODIFIED:20240225T165717Z
UID:10000884-1709985600-1710003600@charlestown.ie
SUMMARY:Aussie Rules Masters 2024
DESCRIPTION:On Saturday March 09th the Irish Masters Team will take on the AFL Australian Masters Team in the Men’s over 40’s\, Ladies over 40’s and the Mens over 50’s. Promises to be three brilliant games. \n  \nThe 1st Series will take place in Charlestown Sarsfields GAA Club on Saturday 09th March.
URL:https://charlestown.ie/event/aussie-rules-masters-2024/
LOCATION:Charlestown Sarsfields GAA grounds\, Lowpark\, Charlestown\, Co. Mayo\, Ireland
CATEGORIES:Community,Sport
END:VEVENT
BEGIN:VEVENT
DTSTART;TZID=Europe/Dublin:20240309T090000
DTEND;TZID=Europe/Dublin:20240309T120000
DTSTAMP:20260426T040925
CREATED:20240304T181029Z
LAST-MODIFIED:20240304T181029Z
UID:10000888-1709974800-1709985600@charlestown.ie
SUMMARY:Basketball U12 Boys Blitz (home)
DESCRIPTION:
URL:https://charlestown.ie/event/basketball-u12-boys-blitz-home/
LOCATION:Charlestown Sarsfields GAA grounds\, Lowpark\, Charlestown\, Co. Mayo\, Ireland
CATEGORIES:Basketball,Community,Sport
ATTACH;FMTTYPE=image/jpeg:https://charlestown.ie/wp-content/uploads/2015/06/Charlestown-Aerial-View.jpg
END:VEVENT
BEGIN:VEVENT
DTSTART;TZID=Europe/Dublin:20240211T133000
DTEND;TZID=Europe/Dublin:20240211T150000
DTSTAMP:20260426T040925
CREATED:20240131T205750Z
LAST-MODIFIED:20240131T205750Z
UID:10000869-1707658200-1707663600@charlestown.ie
SUMMARY:Basketball U16 Boys Plate Final v Castlebar (away)
DESCRIPTION:
URL:https://charlestown.ie/event/basketball-u16-boys-plate-final-v-castlebar-away/
LOCATION:Mayo
CATEGORIES:Basketball,Sport
END:VEVENT
BEGIN:VEVENT
DTSTART;TZID=Europe/Dublin:20240211T120000
DTEND;TZID=Europe/Dublin:20240211T150000
DTSTAMP:20260426T040925
CREATED:20240206T174438Z
LAST-MODIFIED:20240206T174438Z
UID:10000874-1707652800-1707663600@charlestown.ie
SUMMARY:Basketball - U12 Girls Blitz (home)
DESCRIPTION:
URL:https://charlestown.ie/event/basketball-u12-girls-blitz-home/
LOCATION:CBD Recreational Centre\, Charlestown\, Lowpark\, Charlestown\, Mayo\, Ireland
CATEGORIES:Basketball,Children,Sport
END:VEVENT
BEGIN:VEVENT
DTSTART;TZID=Europe/Dublin:20240210T140000
DTEND;TZID=Europe/Dublin:20240210T150000
DTSTAMP:20260426T040925
CREATED:20240131T205456Z
LAST-MODIFIED:20240131T205456Z
UID:10000868-1707573600-1707577200@charlestown.ie
SUMMARY:Basketball U14 Girls Plate Final v Ballinrobe (away)
DESCRIPTION:
URL:https://charlestown.ie/event/basketball-u14-girls-plate-final-v-ballinrobe-away/
LOCATION:Mayo
CATEGORIES:Basketball,Sport
END:VEVENT
BEGIN:VEVENT
DTSTART;TZID=Europe/Dublin:20240207T190000
DTEND;TZID=Europe/Dublin:20240207T200000
DTSTAMP:20260426T040925
CREATED:20240206T174310Z
LAST-MODIFIED:20240206T174310Z
UID:10000873-1707332400-1707336000@charlestown.ie
SUMMARY:Basketball U14 Boys v Kiltimagh (home)
DESCRIPTION:
URL:https://charlestown.ie/event/basketball-u14-boys-v-kiltimagh-home/
LOCATION:CBD Recreational Centre\, Charlestown\, Lowpark\, Charlestown\, Mayo\, Ireland
CATEGORIES:Basketball,Sport
END:VEVENT
BEGIN:VEVENT
DTSTART;TZID=Europe/Dublin:20240203T093000
DTEND;TZID=Europe/Dublin:20240203T110000
DTSTAMP:20260426T040925
CREATED:20240131T205159Z
LAST-MODIFIED:20240131T205159Z
UID:10000867-1706952600-1706958000@charlestown.ie
SUMMARY:Basketball - U14 Girls Cup Final v Ballintubber (away)
DESCRIPTION:
URL:https://charlestown.ie/event/basketball-u14-girls-cup-final-v-ballintubber-away/
LOCATION:Mayo
CATEGORIES:Basketball,Sport
END:VEVENT
BEGIN:VEVENT
DTSTART;TZID=Europe/Dublin:20240104T080000
DTEND;TZID=Europe/Dublin:20240313T110000
DTSTAMP:20260426T040925
CREATED:20230913T182337Z
LAST-MODIFIED:20240313T072046Z
UID:10000758-1704355200-1710327600@charlestown.ie
SUMMARY:Charlestown Activities Timetable 2024
DESCRIPTION:
URL:https://charlestown.ie/event/charlestown-activities-timetable/
LOCATION:Various venues in Charlestown
CATEGORIES:Basketball,Children,Community,Family Event,GAA- LGFA,Schools,Sport
ATTACH;FMTTYPE=image/jpeg:https://charlestown.ie/wp-content/uploads/2015/06/Charlestown-Aerial-View.jpg
END:VEVENT
BEGIN:VEVENT
DTSTART;TZID=Europe/Dublin:20231226T113000
DTEND;TZID=Europe/Dublin:20231226T140000
DTSTAMP:20260426T040925
CREATED:20231221T174652Z
LAST-MODIFIED:20231221T174652Z
UID:10000837-1703590200-1703599200@charlestown.ie
SUMMARY:Annual Michael Byrnes Memorial Game
DESCRIPTION:  \nThis St Stephen’s morning\, we are delighted to be be able to once again host the Annual Michael Byrnes Memorial Game. \nTo the start the day the day our senior ladies and newly formed Gaelic 4 Mothers and Others will take part in a small sided game at 11:45! \nFollowing this\, the men of the town (old\, young\,  everyone in between) will take to the field\, in what is a much anticipated game! Who will take home the Michael Byrnes Trophy this year\, the ‘overs’ or the ‘unders’?!? \nThis year all donations and proceeds on the day will be going directly to a very important cause: the Charlestown branch of St Vincent de Paul! Your support would be greatly appreciated. \nWe hope to see you all for an exciting feast of football!
URL:https://charlestown.ie/event/annual-michael-byrnes-memorial-game/
LOCATION:Charlestown Sarsfields GAA grounds\, Lowpark\, Charlestown\, Co. Mayo\, Ireland
CATEGORIES:Community,Family Event,GAA- LGFA,Sport
END:VEVENT
END:VCALENDAR