BEGIN:VCALENDAR
VERSION:2.0
PRODID:-//Charlestown - ECPv6.6.4.2//NONSGML v1.0//EN
CALSCALE:GREGORIAN
METHOD:PUBLISH
X-ORIGINAL-URL:https://charlestown.ie
X-WR-CALDESC:Events for Charlestown
REFRESH-INTERVAL;VALUE=DURATION:PT1H
X-Robots-Tag:noindex
X-PUBLISHED-TTL:PT1H
BEGIN:VTIMEZONE
TZID:Europe/Dublin
BEGIN:DAYLIGHT
TZOFFSETFROM:+0000
TZOFFSETTO:+0100
TZNAME:IST
DTSTART:20250330T010000
END:DAYLIGHT
BEGIN:STANDARD
TZOFFSETFROM:+0100
TZOFFSETTO:+0000
TZNAME:GMT
DTSTART:20251026T010000
END:STANDARD
END:VTIMEZONE
BEGIN:VEVENT
DTSTART;TZID=Europe/Dublin:20250801T190000
DTEND;TZID=Europe/Dublin:20250801T203000
DTSTAMP:20260426T035420
CREATED:20250801T190943Z
LAST-MODIFIED:20250801T190943Z
UID:10002127-1754074800-1754080200@charlestown.ie
SUMMARY:Soccer - U14 Shield v Conn Rangers (away)
DESCRIPTION:
URL:https://charlestown.ie/event/soccer-u14-shield-v-conn-rangers-away/
CATEGORIES:Soccer
ATTACH;FMTTYPE=image/jpeg:https://charlestown.ie/wp-content/uploads/2021/04/soccer-490669_640.jpg
END:VEVENT
BEGIN:VEVENT
DTSTART;TZID=Europe/Dublin:20250806T190000
DTEND;TZID=Europe/Dublin:20250806T203000
DTSTAMP:20260426T035420
CREATED:20250801T191156Z
LAST-MODIFIED:20250801T191156Z
UID:10002129-1754506800-1754512200@charlestown.ie
SUMMARY:Soccer - U14 2B League v Castlebar F.C (home)
DESCRIPTION:
URL:https://charlestown.ie/event/soccer-u14-2b-league-v-castlebar-f-c-home/
LOCATION:Bellaghy Soccer Pitch\, Bellaghy\, Charlestown\, Mayo\, Ireland
CATEGORIES:Soccer
ATTACH;FMTTYPE=image/jpeg:https://charlestown.ie/wp-content/uploads/2021/04/soccer-490669_640.jpg
END:VEVENT
BEGIN:VEVENT
DTSTART;TZID=Europe/Dublin:20250820T180000
DTEND;TZID=Europe/Dublin:20250820T193000
DTSTAMP:20260426T035420
CREATED:20250819T200702Z
LAST-MODIFIED:20250819T201125Z
UID:10002150-1755712800-1755718200@charlestown.ie
SUMMARY:Soccer - U14 Div 2B v Swinford (home)
DESCRIPTION:
URL:https://charlestown.ie/event/soccer-u14-div-2b-v-swinford-home/
LOCATION:Bellaghy Soccer Pitch\, Bellaghy\, Charlestown\, Mayo\, Ireland
CATEGORIES:Soccer
ATTACH;FMTTYPE=image/jpeg:https://charlestown.ie/wp-content/uploads/2021/04/soccer-490669_640.jpg
END:VEVENT
BEGIN:VEVENT
DTSTART;TZID=Europe/Dublin:20250820T193000
DTEND;TZID=Europe/Dublin:20250820T203000
DTSTAMP:20260426T035420
CREATED:20250819T201026Z
LAST-MODIFIED:20250819T201026Z
UID:10002151-1755718200-1755721800@charlestown.ie
SUMMARY:Soccer - U14 Div 5B v Claremorris F(home)
DESCRIPTION:
URL:https://charlestown.ie/event/soccer-u14-div-5b-v-claremorris-fhome/
LOCATION:Bellaghy Soccer Pitch\, Bellaghy\, Charlestown\, Mayo\, Ireland
CATEGORIES:Soccer
ATTACH;FMTTYPE=image/jpeg:https://charlestown.ie/wp-content/uploads/2021/04/soccer-490669_640.jpg
END:VEVENT
BEGIN:VEVENT
DTSTART;TZID=Europe/Dublin:20250827T190000
DTEND;TZID=Europe/Dublin:20250827T203000
DTSTAMP:20260426T035420
CREATED:20250819T201325Z
LAST-MODIFIED:20250819T201325Z
UID:10002152-1756321200-1756326600@charlestown.ie
SUMMARY:Soccer - U14 Div 2B v Ballyglass(home)
DESCRIPTION:
URL:https://charlestown.ie/event/soccer-u14-div-2b-v-ballyglasshome/
LOCATION:Bellaghy Soccer Pitch\, Bellaghy\, Charlestown\, Mayo\, Ireland
CATEGORIES:Soccer
ATTACH;FMTTYPE=image/jpeg:https://charlestown.ie/wp-content/uploads/2021/04/soccer-490669_640.jpg
END:VEVENT
END:VCALENDAR