BEGIN:VCALENDAR
VERSION:2.0
PRODID:-//Charlestown - ECPv6.6.4.2//NONSGML v1.0//EN
CALSCALE:GREGORIAN
METHOD:PUBLISH
X-WR-CALNAME:Charlestown
X-ORIGINAL-URL:https://charlestown.ie
X-WR-CALDESC:Events for Charlestown
REFRESH-INTERVAL;VALUE=DURATION:PT1H
X-Robots-Tag:noindex
X-PUBLISHED-TTL:PT1H
BEGIN:VTIMEZONE
TZID:Europe/Dublin
BEGIN:DAYLIGHT
TZOFFSETFROM:+0000
TZOFFSETTO:+0100
TZNAME:IST
DTSTART:20230326T010000
END:DAYLIGHT
BEGIN:STANDARD
TZOFFSETFROM:+0100
TZOFFSETTO:+0000
TZNAME:GMT
DTSTART:20231029T010000
END:STANDARD
BEGIN:DAYLIGHT
TZOFFSETFROM:+0000
TZOFFSETTO:+0100
TZNAME:IST
DTSTART:20240331T010000
END:DAYLIGHT
BEGIN:STANDARD
TZOFFSETFROM:+0100
TZOFFSETTO:+0000
TZNAME:GMT
DTSTART:20241027T010000
END:STANDARD
END:VTIMEZONE
BEGIN:VEVENT
DTSTART;TZID=Europe/Dublin:20240422T190000
DTEND;TZID=Europe/Dublin:20240422T190000
DTSTAMP:20260424T105415
CREATED:20240416T122239Z
LAST-MODIFIED:20240416T122239Z
UID:10000929-1713812400-1713812400@charlestown.ie
SUMMARY:GAA U14 Division 3 v Belmullet (home)
DESCRIPTION:
URL:https://charlestown.ie/event/gaa-u14-division-3-v-belmullet-home/
LOCATION:Fr. O’ Hara Park\, Charlestown Sarsfields GAA Club\, Lowpark\, Charlestown\, Mayo
CATEGORIES:Community,Schools,Sport
ATTACH;FMTTYPE=image/jpeg:https://charlestown.ie/wp-content/uploads/2015/06/Charlestown-Aerial-View.jpg
END:VEVENT
BEGIN:VEVENT
DTSTART;TZID=Europe/Dublin:20240419T203000
DTEND;TZID=Europe/Dublin:20240419T203000
DTSTAMP:20260424T105415
CREATED:20240416T115904Z
LAST-MODIFIED:20240416T115904Z
UID:10000923-1713558600-1713558600@charlestown.ie
SUMMARY:GAA - East Mayo Centenary Cup v Ballyhaunis (away)
DESCRIPTION:Venue: Connacht GAA Centre
URL:https://charlestown.ie/event/gaa-east-mayo-centenary-cup-v-ballyhaunis-away/
CATEGORIES:Community,Schools,Sport
ATTACH;FMTTYPE=image/jpeg:https://charlestown.ie/wp-content/uploads/2024/04/Club-Fixture-15th-April-2024.jpg
END:VEVENT
BEGIN:VEVENT
DTSTART;TZID=Europe/Dublin:20240418T190000
DTEND;TZID=Europe/Dublin:20240418T190000
DTSTAMP:20260424T105415
CREATED:20240416T121158Z
LAST-MODIFIED:20240416T121217Z
UID:10000926-1713466800-1713466800@charlestown.ie
SUMMARY:GAA - U14  Division 7 v Carras (away)
DESCRIPTION:Venue: Kilmaine GAA
URL:https://charlestown.ie/event/gaa-u14-division-7-v-carras-away/
CATEGORIES:Community,Schools,Sport
ATTACH;FMTTYPE=image/jpeg:https://charlestown.ie/wp-content/uploads/2015/06/Charlestown-Aerial-View.jpg
END:VEVENT
BEGIN:VEVENT
DTSTART;TZID=Europe/Dublin:20240418T190000
DTEND;TZID=Europe/Dublin:20240418T190000
DTSTAMP:20260424T105415
CREATED:20240416T120630Z
LAST-MODIFIED:20240416T120952Z
UID:10000925-1713466800-1713466800@charlestown.ie
SUMMARY:GAA -  U16 Division 2 v Ardnaree Sarsfields (home)
DESCRIPTION:
URL:https://charlestown.ie/event/gaa-u16-division-2-v-ardnaree-sarsfields-home/
LOCATION:Fr. O’ Hara Park\, Charlestown Sarsfields GAA Club\, Lowpark\, Charlestown\, Mayo
CATEGORIES:Community,Schools,Sport
ATTACH;FMTTYPE=image/jpeg:https://charlestown.ie/wp-content/uploads/2024/04/Club-Fixture-15th-April-2024.jpg
END:VEVENT
BEGIN:VEVENT
DTSTART;TZID=Europe/Dublin:20240417T190000
DTEND;TZID=Europe/Dublin:20240417T190000
DTSTAMP:20260424T105415
CREATED:20240416T121528Z
LAST-MODIFIED:20240416T121528Z
UID:10000927-1713380400-1713380400@charlestown.ie
SUMMARY:GAA - U12 Spring League v Swinford (away)
DESCRIPTION:Venue: Robert McCallion Memorial Pitch
URL:https://charlestown.ie/event/gaa-u12-spring-league-v-swinford-away-2/
CATEGORIES:Children,Community,Schools,Sport
ATTACH;FMTTYPE=image/jpeg:https://charlestown.ie/wp-content/uploads/2024/04/Club-Fixture-15th-April-2024.jpg
END:VEVENT
BEGIN:VEVENT
DTSTART;TZID=Europe/Dublin:20240416T190000
DTEND;TZID=Europe/Dublin:20240416T190000
DTSTAMP:20260424T105415
CREATED:20240416T120244Z
LAST-MODIFIED:20240416T121706Z
UID:10000924-1713294000-1713294000@charlestown.ie
SUMMARY:GAA - Minor League Division 2 v Carras (away)
DESCRIPTION:Venue: Garrymore
URL:https://charlestown.ie/event/gaa-mfl-division-2-v-carras/
CATEGORIES:Community,Schools,Sport
ATTACH;FMTTYPE=image/jpeg:https://charlestown.ie/wp-content/uploads/2015/06/Charlestown-Aerial-View.jpg
END:VEVENT
BEGIN:VEVENT
DTSTART;TZID=Europe/Dublin:20240407T120000
DTEND;TZID=Europe/Dublin:20240407T120000
DTSTAMP:20260424T105415
CREATED:20240402T092331Z
LAST-MODIFIED:20240402T092331Z
UID:10000911-1712491200-1712491200@charlestown.ie
SUMMARY:GAA - East Mayo Centenary Cup v Ballaghaderreen (home)
DESCRIPTION:
URL:https://charlestown.ie/event/gaa-east-mayo-centenary-cup-v-ballaghaderreen-home/
LOCATION:Fr. O’ Hara Park\, Charlestown Sarsfields GAA Club\, Lowpark\, Charlestown\, Mayo
CATEGORIES:Community,Schools,Sport
ATTACH;FMTTYPE=image/jpeg:https://charlestown.ie/wp-content/uploads/2024/04/Club-Fixture-1st-April-2024.jpg
END:VEVENT
BEGIN:VEVENT
DTSTART;VALUE=DATE:20240402
DTEND;VALUE=DATE:20240403
DTSTAMP:20260424T105415
CREATED:20240402T092015Z
LAST-MODIFIED:20240402T092015Z
UID:10000910-1712016000-1712102399@charlestown.ie
SUMMARY:GAA - Minor League Division 2 v Ballinrobe (away)
DESCRIPTION:Venue: Ballinrobe \nTime: 18:45pm
URL:https://charlestown.ie/event/gaa-minor-league-division-2-v-ballinrobe-away/
CATEGORIES:Community,Schools,Sport
ATTACH;FMTTYPE=image/jpeg:https://charlestown.ie/wp-content/uploads/2024/04/Club-Fixture-1st-April-2024.jpg
END:VEVENT
BEGIN:VEVENT
DTSTART;TZID=Europe/Dublin:20240331T130000
DTEND;TZID=Europe/Dublin:20240331T130000
DTSTAMP:20260424T105415
CREATED:20240325T222009Z
LAST-MODIFIED:20240325T224246Z
UID:10000905-1711890000-1711890000@charlestown.ie
SUMMARY:Easter Bake Sale
DESCRIPTION:  \nCharlestown Foróige 3rd year group are hosting a Bake Sale after 12 noon Mass on Easter Sunday\, 31st March. \nPlease support.
URL:https://charlestown.ie/event/easter-bake-sale/
LOCATION:St James Church\, Charlestown\, Church St\, Charlestown\, Co Mayo\, Ireland
CATEGORIES:Children,Community,Easter,Family Event,Schools
ATTACH;FMTTYPE=image/jpeg:https://charlestown.ie/wp-content/uploads/2024/03/Easter-Bake-Sale.jpg
END:VEVENT
BEGIN:VEVENT
DTSTART;TZID=Europe/Dublin:20240331T130000
DTEND;TZID=Europe/Dublin:20240331T130000
DTSTAMP:20260424T105415
CREATED:20240325T220726Z
LAST-MODIFIED:20240325T224455Z
UID:10000904-1711890000-1711890000@charlestown.ie
SUMMARY:Easter Duck Race
DESCRIPTION:  \nDucks are available to purchase by clicking on the link below or in businesses around Charlestown. \nhttps://l.facebook.com/l.php?u=https%3A%2F%2Fgofund.me%2F9df4fe23%3Ffbclid%3DIwAR3ieuqalmagHzDXaFSRcRScsz0P6Gf-LaDOMEVQcHMyjv28C2BJ2_3UtUI_aem_ATTefskLIstik8NfcKYSsxHIc1f1GyeAKW8N0ZiRmjlYadw13vVjoyFOT0iNXfkj-NllQvbhqmNPxbp3EZnjm6m_&h=AT0WjP_0LEG41l3FEtv1guVj9EDQGy4ScBFAvmsAy_hTvjibcQ9L6b8PrGO6SDmHWEKJfropjDgUBed0pj0_4kMxclkeiUrQkV3L9P8tKUcoJxWPHJFOo4gPssqIxtBh3e-gmw \nCost: €5 per duck or €20 for 5 ducks. \nA donation will be made to Mayo Roscommon Hospice with the proceeds.
URL:https://charlestown.ie/event/easter-duck-race/
CATEGORIES:Community,Easter,Family Event,Fundraiser,Schools
ATTACH;FMTTYPE=image/jpeg:https://charlestown.ie/wp-content/uploads/2024/03/Easter-Duck-Race.jpg
END:VEVENT
BEGIN:VEVENT
DTSTART;TZID=Europe/Dublin:20240330T110000
DTEND;TZID=Europe/Dublin:20240330T110000
DTSTAMP:20260424T105415
CREATED:20240326T114308Z
LAST-MODIFIED:20240327T105452Z
UID:10000908-1711796400-1711796400@charlestown.ie
SUMMARY:GAA - U14 Division 7 v Balla (home)
DESCRIPTION:
URL:https://charlestown.ie/event/gaa-u14-division-7-v-balla-home/
LOCATION:Fr. O’ Hara Park\, Charlestown Sarsfields GAA Club\, Lowpark\, Charlestown\, Mayo
CATEGORIES:Community,Schools,Sport
ATTACH;FMTTYPE=image/jpeg:https://charlestown.ie/wp-content/uploads/2024/03/Club-Fixtures-25th-March-2024-1.jpg
END:VEVENT
BEGIN:VEVENT
DTSTART;TZID=Europe/Dublin:20240328T180000
DTEND;TZID=Europe/Dublin:20240328T180000
DTSTAMP:20260424T105415
CREATED:20240326T113621Z
LAST-MODIFIED:20240327T105607Z
UID:10000906-1711648800-1711648800@charlestown.ie
SUMMARY:GAA - U16 League Division 2 v Parke/Keelogues/Crimlin (away)
DESCRIPTION:Venue: Parke
URL:https://charlestown.ie/event/gaa-u16-league-division-2-v-parke-keelogues-crimlin-away/
CATEGORIES:Children,Community,Schools,Sport
ATTACH;FMTTYPE=image/jpeg:https://charlestown.ie/wp-content/uploads/2024/03/Club-Fixtures-25th-March-2024-1.jpg
END:VEVENT
BEGIN:VEVENT
DTSTART;TZID=Europe/Dublin:20240317T110000
DTEND;TZID=Europe/Dublin:20240317T110000
DTSTAMP:20260424T105415
CREATED:20240312T141815Z
LAST-MODIFIED:20240312T141815Z
UID:10000892-1710673200-1710673200@charlestown.ie
SUMMARY:GAA - Minor League Division 2 v Ballina Stephenities (home)
DESCRIPTION:
URL:https://charlestown.ie/event/gaa-minor-league-division-2-v-ballina-stephenities-home/
LOCATION:Fr. O’ Hara Park\, Charlestown Sarsfields GAA Club\, Lowpark\, Charlestown\, Mayo
CATEGORIES:Community,Schools,Sport
ATTACH;FMTTYPE=image/jpeg:https://charlestown.ie/wp-content/uploads/2015/06/Charlestown-Aerial-View.jpg
END:VEVENT
BEGIN:VEVENT
DTSTART;TZID=Europe/Dublin:20240316T160000
DTEND;TZID=Europe/Dublin:20240316T160000
DTSTAMP:20260424T105415
CREATED:20240312T135834Z
LAST-MODIFIED:20240312T135834Z
UID:10000891-1710604800-1710604800@charlestown.ie
SUMMARY:GAA - East Mayo Centenary Cup v Aghamore (away)
DESCRIPTION:Venue: Aghamore
URL:https://charlestown.ie/event/gaa-east-mayo-centenary-cup-v-aghamore-away/
CATEGORIES:Children,Community,Schools,Sport
ATTACH;FMTTYPE=image/jpeg:https://charlestown.ie/wp-content/uploads/2015/06/Charlestown-Aerial-View.jpg
END:VEVENT
BEGIN:VEVENT
DTSTART;TZID=Europe/Dublin:20240316T110000
DTEND;TZID=Europe/Dublin:20240316T110000
DTSTAMP:20260424T105415
CREATED:20240312T134650Z
LAST-MODIFIED:20240312T134650Z
UID:10000890-1710586800-1710586800@charlestown.ie
SUMMARY:GAA - U16 Division 2 v Breaffy (home)
DESCRIPTION:
URL:https://charlestown.ie/event/gaa-u16-division-2-v-breaffy-home/
LOCATION:Fr. O’ Hara Park\, Charlestown Sarsfields GAA Club\, Lowpark\, Charlestown\, Mayo
CATEGORIES:Children,Community,Schools,Sport
ATTACH;FMTTYPE=image/jpeg:https://charlestown.ie/wp-content/uploads/2015/06/Charlestown-Aerial-View.jpg
END:VEVENT
BEGIN:VEVENT
DTSTART;TZID=Europe/Dublin:20240316T110000
DTEND;TZID=Europe/Dublin:20240316T110000
DTSTAMP:20260424T105415
CREATED:20240312T123708Z
LAST-MODIFIED:20240312T134708Z
UID:10000889-1710586800-1710586800@charlestown.ie
SUMMARY:GAA - U14 Development League v Ballintubber (away)
DESCRIPTION:Venue: Ray Prendergast Memorial Park\, Ballintubber.
URL:https://charlestown.ie/event/gaa-u-14-development-league-v-ballintubber-away/
CATEGORIES:Children,Community,Schools,Sport
ATTACH;FMTTYPE=image/jpeg:https://charlestown.ie/wp-content/uploads/2015/06/Charlestown-Aerial-View.jpg
END:VEVENT
BEGIN:VEVENT
DTSTART;TZID=Europe/Dublin:20240104T080000
DTEND;TZID=Europe/Dublin:20240313T110000
DTSTAMP:20260424T105415
CREATED:20230913T182337Z
LAST-MODIFIED:20240313T072046Z
UID:10000758-1704355200-1710327600@charlestown.ie
SUMMARY:Charlestown Activities Timetable 2024
DESCRIPTION:
URL:https://charlestown.ie/event/charlestown-activities-timetable/
LOCATION:Various venues in Charlestown
CATEGORIES:Basketball,Children,Community,Family Event,GAA- LGFA,Schools,Sport
ATTACH;FMTTYPE=image/jpeg:https://charlestown.ie/wp-content/uploads/2015/06/Charlestown-Aerial-View.jpg
END:VEVENT
BEGIN:VEVENT
DTSTART;TZID=Europe/Dublin:20231216T100000
DTEND;TZID=Europe/Dublin:20231216T110000
DTSTAMP:20260424T105415
CREATED:20231213T200753Z
LAST-MODIFIED:20231213T200753Z
UID:10000834-1702720800-1702724400@charlestown.ie
SUMMARY:East Mayo A.C - Santa Dash
DESCRIPTION:  \n10am \nCar Park behind Centra\, Bellaghy \n 
URL:https://charlestown.ie/event/east-mayo-a-c-santa-dash/
CATEGORIES:Children,Community,Family Event,Schools
END:VEVENT
BEGIN:VEVENT
DTSTART;TZID=Europe/Dublin:20231209T180000
DTEND;TZID=Europe/Dublin:20231209T190000
DTSTAMP:20260424T105415
CREATED:20231205T123030Z
LAST-MODIFIED:20231205T123030Z
UID:10000829-1702144800-1702148400@charlestown.ie
SUMMARY:Bellaghy Christmas Tree Lighting Ceremony
DESCRIPTION:
URL:https://charlestown.ie/event/bellaghy-christmas-tree-lighting-ceremony/
LOCATION:Bellaghy\, Bellaghy\, Charlestown\, Co. Sligo\, Ireland
CATEGORIES:Children,Christmas,Community,Family Event,Schools
END:VEVENT
BEGIN:VEVENT
DTSTART;TZID=Europe/Dublin:20231208T180000
DTEND;TZID=Europe/Dublin:20231208T180000
DTSTAMP:20260424T105415
CREATED:20231205T122137Z
LAST-MODIFIED:20231205T122453Z
UID:10000828-1702058400-1702058400@charlestown.ie
SUMMARY:Charlestown Christmas Tree Lighting Ceremony
DESCRIPTION:
URL:https://charlestown.ie/event/8078/
LOCATION:Market Square\, Market Square\, Charlestown\, Mayo\, Ireland
CATEGORIES:Children,Christmas,Community,Family Event,Schools
END:VEVENT
BEGIN:VEVENT
DTSTART;TZID=Europe/Dublin:20230911T080000
DTEND;TZID=Europe/Dublin:20230911T170000
DTSTAMP:20260424T105415
CREATED:20230911T161250Z
LAST-MODIFIED:20230911T161533Z
UID:10000757-1694419200-1694451600@charlestown.ie
SUMMARY:Charlestown Activities List 2023/24 - Click here
DESCRIPTION:An up to date list of Activies currently happening in Charlestown.  \nIf any activity is missing \, please email info@charlestown.ie
URL:https://charlestown.ie/event/charlestown-activities-2023-24-click-here/
CATEGORIES:Adult Sport,Basketball,Children,Community,Family Event,GAA- LGFA,Schools,Sport
END:VEVENT
BEGIN:VEVENT
DTSTART;TZID=Europe/Dublin:20230909T140000
DTEND;TZID=Europe/Dublin:20230909T140000
DTSTAMP:20260424T105415
CREATED:20230824T120319Z
LAST-MODIFIED:20230824T120319Z
UID:10000738-1694268000-1694268000@charlestown.ie
SUMMARY:Drive It On Truck Run
DESCRIPTION:Drive It On Truck Run in aid of Autism Classes in St. Attracta’s National School\, Charlestown & Tarmon National School\, Castlerea. \n\n  \nStarting & Finishing Point: Ballaghaderreen Business Park
URL:https://charlestown.ie/event/drive-it-on-truck-run/
CATEGORIES:Children,Community,Family Event,Fundraiser,Schools
END:VEVENT
BEGIN:VEVENT
DTSTART;VALUE=DATE:20230813
DTEND;VALUE=DATE:20230814
DTSTAMP:20260424T105415
CREATED:20230606T110033Z
LAST-MODIFIED:20230725T094459Z
UID:10000639-1691884800-1691971199@charlestown.ie
SUMMARY:Charlestown "Eugene McLoughlin" Memorial Run
DESCRIPTION:  \n 
URL:https://charlestown.ie/event/charlestown-eugene-mcloughlin-memorial-run/
CATEGORIES:Annual Run,Children,Community,Family Event,Fundraiser,Schools
END:VEVENT
BEGIN:VEVENT
DTSTART;TZID=Europe/Dublin:20230710T100000
DTEND;TZID=Europe/Dublin:20230714T140000
DTSTAMP:20260424T105415
CREATED:20230418T163005Z
LAST-MODIFIED:20230419T212852Z
UID:10000584-1688983200-1689343200@charlestown.ie
SUMMARY:GAA/LGFA Cul Camps 2023
DESCRIPTION:Date: Monday 10th July – 14th July \nVenue: Fr O Hara GAA Pitch \n  \nFor all booking details – please log onto \nhttps://www.kelloggsculcamps.gaa.ie/ \n 
URL:https://charlestown.ie/event/gaa-lgfa-cul-camps-2023/
LOCATION:Charlestown Sarsfields GAA grounds\, Lowpark\, Charlestown\, Co. Mayo\, Ireland
CATEGORIES:Children,GAA- LGFA,Schools,Sport
ATTACH;FMTTYPE=image/png:https://charlestown.ie/wp-content/uploads/2023/04/logo-Cul-Camps.png
END:VEVENT
BEGIN:VEVENT
DTSTART;TZID=Europe/Dublin:20230624T130000
DTEND;TZID=Europe/Dublin:20230624T133000
DTSTAMP:20260424T105415
CREATED:20230623T225234Z
LAST-MODIFIED:20230623T225234Z
UID:10000658-1687611600-1687613400@charlestown.ie
SUMMARY:Soccer - U11 Cup Game v Manulla A (away)
DESCRIPTION:Venue : Manulla
URL:https://charlestown.ie/event/soccer-u11-cup-game-v-manulla-a-away/
CATEGORIES:Children,Family Event,Schools,Sport
END:VEVENT
BEGIN:VEVENT
DTSTART;TZID=Europe/Dublin:20230623T120000
DTEND;TZID=Europe/Dublin:20230623T140000
DTSTAMP:20260424T105415
CREATED:20230620T160028Z
LAST-MODIFIED:20230620T160028Z
UID:10000652-1687521600-1687528800@charlestown.ie
SUMMARY:St Joseph's Community College - 2nd Hand Book Sale
DESCRIPTION:
URL:https://charlestown.ie/event/st-josephs-community-college-2nd-hand-book-sale/
LOCATION:St Joseph’s Community College
CATEGORIES:Children,Community,Schools
END:VEVENT
BEGIN:VEVENT
DTSTART;TZID=Europe/Dublin:20230605T163000
DTEND;TZID=Europe/Dublin:20230605T183000
DTSTAMP:20260424T105415
CREATED:20230527T070728Z
LAST-MODIFIED:20230527T070728Z
UID:10000631-1685982600-1685989800@charlestown.ie
SUMMARY:Charlestown Carracastle Community Games - Athletics Day
DESCRIPTION:
URL:https://charlestown.ie/event/charlestown-carracastle-community-games-athletics-day/
CATEGORIES:Children,Community,Schools,Sport
END:VEVENT
BEGIN:VEVENT
DTSTART;TZID=Europe/Dublin:20230520T113000
DTEND;TZID=Europe/Dublin:20230520T143000
DTSTAMP:20260424T105415
CREATED:20230516T104353Z
LAST-MODIFIED:20230516T104353Z
UID:10000617-1684582200-1684593000@charlestown.ie
SUMMARY:Charlestown Foróige Football Blitz
DESCRIPTION:
URL:https://charlestown.ie/event/charlestown-foroige-football-blitz/
LOCATION:Charlestown Sarsfields GAA grounds\, Lowpark\, Charlestown\, Co. Mayo\, Ireland
CATEGORIES:Children,Community,Schools,Sport
END:VEVENT
BEGIN:VEVENT
DTSTART;TZID=Europe/Dublin:20230512T183000
DTEND;TZID=Europe/Dublin:20230512T190000
DTSTAMP:20260424T105415
CREATED:20230504T103348Z
LAST-MODIFIED:20230504T103348Z
UID:10000606-1683916200-1683918000@charlestown.ie
SUMMARY:Foróige Football Blitz - Registration Evening
DESCRIPTION:
URL:https://charlestown.ie/event/foroige-football-blitz-registration-evening-2/
LOCATION:Charlestown Sarsfields GAA grounds\, Lowpark\, Charlestown\, Co. Mayo\, Ireland
CATEGORIES:Children,Community,Schools
END:VEVENT
BEGIN:VEVENT
DTSTART;TZID=Europe/Dublin:20230505T183000
DTEND;TZID=Europe/Dublin:20230505T190000
DTSTAMP:20260424T105415
CREATED:20230504T103024Z
LAST-MODIFIED:20230504T103024Z
UID:10000605-1683311400-1683313200@charlestown.ie
SUMMARY:Foróige Football Blitz - Registration Evening
DESCRIPTION:
URL:https://charlestown.ie/event/foroige-football-blitz-registration-evening/
LOCATION:Charlestown Sarsfields GAA grounds\, Lowpark\, Charlestown\, Co. Mayo\, Ireland
CATEGORIES:Children,Community,Schools
END:VEVENT
END:VCALENDAR