BEGIN:VCALENDAR
VERSION:2.0
PRODID:-//Charlestown - ECPv6.6.4.2//NONSGML v1.0//EN
CALSCALE:GREGORIAN
METHOD:PUBLISH
X-WR-CALNAME:Charlestown
X-ORIGINAL-URL:https://charlestown.ie
X-WR-CALDESC:Events for Charlestown
REFRESH-INTERVAL;VALUE=DURATION:PT1H
X-Robots-Tag:noindex
X-PUBLISHED-TTL:PT1H
BEGIN:VTIMEZONE
TZID:Europe/Dublin
BEGIN:DAYLIGHT
TZOFFSETFROM:+0000
TZOFFSETTO:+0100
TZNAME:IST
DTSTART:20240331T010000
END:DAYLIGHT
BEGIN:STANDARD
TZOFFSETFROM:+0100
TZOFFSETTO:+0000
TZNAME:GMT
DTSTART:20241027T010000
END:STANDARD
END:VTIMEZONE
BEGIN:VEVENT
DTSTART;TZID=Europe/Dublin:20240703T190000
DTEND;TZID=Europe/Dublin:20240703T190000
DTSTAMP:20260425T164243
CREATED:20240702T103729Z
LAST-MODIFIED:20240702T104047Z
UID:10001002-1720033200-1720033200@charlestown.ie
SUMMARY:GAA - U12 Grading League v Moy Davitts (away)
DESCRIPTION:Location: Foxford
URL:https://charlestown.ie/event/gaa-u12-grading-league-v-moy-davitts-away/
CATEGORIES:Children,Community,Schools,Sport
ATTACH;FMTTYPE=image/jpeg:https://charlestown.ie/wp-content/uploads/2024/07/Club-Fixture-2nd-July-2024.jpg
END:VEVENT
BEGIN:VEVENT
DTSTART;TZID=Europe/Dublin:20240704T193000
DTEND;TZID=Europe/Dublin:20240704T193000
DTSTAMP:20260425T164243
CREATED:20240702T103957Z
LAST-MODIFIED:20240702T103957Z
UID:10001003-1720121400-1720121400@charlestown.ie
SUMMARY:GAA -  U16 East Mayo A Championship v St. Jarlath's (away)
DESCRIPTION:Location: Brickens
URL:https://charlestown.ie/event/gaa-u16-east-mayo-a-championship-v-st-jarlaths-away/
CATEGORIES:Children,Community,Schools,Sport
ATTACH;FMTTYPE=image/jpeg:https://charlestown.ie/wp-content/uploads/2024/07/Club-Fixture-2nd-July-2024.jpg
END:VEVENT
BEGIN:VEVENT
DTSTART;TZID=Europe/Dublin:20240709T193000
DTEND;TZID=Europe/Dublin:20240709T193000
DTSTAMP:20260425T164243
CREATED:20240709T092605Z
LAST-MODIFIED:20240709T092605Z
UID:10001008-1720553400-1720553400@charlestown.ie
SUMMARY:GAA - East Mayo Minor A Championship v Ballaghaderreen (home)
DESCRIPTION:
URL:https://charlestown.ie/event/gaa-east-mayo-minor-a-championship-v-ballaghaderreen-home/
LOCATION:Fr. O’ Hara Park\, Charlestown Sarsfields GAA Club\, Lowpark\, Charlestown\, Mayo
CATEGORIES:Children,Community,Schools,Sport
ATTACH;FMTTYPE=image/jpeg:https://charlestown.ie/wp-content/uploads/2016/04/GAA-Logo.jpg
END:VEVENT
BEGIN:VEVENT
DTSTART;TZID=Europe/Dublin:20240713T110000
DTEND;TZID=Europe/Dublin:20240713T110000
DTSTAMP:20260425T164243
CREATED:20240709T092825Z
LAST-MODIFIED:20240709T092825Z
UID:10001009-1720868400-1720868400@charlestown.ie
SUMMARY:GAA - East Mayo U14 C Championship v Kilmovee Shamrocks (Venue-TBC)
DESCRIPTION:
URL:https://charlestown.ie/event/gaa-east-mayo-u14-c-championship-v-kilmovee-shamrocks-venue-tbc/
CATEGORIES:Children,Community,Schools,Sport
ATTACH;FMTTYPE=image/jpeg:https://charlestown.ie/wp-content/uploads/2016/04/GAA-Logo.jpg
END:VEVENT
BEGIN:VEVENT
DTSTART;TZID=Europe/Dublin:20240714T130000
DTEND;TZID=Europe/Dublin:20240714T130000
DTSTAMP:20260425T164243
CREATED:20240709T092339Z
LAST-MODIFIED:20240709T092339Z
UID:10001007-1720962000-1720962000@charlestown.ie
SUMMARY:GAA - Junior A Championship Final v Claremorris (away)
DESCRIPTION:Venue: Claremorris GAA Grounds
URL:https://charlestown.ie/event/gaa-junior-a-championship-final-v-claremorris-away/
CATEGORIES:Children,Community,Schools,Sport
ATTACH;FMTTYPE=image/jpeg:https://charlestown.ie/wp-content/uploads/2016/04/GAA-Logo.jpg
END:VEVENT
BEGIN:VEVENT
DTSTART;TZID=Europe/Dublin:20240716T190000
DTEND;TZID=Europe/Dublin:20240716T190000
DTSTAMP:20260425T164243
CREATED:20240716T090957Z
LAST-MODIFIED:20240716T090957Z
UID:10001014-1721156400-1721156400@charlestown.ie
SUMMARY:GAA - Minor B Championship v Naomh Padraig (away)
DESCRIPTION:Venue: Kilmovee
URL:https://charlestown.ie/event/gaa-minor-b-championship-v-naomh-padraig-away/
CATEGORIES:Children,Community,Schools,Sport
ATTACH;FMTTYPE=image/jpeg:https://charlestown.ie/wp-content/uploads/2024/07/Club-Fixture-16th-July-2024.jpg
END:VEVENT
BEGIN:VEVENT
DTSTART;TZID=Europe/Dublin:20240717T190000
DTEND;TZID=Europe/Dublin:20240717T190000
DTSTAMP:20260425T164243
CREATED:20240716T091156Z
LAST-MODIFIED:20240716T091156Z
UID:10001015-1721242800-1721242800@charlestown.ie
SUMMARY:GAA - U12 Grading League v The Neale (home)
DESCRIPTION:
URL:https://charlestown.ie/event/gaa-u12-grading-league-v-the-neale-home/
LOCATION:Fr. O’ Hara Park\, Charlestown Sarsfields GAA Club\, Lowpark\, Charlestown\, Mayo
CATEGORIES:Children,Community,Schools,Sport
ATTACH;FMTTYPE=image/jpeg:https://charlestown.ie/wp-content/uploads/2024/07/Club-Fixture-16th-July-2024.jpg
END:VEVENT
BEGIN:VEVENT
DTSTART;TZID=Europe/Dublin:20240718T190000
DTEND;TZID=Europe/Dublin:20240718T190000
DTSTAMP:20260425T164243
CREATED:20240716T091503Z
LAST-MODIFIED:20240716T091503Z
UID:10001016-1721329200-1721329200@charlestown.ie
SUMMARY:GAA - U16 East Mayo A Championship v St. Jarlath's (away)
DESCRIPTION:Venue: Connacht GAA Centre of Excellence
URL:https://charlestown.ie/event/gaa-u16-east-mayo-a-championship-v-st-jarlaths-away-2/
CATEGORIES:Children,Community,Schools,Sport
ATTACH;FMTTYPE=image/jpeg:https://charlestown.ie/wp-content/uploads/2024/07/Club-Fixture-16th-July-2024.jpg
END:VEVENT
BEGIN:VEVENT
DTSTART;TZID=Europe/Dublin:20240720T110000
DTEND;TZID=Europe/Dublin:20240720T110000
DTSTAMP:20260425T164243
CREATED:20240716T091730Z
LAST-MODIFIED:20240716T091730Z
UID:10001017-1721473200-1721473200@charlestown.ie
SUMMARY:GAA - U14 Dev. Team Championship v Kiltimagh (away)
DESCRIPTION:Venue: Kiltimagh
URL:https://charlestown.ie/event/gaa-u14-dev-team-championship-v-kiltimagh-away/
CATEGORIES:Children,Community,Schools,Sport
ATTACH;FMTTYPE=image/jpeg:https://charlestown.ie/wp-content/uploads/2024/07/Club-Fixture-16th-July-2024.jpg
END:VEVENT
BEGIN:VEVENT
DTSTART;TZID=Europe/Dublin:20240724T190000
DTEND;TZID=Europe/Dublin:20240724T190000
DTSTAMP:20260425T164243
CREATED:20240723T103416Z
LAST-MODIFIED:20240723T103416Z
UID:10001023-1721847600-1721847600@charlestown.ie
SUMMARY:GAA - U12 Summer League v Ballintubber (away)
DESCRIPTION:Venue: Ballintubber \nTime: 7:15pm
URL:https://charlestown.ie/event/gaa-u12-summer-league-v-ballintubber-away/
CATEGORIES:Children,Community,Schools,Sport
ATTACH;FMTTYPE=image/jpeg:https://charlestown.ie/wp-content/uploads/2024/07/Club-Fixture-23rd-July-2024.jpg
END:VEVENT
BEGIN:VEVENT
DTSTART;TZID=Europe/Dublin:20240725T190000
DTEND;TZID=Europe/Dublin:20240725T190000
DTSTAMP:20260425T164243
CREATED:20240723T103625Z
LAST-MODIFIED:20240723T103625Z
UID:10001024-1721934000-1721934000@charlestown.ie
SUMMARY:GAA - U16 Division 1 Championship v Ballina (home)
DESCRIPTION:
URL:https://charlestown.ie/event/gaa-u16-division-1-championship-v-ballina-home/
LOCATION:Fr. O’ Hara Park\, Charlestown Sarsfields GAA Club\, Lowpark\, Charlestown\, Mayo
CATEGORIES:Children,Community,Schools,Sport
ATTACH;FMTTYPE=image/jpeg:https://charlestown.ie/wp-content/uploads/2024/07/Club-Fixture-23rd-July-2024.jpg
END:VEVENT
BEGIN:VEVENT
DTSTART;TZID=Europe/Dublin:20240727T110000
DTEND;TZID=Europe/Dublin:20240727T110000
DTSTAMP:20260425T164243
CREATED:20240723T103815Z
LAST-MODIFIED:20240723T103815Z
UID:10001025-1722078000-1722078000@charlestown.ie
SUMMARY:GAA - U14 Development Team Championship v Breaffy (home)
DESCRIPTION:
URL:https://charlestown.ie/event/gaa-u14-development-team-championship-v-breaffy-home/
LOCATION:Fr. O’ Hara Park\, Charlestown Sarsfields GAA Club\, Lowpark\, Charlestown\, Mayo
CATEGORIES:Children,Community,Schools,Sport
ATTACH;FMTTYPE=image/jpeg:https://charlestown.ie/wp-content/uploads/2024/07/Club-Fixture-23rd-July-2024.jpg
END:VEVENT
BEGIN:VEVENT
DTSTART;TZID=Europe/Dublin:20240728T120000
DTEND;TZID=Europe/Dublin:20240728T120000
DTSTAMP:20260425T164243
CREATED:20240723T104018Z
LAST-MODIFIED:20240723T104018Z
UID:10001026-1722168000-1722168000@charlestown.ie
SUMMARY:GAA - Minor B Championship Group 2 v Knockmore (away)
DESCRIPTION:Venue: Foxford
URL:https://charlestown.ie/event/gaa-minor-b-championship-group-2-v-knockmore-away/
CATEGORIES:Children,Community,Schools,Sport
ATTACH;FMTTYPE=image/jpeg:https://charlestown.ie/wp-content/uploads/2024/07/Club-Fixture-23rd-July-2024.jpg
END:VEVENT
BEGIN:VEVENT
DTSTART;VALUE=DATE:20240806
DTEND;VALUE=DATE:20240810
DTSTAMP:20260425T164243
CREATED:20240611T103707Z
LAST-MODIFIED:20240616T082944Z
UID:10000970-1722902400-1723247999@charlestown.ie
SUMMARY:Summer Drama Workshops
DESCRIPTION:
URL:https://charlestown.ie/event/summer-drama-workshops/
LOCATION:Arts Centre\, Barrack Street\, Charlestown\, Mayo\, Ireland
CATEGORIES:Children,Community,Drama,Schools
ATTACH;FMTTYPE=image/jpeg:https://charlestown.ie/wp-content/uploads/2024/06/Drama-giggles.jpg
END:VEVENT
BEGIN:VEVENT
DTSTART;TZID=Europe/Dublin:20240812T190000
DTEND;TZID=Europe/Dublin:20240812T190000
DTSTAMP:20260425T164243
CREATED:20240812T093020Z
LAST-MODIFIED:20240812T093020Z
UID:10001044-1723489200-1723489200@charlestown.ie
SUMMARY:GAA - U14 C Championship Group 1 v Hollymount-Carramore (home)
DESCRIPTION:
URL:https://charlestown.ie/event/gaa-u14-c-championship-group-1-v-hollymount-carramore-home/
LOCATION:Fr. O’ Hara Park\, Charlestown Sarsfields GAA Club\, Lowpark\, Charlestown\, Mayo
CATEGORIES:Children,Community,Schools,Sport
ATTACH;FMTTYPE=image/jpeg:https://charlestown.ie/wp-content/uploads/2015/06/Charlestown-Aerial-View.jpg
END:VEVENT
BEGIN:VEVENT
DTSTART;TZID=Europe/Dublin:20240813T190000
DTEND;TZID=Europe/Dublin:20240813T190000
DTSTAMP:20260425T164243
CREATED:20240812T092709Z
LAST-MODIFIED:20240812T092709Z
UID:10001042-1723575600-1723575600@charlestown.ie
SUMMARY:GAA - Minor B Championship Final v Davitts (away)
DESCRIPTION:Venue: Ballindine
URL:https://charlestown.ie/event/gaa-minor-b-championship-final-v-davitts-away/
CATEGORIES:Children,Community,Schools,Sport
ATTACH;FMTTYPE=image/jpeg:https://charlestown.ie/wp-content/uploads/2015/06/Charlestown-Aerial-View.jpg
END:VEVENT
BEGIN:VEVENT
DTSTART;TZID=Europe/Dublin:20240814T190000
DTEND;TZID=Europe/Dublin:20240814T190000
DTSTAMP:20260425T164243
CREATED:20240812T093356Z
LAST-MODIFIED:20240812T093356Z
UID:10001046-1723662000-1723662000@charlestown.ie
SUMMARY:GAA - U12 Summer League Group 2 v Ballaghaderreen (home)
DESCRIPTION:
URL:https://charlestown.ie/event/gaa-u12-summer-league-group-2-v-ballaghaderreen-home/
LOCATION:Fr. O’ Hara Park\, Charlestown Sarsfields GAA Club\, Lowpark\, Charlestown\, Mayo
CATEGORIES:Children,Community,Schools,Sport
ATTACH;FMTTYPE=image/jpeg:https://charlestown.ie/wp-content/uploads/2015/06/Charlestown-Aerial-View.jpg
END:VEVENT
BEGIN:VEVENT
DTSTART;TZID=Europe/Dublin:20240815T190000
DTEND;TZID=Europe/Dublin:20240815T190000
DTSTAMP:20260425T164243
CREATED:20240812T092848Z
LAST-MODIFIED:20240812T092849Z
UID:10001043-1723748400-1723748400@charlestown.ie
SUMMARY:GAA - U16 A Championship Group 1 v Ballintubber (home)
DESCRIPTION:
URL:https://charlestown.ie/event/gaa-u16-a-championship-group-1-v-ballintubber-home/
LOCATION:Fr. O’ Hara Park\, Charlestown Sarsfields GAA Club\, Lowpark\, Charlestown\, Mayo
CATEGORIES:Children,Community,Schools,Sport
ATTACH;FMTTYPE=image/jpeg:https://charlestown.ie/wp-content/uploads/2015/06/Charlestown-Aerial-View.jpg
END:VEVENT
BEGIN:VEVENT
DTSTART;TZID=Europe/Dublin:20240817T110000
DTEND;TZID=Europe/Dublin:20240817T110000
DTSTAMP:20260425T164243
CREATED:20240812T093223Z
LAST-MODIFIED:20240812T093223Z
UID:10001045-1723892400-1723892400@charlestown.ie
SUMMARY:GAA - U14 G Championship Dev League v Naomh Padraig (away)
DESCRIPTION:Venue: Lacken
URL:https://charlestown.ie/event/gaa-u14-g-championship-dev-league-v-naomh-padraig-away/
CATEGORIES:Children,Community,Schools,Sport
ATTACH;FMTTYPE=image/jpeg:https://charlestown.ie/wp-content/uploads/2015/06/Charlestown-Aerial-View.jpg
END:VEVENT
BEGIN:VEVENT
DTSTART;TZID=Europe/Dublin:20240817T170000
DTEND;TZID=Europe/Dublin:20240817T170000
DTSTAMP:20260425T164243
CREATED:20240812T092522Z
LAST-MODIFIED:20240812T092522Z
UID:10001041-1723914000-1723914000@charlestown.ie
SUMMARY:GAA - Mayo SFC Group 4 v Castlebar Mitchels (away)
DESCRIPTION:Venue: Páirc Josie Munnelly
URL:https://charlestown.ie/event/gaa-mayo-sfc-group-4-v-castlebar-mitchels-away/
CATEGORIES:Community,Schools,Sport
ATTACH;FMTTYPE=image/jpeg:https://charlestown.ie/wp-content/uploads/2015/06/Charlestown-Aerial-View.jpg
END:VEVENT
BEGIN:VEVENT
DTSTART;VALUE=DATE:20240821
DTEND;VALUE=DATE:20240822
DTSTAMP:20260425T164243
CREATED:20240819T142531Z
LAST-MODIFIED:20240819T142531Z
UID:10001050-1724198400-1724284799@charlestown.ie
SUMMARY:GAA - Minor B Championship Final v Parke/Keelogues/Crimlin (away)
DESCRIPTION:Venue: Hastings Insurance McHale Park \nTime: 18.15pm
URL:https://charlestown.ie/event/gaa-minor-b-championship-final-v-parke-keelogues-crimlin-away/
CATEGORIES:Children,Community,Schools,Sport
ATTACH;FMTTYPE=image/jpeg:https://charlestown.ie/wp-content/uploads/2016/04/GAA-Logo.jpg
END:VEVENT
BEGIN:VEVENT
DTSTART;TZID=Europe/Dublin:20240824T110000
DTEND;TZID=Europe/Dublin:20240824T110000
DTSTAMP:20260425T164243
CREATED:20240819T142848Z
LAST-MODIFIED:20240819T142848Z
UID:10001051-1724497200-1724497200@charlestown.ie
SUMMARY:GAA - U14 G Championship Development League v Belmullet (away)
DESCRIPTION:Venue: Tallagh (Belmullet)
URL:https://charlestown.ie/event/gaa-u14-g-championship-development-league-v-belmullet-away/
CATEGORIES:Children,Community,Schools,Sport
ATTACH;FMTTYPE=image/jpeg:https://charlestown.ie/wp-content/uploads/2016/04/GAA-Logo.jpg
END:VEVENT
BEGIN:VEVENT
DTSTART;TZID=Europe/Dublin:20240829T190000
DTEND;TZID=Europe/Dublin:20240829T190000
DTSTAMP:20260425T164243
CREATED:20240827T130521Z
LAST-MODIFIED:20240827T130521Z
UID:10001058-1724958000-1724958000@charlestown.ie
SUMMARY:GAA - U16 A Shield Semi Final v Castlebar (away)
DESCRIPTION:Venue: Pairc Josie Munnelly
URL:https://charlestown.ie/event/gaa-u16-a-shield-semi-final-v-castlebar-away/
CATEGORIES:Children,Community,Schools,Sport
ATTACH;FMTTYPE=image/jpeg:https://charlestown.ie/wp-content/uploads/2024/08/Club-Fixture-26th-August-2024.jpg
END:VEVENT
BEGIN:VEVENT
DTSTART;TZID=Europe/Dublin:20240910T190000
DTEND;TZID=Europe/Dublin:20240910T190000
DTSTAMP:20260425T164243
CREATED:20240909T182426Z
LAST-MODIFIED:20240909T182426Z
UID:10001070-1725994800-1725994800@charlestown.ie
SUMMARY:GAA - U15 Grading League Division 7 v Westport St Patrick's (home)
DESCRIPTION:
URL:https://charlestown.ie/event/gaa-u15-grading-league-division-7-v-westport-st-patricks-home/
LOCATION:Fr. O’ Hara Park\, Charlestown Sarsfields GAA Club\, Lowpark\, Charlestown\, Mayo
CATEGORIES:Children,Community,Schools,Sport
ATTACH;FMTTYPE=image/jpeg:https://charlestown.ie/wp-content/uploads/2015/06/Charlestown-Aerial-View.jpg
END:VEVENT
BEGIN:VEVENT
DTSTART;TZID=Europe/Dublin:20240912T190000
DTEND;TZID=Europe/Dublin:20240912T190000
DTSTAMP:20260425T164243
CREATED:20240909T182234Z
LAST-MODIFIED:20240909T182234Z
UID:10001069-1726167600-1726167600@charlestown.ie
SUMMARY:GAA - U15 Grading League Division 2 V Ballinrobe (away)
DESCRIPTION:Venue: Ballinrobe
URL:https://charlestown.ie/event/gaa-u15-grading-league-division-2-v-ballinrobe-away/
CATEGORIES:Children,Community,Schools,Sport
ATTACH;FMTTYPE=image/jpeg:https://charlestown.ie/wp-content/uploads/2015/06/Charlestown-Aerial-View.jpg
END:VEVENT
BEGIN:VEVENT
DTSTART;TZID=Europe/Dublin:20240916T183000
DTEND;TZID=Europe/Dublin:20240916T183000
DTSTAMP:20260425T164243
CREATED:20240909T182057Z
LAST-MODIFIED:20240909T182057Z
UID:10001068-1726511400-1726511400@charlestown.ie
SUMMARY:GAA - U17 Grading League Division 4 v Swinford (away)
DESCRIPTION:Venue: Robert McCallion Memorial Pitch
URL:https://charlestown.ie/event/gaa-u17-grading-league-division-4-v-swinford-away/
CATEGORIES:Community,Schools,Sport
ATTACH;FMTTYPE=image/jpeg:https://charlestown.ie/wp-content/uploads/2015/06/Charlestown-Aerial-View.jpg
END:VEVENT
BEGIN:VEVENT
DTSTART;TZID=Europe/Dublin:20240916T183000
DTEND;TZID=Europe/Dublin:20240916T183000
DTSTAMP:20260425T164243
CREATED:20240909T183042Z
LAST-MODIFIED:20240909T183042Z
UID:10001072-1726511400-1726511400@charlestown.ie
SUMMARY:GAA - U13 Grading League Division 4 (home)
DESCRIPTION:
URL:https://charlestown.ie/event/gaa-u13-grading-league-division-4-home/
LOCATION:Fr. O’ Hara Park\, Charlestown Sarsfields GAA Club\, Lowpark\, Charlestown\, Mayo
CATEGORIES:Children,Community,Schools,Sport
ATTACH;FMTTYPE=image/jpeg:https://charlestown.ie/wp-content/uploads/2015/06/Charlestown-Aerial-View.jpg
END:VEVENT
BEGIN:VEVENT
DTSTART;TZID=Europe/Dublin:20240917T183000
DTEND;TZID=Europe/Dublin:20240917T183000
DTSTAMP:20260425T164243
CREATED:20240909T182857Z
LAST-MODIFIED:20240909T182857Z
UID:10001071-1726597800-1726597800@charlestown.ie
SUMMARY:GAA - U15 Grading League Division 7 v Claremorris (away)
DESCRIPTION:Venue: Claremorris GAA
URL:https://charlestown.ie/event/gaa-u15-grading-league-division-7-v-claremorris-away/
CATEGORIES:Children,Community,Schools,Sport
ATTACH;FMTTYPE=image/jpeg:https://charlestown.ie/wp-content/uploads/2015/06/Charlestown-Aerial-View.jpg
END:VEVENT
BEGIN:VEVENT
DTSTART;TZID=Europe/Dublin:20241007T123000
DTEND;TZID=Europe/Dublin:20241007T133000
DTSTAMP:20260425T164243
CREATED:20240929T163051Z
LAST-MODIFIED:20240929T163051Z
UID:10001284-1728304200-1728307800@charlestown.ie
SUMMARY:GAA - Junior D Schools C'Ship v St Cuan's Castleblakeney (home)
DESCRIPTION:
URL:https://charlestown.ie/event/gaa-junior-d-schools-cship-v-st-cuans-castleblakeney-home/
LOCATION:Charlestown Sarsfields GAA grounds\, Lowpark\, Charlestown\, Co. Mayo\, Ireland
CATEGORIES:Children,GAA- LGFA,Schools,Sport
ATTACH;FMTTYPE=image/jpeg:https://charlestown.ie/wp-content/uploads/2023/01/St-Josephs-Image.jpg
ORGANIZER;CN="St. Joseph's CC":MAILTO:info@sjcc.ie
END:VEVENT
BEGIN:VEVENT
DTSTART;TZID=Europe/Dublin:20241011T193000
DTEND;TZID=Europe/Dublin:20241011T203000
DTSTAMP:20260425T164243
CREATED:20241009T130257Z
LAST-MODIFIED:20241009T130257Z
UID:10001304-1728675000-1728678600@charlestown.ie
SUMMARY:GAA - Community Feedback Workshop - Club Strategic Plan 2025-2027
DESCRIPTION:Community Engagment Evening – Club Strategic Plan\n\n\n\nCharlestown Sarsfields GAA Club are hosting a community engagement evening next Friday evening 11th Oct at 7.30 in the Arts Centre as part of our Club Strategic Plan.\nWe invite all members\, non members\, businesses\, voluntary groups and our wider community to come along and have your say in our clubs plan for the next 3 years.\n\n\nThe Sarsfields club is an important part of our community. It’s your community\, please help us as we set out on this exciting phase in the clubs future development.\n\n\nWe hope to see you there!
URL:https://charlestown.ie/event/gaa-community-feedback-workshop-club-strategic-plan-2025-2027/
LOCATION:Charlestown Arts Centre
CATEGORIES:Children,Community,Family Event,GAA- LGFA,Schools
ATTACH;FMTTYPE=image/jpeg:https://charlestown.ie/wp-content/uploads/2024/10/Strategic-Plan.jpg
ORGANIZER;CN="Charlestown Sarsfields GAA":MAILTO:secretary.charlestown.mayo@gaa.ie
END:VEVENT
END:VCALENDAR