BEGIN:VCALENDAR
VERSION:2.0
PRODID:-//Charlestown - ECPv6.6.4.2//NONSGML v1.0//EN
CALSCALE:GREGORIAN
METHOD:PUBLISH
X-WR-CALNAME:Charlestown
X-ORIGINAL-URL:https://charlestown.ie
X-WR-CALDESC:Events for Charlestown
REFRESH-INTERVAL;VALUE=DURATION:PT1H
X-Robots-Tag:noindex
X-PUBLISHED-TTL:PT1H
BEGIN:VTIMEZONE
TZID:Europe/Dublin
BEGIN:DAYLIGHT
TZOFFSETFROM:+0000
TZOFFSETTO:+0100
TZNAME:IST
DTSTART:20240331T010000
END:DAYLIGHT
BEGIN:STANDARD
TZOFFSETFROM:+0100
TZOFFSETTO:+0000
TZNAME:GMT
DTSTART:20241027T010000
END:STANDARD
END:VTIMEZONE
BEGIN:VEVENT
DTSTART;TZID=Europe/Dublin:20240429T190000
DTEND;TZID=Europe/Dublin:20240429T190000
DTSTAMP:20260425T121630
CREATED:20240423T113646Z
LAST-MODIFIED:20240423T113646Z
UID:10000936-1714417200-1714417200@charlestown.ie
SUMMARY:GAA - U14 Division 3 v Islandeady (away)
DESCRIPTION:Venue: Islandeady
URL:https://charlestown.ie/event/gaa-u14-division-3-v-islandeady-away/
LOCATION:Mayo
CATEGORIES:Children,Community,Schools,Sport
ATTACH;FMTTYPE=image/jpeg:https://charlestown.ie/wp-content/uploads/2024/04/Club-Fixture-23rd-April-2024.jpg
END:VEVENT
END:VCALENDAR