BEGIN:VCALENDAR
VERSION:2.0
PRODID:-//Charlestown - ECPv6.6.4.2//NONSGML v1.0//EN
CALSCALE:GREGORIAN
METHOD:PUBLISH
X-WR-CALNAME:Charlestown
X-ORIGINAL-URL:https://charlestown.ie
X-WR-CALDESC:Events for Charlestown
REFRESH-INTERVAL;VALUE=DURATION:PT1H
X-Robots-Tag:noindex
X-PUBLISHED-TTL:PT1H
BEGIN:VTIMEZONE
TZID:Europe/Dublin
BEGIN:DAYLIGHT
TZOFFSETFROM:+0000
TZOFFSETTO:+0100
TZNAME:IST
DTSTART:20230326T010000
END:DAYLIGHT
BEGIN:STANDARD
TZOFFSETFROM:+0100
TZOFFSETTO:+0000
TZNAME:GMT
DTSTART:20231029T010000
END:STANDARD
END:VTIMEZONE
BEGIN:VEVENT
DTSTART;TZID=Europe/Dublin:20231012T150000
DTEND;TZID=Europe/Dublin:20231012T150000
DTSTAMP:20260425T163520
CREATED:20231010T105954Z
LAST-MODIFIED:20231010T105954Z
UID:10000777-1697122800-1697122800@charlestown.ie
SUMMARY:Martin Neary Woodland Park - Walk & Talk
DESCRIPTION:Martin Neary Woodland Park\n\n\n\nPeter Gill – Mayo County Council’s horticulturalist will do a walk and talk at the Martin Neary Woodland Park on Thursday\, October 12th at 3pm.\n\n\n\nThe talk will focus on biodiversity and the various species of trees. He will also discuss future plans and strategies for the park.\n\nAll are welcome. Assembly at the entrance at 3pm.
URL:https://charlestown.ie/event/martin-neary-woodland-park-walk-talk/
CATEGORIES:Community,Family Event,Nature
END:VEVENT
END:VCALENDAR