BEGIN:VCALENDAR
VERSION:2.0
PRODID:-//Charlestown - ECPv6.6.4.2//NONSGML v1.0//EN
CALSCALE:GREGORIAN
METHOD:PUBLISH
X-ORIGINAL-URL:https://charlestown.ie
X-WR-CALDESC:Events for Charlestown
REFRESH-INTERVAL;VALUE=DURATION:PT1H
X-Robots-Tag:noindex
X-PUBLISHED-TTL:PT1H
BEGIN:VTIMEZONE
TZID:Europe/Dublin
BEGIN:DAYLIGHT
TZOFFSETFROM:+0000
TZOFFSETTO:+0100
TZNAME:IST
DTSTART:20250330T010000
END:DAYLIGHT
BEGIN:STANDARD
TZOFFSETFROM:+0100
TZOFFSETTO:+0000
TZNAME:GMT
DTSTART:20251026T010000
END:STANDARD
END:VTIMEZONE
BEGIN:VEVENT
DTSTART;TZID=Europe/Dublin:20250810T213000
DTEND;TZID=Europe/Dublin:20250810T233000
DTSTAMP:20260425T175211
CREATED:20250807T113927Z
LAST-MODIFIED:20250807T113927Z
UID:10002139-1754861400-1754868600@charlestown.ie
SUMMARY:Music - Diesel ( Murray's Bar)
DESCRIPTION:
URL:https://charlestown.ie/event/music-diesel-murrays-bar/
LOCATION:Murray’s Bar
CATEGORIES:Music
ATTACH;FMTTYPE=image/jpeg:https://charlestown.ie/wp-content/uploads/2025/07/Screenshot_20250710_023335_Google.jpg
END:VEVENT
END:VCALENDAR