BEGIN:VCALENDAR
VERSION:2.0
PRODID:-//Charlestown - ECPv6.6.4.2//NONSGML v1.0//EN
CALSCALE:GREGORIAN
METHOD:PUBLISH
X-WR-CALNAME:Charlestown
X-ORIGINAL-URL:https://charlestown.ie
X-WR-CALDESC:Events for Charlestown
REFRESH-INTERVAL;VALUE=DURATION:PT1H
X-Robots-Tag:noindex
X-PUBLISHED-TTL:PT1H
BEGIN:VTIMEZONE
TZID:Europe/Dublin
BEGIN:DAYLIGHT
TZOFFSETFROM:+0000
TZOFFSETTO:+0100
TZNAME:IST
DTSTART:20250330T010000
END:DAYLIGHT
BEGIN:STANDARD
TZOFFSETFROM:+0100
TZOFFSETTO:+0000
TZNAME:GMT
DTSTART:20251026T010000
END:STANDARD
END:VTIMEZONE
BEGIN:VEVENT
DTSTART;TZID=Europe/Dublin:20251219T213000
DTEND;TZID=Europe/Dublin:20251219T233000
DTSTAMP:20260423T213325
CREATED:20251128T155535Z
LAST-MODIFIED:20251128T155535Z
UID:10003223-1766179800-1766187000@charlestown.ie
SUMMARY:Christmas Live Music - Johnny's Bar
DESCRIPTION:
URL:https://charlestown.ie/event/christmas-live-music-johnnys-bar/2025-12-19/
LOCATION:Johnny’s Bar & Off Licence\, The Square\, Charlestown\, Co Mayo\, Ireland
CATEGORIES:Live Music
ATTACH;FMTTYPE=image/jpeg:https://charlestown.ie/wp-content/uploads/2025/11/Screenshot_20251128_154443_Facebook.jpg
END:VEVENT
BEGIN:VEVENT
DTSTART;TZID=Europe/Dublin:20251214T213000
DTEND;TZID=Europe/Dublin:20251214T233000
DTSTAMP:20260423T213325
CREATED:20251128T155535Z
LAST-MODIFIED:20251128T155535Z
UID:10003222-1765747800-1765755000@charlestown.ie
SUMMARY:Christmas Live Music - Johnny's Bar
DESCRIPTION:
URL:https://charlestown.ie/event/christmas-live-music-johnnys-bar/2025-12-14/
LOCATION:Johnny’s Bar & Off Licence\, The Square\, Charlestown\, Co Mayo\, Ireland
CATEGORIES:Live Music
ATTACH;FMTTYPE=image/jpeg:https://charlestown.ie/wp-content/uploads/2025/11/Screenshot_20251128_154443_Facebook.jpg
END:VEVENT
BEGIN:VEVENT
DTSTART;TZID=Europe/Dublin:20251213T213000
DTEND;TZID=Europe/Dublin:20251213T233000
DTSTAMP:20260423T213325
CREATED:20251128T155535Z
LAST-MODIFIED:20251128T155535Z
UID:10003221-1765661400-1765668600@charlestown.ie
SUMMARY:Christmas Live Music - Johnny's Bar
DESCRIPTION:
URL:https://charlestown.ie/event/christmas-live-music-johnnys-bar/2025-12-13/
LOCATION:Johnny’s Bar & Off Licence\, The Square\, Charlestown\, Co Mayo\, Ireland
CATEGORIES:Live Music
ATTACH;FMTTYPE=image/jpeg:https://charlestown.ie/wp-content/uploads/2025/11/Screenshot_20251128_154443_Facebook.jpg
END:VEVENT
BEGIN:VEVENT
DTSTART;TZID=Europe/Dublin:20251114T213000
DTEND;TZID=Europe/Dublin:20251114T233000
DTSTAMP:20260423T213325
CREATED:20251104T060845Z
LAST-MODIFIED:20260422T230704Z
UID:10003097-1763155800-1763163000@charlestown.ie
SUMMARY:Live Music - Johnny's Bar
DESCRIPTION:
URL:https://charlestown.ie/event/live-music-o-toole-trad-band-johnnys-bar-2/
LOCATION:Johnny’s Bar & Off Licence\, The Square\, Charlestown\, Co Mayo\, Ireland
CATEGORIES:Live Music,Music
ATTACH;FMTTYPE=image/jpeg:https://charlestown.ie/wp-content/uploads/2025/11/Screenshot_20251128_154443_Facebook-1.jpg
END:VEVENT
BEGIN:VEVENT
DTSTART;TZID=Europe/Dublin:20251106T213000
DTEND;TZID=Europe/Dublin:20251106T233000
DTSTAMP:20260423T213325
CREATED:20251128T155535Z
LAST-MODIFIED:20251128T155535Z
UID:10003220-1762464600-1762471800@charlestown.ie
SUMMARY:Christmas Live Music - Johnny's Bar
DESCRIPTION:
URL:https://charlestown.ie/event/christmas-live-music-johnnys-bar/2025-11-06/
LOCATION:Johnny’s Bar & Off Licence\, The Square\, Charlestown\, Co Mayo\, Ireland
CATEGORIES:Live Music
ATTACH;FMTTYPE=image/jpeg:https://charlestown.ie/wp-content/uploads/2025/11/Screenshot_20251128_154443_Facebook.jpg
END:VEVENT
BEGIN:VEVENT
DTSTART;TZID=Europe/Dublin:20251101T213000
DTEND;TZID=Europe/Dublin:20251101T233000
DTSTAMP:20260423T213325
CREATED:20251031T071302Z
LAST-MODIFIED:20251031T071302Z
UID:10002983-1762032600-1762039800@charlestown.ie
SUMMARY:Live Music - Matica ( Murray's Bar)
DESCRIPTION:
URL:https://charlestown.ie/event/live-music-matica-murrays-bar-2/
LOCATION:Murray’s Bar
CATEGORIES:Live Music,Music
ATTACH;FMTTYPE=image/png:https://charlestown.ie/wp-content/uploads/2025/09/Live-Music.png
END:VEVENT
BEGIN:VEVENT
DTSTART;TZID=Europe/Dublin:20251026T213000
DTEND;TZID=Europe/Dublin:20251026T233000
DTSTAMP:20260423T213325
CREATED:20250930T074844Z
LAST-MODIFIED:20250930T074844Z
UID:10002951-1761514200-1761521400@charlestown.ie
SUMMARY:Live Music - Tony Cunningham(Johnny's Bar)
DESCRIPTION:
URL:https://charlestown.ie/event/live-music-tony-cunninghamjohnnys-bar/
LOCATION:Johnny’s Bar & Off Licence\, The Square\, Charlestown\, Co Mayo\, Ireland
CATEGORIES:Live Music,Music
ATTACH;FMTTYPE=image/jpeg:https://charlestown.ie/wp-content/uploads/2025/09/Screenshot_20250930_081107_Facebook.jpg
END:VEVENT
BEGIN:VEVENT
DTSTART;TZID=Europe/Dublin:20251025T213000
DTEND;TZID=Europe/Dublin:20251025T233000
DTSTAMP:20260423T213325
CREATED:20250930T082623Z
LAST-MODIFIED:20250930T082623Z
UID:10002952-1761427800-1761435000@charlestown.ie
SUMMARY:Live Music - Mike Flan(Johnny's Bar)
DESCRIPTION:
URL:https://charlestown.ie/event/live-music-mike-flanjohnnys-bar/
LOCATION:Johnny’s Bar & Off Licence\, The Square\, Charlestown\, Co Mayo\, Ireland
CATEGORIES:Live Music,Music
ATTACH;FMTTYPE=image/jpeg:https://charlestown.ie/wp-content/uploads/2025/09/Screenshot_20250930_081107_Facebook.jpg
END:VEVENT
BEGIN:VEVENT
DTSTART;TZID=Europe/Dublin:20251024T213000
DTEND;TZID=Europe/Dublin:20251024T233000
DTSTAMP:20260423T213325
CREATED:20250930T072958Z
LAST-MODIFIED:20250930T072958Z
UID:10002950-1761341400-1761348600@charlestown.ie
SUMMARY:Live Music - Ellie Mai ( Johnny's Bar)
DESCRIPTION:
URL:https://charlestown.ie/event/live-music-ellie-mai-johnnys-bar/
LOCATION:Johnny’s Bar & Off Licence\, The Square\, Charlestown\, Co Mayo\, Ireland
CATEGORIES:Live Music,Music
ATTACH;FMTTYPE=image/jpeg:https://charlestown.ie/wp-content/uploads/2025/09/Screenshot_20250930_081107_Facebook.jpg
END:VEVENT
BEGIN:VEVENT
DTSTART;TZID=Europe/Dublin:20251018T220000
DTEND;TZID=Europe/Dublin:20251018T233000
DTSTAMP:20260423T213325
CREATED:20250930T072850Z
LAST-MODIFIED:20250930T072850Z
UID:10002949-1760824800-1760830200@charlestown.ie
SUMMARY:Live Music - Martin Boston ( Johnny's Bar)
DESCRIPTION:
URL:https://charlestown.ie/event/live-music-martin-boston-johnnys-bar/
LOCATION:Johnny’s Bar & Off Licence\, The Square\, Charlestown\, Co Mayo\, Ireland
CATEGORIES:Live Music,Music
ATTACH;FMTTYPE=image/jpeg:https://charlestown.ie/wp-content/uploads/2025/09/Screenshot_20250930_081107_Facebook.jpg
END:VEVENT
BEGIN:VEVENT
DTSTART;TZID=Europe/Dublin:20251018T213000
DTEND;TZID=Europe/Dublin:20251018T233000
DTSTAMP:20260423T213325
CREATED:20251016T161718Z
LAST-MODIFIED:20251016T161718Z
UID:10002956-1760823000-1760830200@charlestown.ie
SUMMARY:Live Music - Just Jimmy ( Murray's Bar)
DESCRIPTION:
URL:https://charlestown.ie/event/live-music-just-jimmy-murrays-bar-2/
LOCATION:Murray’s Bar
CATEGORIES:Live Music,Music
ATTACH;FMTTYPE=image/png:https://charlestown.ie/wp-content/uploads/2025/09/Live-Music.png
END:VEVENT
BEGIN:VEVENT
DTSTART;TZID=Europe/Dublin:20251011T220000
DTEND;TZID=Europe/Dublin:20251011T233000
DTSTAMP:20260423T213325
CREATED:20250930T072722Z
LAST-MODIFIED:20250930T072722Z
UID:10002948-1760220000-1760225400@charlestown.ie
SUMMARY:Live Music - The Breakers ( Johnny's Bar)
DESCRIPTION:
URL:https://charlestown.ie/event/live-music-the-breakers-johnnys-bar-2/
LOCATION:Johnny’s Bar & Off Licence\, The Square\, Charlestown\, Co Mayo\, Ireland
CATEGORIES:Live Music,Music
ATTACH;FMTTYPE=image/jpeg:https://charlestown.ie/wp-content/uploads/2025/09/Screenshot_20250930_081107_Facebook.jpg
END:VEVENT
BEGIN:VEVENT
DTSTART;TZID=Europe/Dublin:20251010T220000
DTEND;TZID=Europe/Dublin:20251010T233000
DTSTAMP:20260423T213325
CREATED:20250930T072608Z
LAST-MODIFIED:20250930T072608Z
UID:10002947-1760133600-1760139000@charlestown.ie
SUMMARY:Live Music - Shane Downey( Johnny's Bar)
DESCRIPTION:
URL:https://charlestown.ie/event/live-music-shane-downey-johnnys-bar-2/
LOCATION:Johnny’s Bar & Off Licence\, The Square\, Charlestown\, Co Mayo\, Ireland
CATEGORIES:Live Music,Music
ATTACH;FMTTYPE=image/jpeg:https://charlestown.ie/wp-content/uploads/2025/09/Screenshot_20250930_081107_Facebook.jpg
END:VEVENT
BEGIN:VEVENT
DTSTART;TZID=Europe/Dublin:20251004T220000
DTEND;TZID=Europe/Dublin:20251004T233000
DTSTAMP:20260423T213325
CREATED:20250930T072451Z
LAST-MODIFIED:20250930T072451Z
UID:10002946-1759615200-1759620600@charlestown.ie
SUMMARY:Live Music - Eamonn James ( Johnny's Bar)
DESCRIPTION:
URL:https://charlestown.ie/event/live-music-eamonn-james-johnnys-bar/
LOCATION:Johnny’s Bar & Off Licence\, The Square\, Charlestown\, Co Mayo\, Ireland
CATEGORIES:Live Music,Music
ATTACH;FMTTYPE=image/jpeg:https://charlestown.ie/wp-content/uploads/2025/09/Screenshot_20250930_081107_Facebook.jpg
END:VEVENT
BEGIN:VEVENT
DTSTART;TZID=Europe/Dublin:20251003T213000
DTEND;TZID=Europe/Dublin:20251003T233000
DTSTAMP:20260423T213325
CREATED:20250930T072025Z
LAST-MODIFIED:20250930T072025Z
UID:10002944-1759527000-1759534200@charlestown.ie
SUMMARY:Live Music - O Toole Band ( Johnny's Bar)
DESCRIPTION:
URL:https://charlestown.ie/event/live-music-o-toole-band-johnnys-bar/
LOCATION:Co Mayo
CATEGORIES:Live Music,Music
ATTACH;FMTTYPE=image/jpeg:https://charlestown.ie/wp-content/uploads/2025/09/Screenshot_20250930_081107_Facebook.jpg
END:VEVENT
BEGIN:VEVENT
DTSTART;TZID=Europe/Dublin:20250927T213000
DTEND;TZID=Europe/Dublin:20250927T233000
DTSTAMP:20260423T213325
CREATED:20250923T153120Z
LAST-MODIFIED:20250923T153120Z
UID:10002913-1759008600-1759015800@charlestown.ie
SUMMARY:Live Music - Mary Kathleen Henry (Murray's Bar)
DESCRIPTION:
URL:https://charlestown.ie/event/live-music-mary-kathleen-henry-murrays-bar/
LOCATION:Co Mayo
CATEGORIES:Live Music,Music
ATTACH;FMTTYPE=image/png:https://charlestown.ie/wp-content/uploads/2025/09/Live-Music.png
END:VEVENT
BEGIN:VEVENT
DTSTART;TZID=Europe/Dublin:20250927T210000
DTEND;TZID=Europe/Dublin:20250927T233000
DTSTAMP:20260423T213325
CREATED:20250901T211615Z
LAST-MODIFIED:20250901T211658Z
UID:10002888-1759006800-1759015800@charlestown.ie
SUMMARY:Live Music - Johnny's Bar
DESCRIPTION:
URL:https://charlestown.ie/event/live-music-johnnys-bar/2025-09-27/
LOCATION:Johnny’s Bar & Off Licence\, The Square\, Charlestown\, Co Mayo\, Ireland
CATEGORIES:Live Music
ATTACH;FMTTYPE=image/jpeg:https://charlestown.ie/wp-content/uploads/2025/09/Screenshot_20250901_221105_Facebook.jpg
END:VEVENT
BEGIN:VEVENT
DTSTART;TZID=Europe/Dublin:20250926T213000
DTEND;TZID=Europe/Dublin:20250926T233000
DTSTAMP:20260423T213325
CREATED:20250923T152917Z
LAST-MODIFIED:20250923T152917Z
UID:10002912-1758922200-1758929400@charlestown.ie
SUMMARY:Live Music - DJ James (Murrays)
DESCRIPTION:
URL:https://charlestown.ie/event/live-music-dj-james-murrays/
LOCATION:Co Mayo
CATEGORIES:Live Music,Music
ATTACH;FMTTYPE=image/png:https://charlestown.ie/wp-content/uploads/2025/09/DJ.png
END:VEVENT
BEGIN:VEVENT
DTSTART;TZID=Europe/Dublin:20250926T210000
DTEND;TZID=Europe/Dublin:20250926T233000
DTSTAMP:20260423T213325
CREATED:20250901T211615Z
LAST-MODIFIED:20250901T211658Z
UID:10002887-1758920400-1758929400@charlestown.ie
SUMMARY:Live Music - Johnny's Bar
DESCRIPTION:
URL:https://charlestown.ie/event/live-music-johnnys-bar/2025-09-26/
LOCATION:Johnny’s Bar & Off Licence\, The Square\, Charlestown\, Co Mayo\, Ireland
CATEGORIES:Live Music
ATTACH;FMTTYPE=image/jpeg:https://charlestown.ie/wp-content/uploads/2025/09/Screenshot_20250901_221105_Facebook.jpg
END:VEVENT
BEGIN:VEVENT
DTSTART;TZID=Europe/Dublin:20250920T210000
DTEND;TZID=Europe/Dublin:20250920T233000
DTSTAMP:20260423T213325
CREATED:20250901T211615Z
LAST-MODIFIED:20250901T211658Z
UID:10002886-1758402000-1758411000@charlestown.ie
SUMMARY:Live Music - Johnny's Bar
DESCRIPTION:
URL:https://charlestown.ie/event/live-music-johnnys-bar/2025-09-20/
LOCATION:Johnny’s Bar & Off Licence\, The Square\, Charlestown\, Co Mayo\, Ireland
CATEGORIES:Live Music
ATTACH;FMTTYPE=image/jpeg:https://charlestown.ie/wp-content/uploads/2025/09/Screenshot_20250901_221105_Facebook.jpg
END:VEVENT
BEGIN:VEVENT
DTSTART;TZID=Europe/Dublin:20250913T210000
DTEND;TZID=Europe/Dublin:20250913T233000
DTSTAMP:20260423T213325
CREATED:20250901T211615Z
LAST-MODIFIED:20250901T211658Z
UID:10002885-1757797200-1757806200@charlestown.ie
SUMMARY:Live Music - Johnny's Bar
DESCRIPTION:
URL:https://charlestown.ie/event/live-music-johnnys-bar/2025-09-13/
LOCATION:Johnny’s Bar & Off Licence\, The Square\, Charlestown\, Co Mayo\, Ireland
CATEGORIES:Live Music
ATTACH;FMTTYPE=image/jpeg:https://charlestown.ie/wp-content/uploads/2025/09/Screenshot_20250901_221105_Facebook.jpg
END:VEVENT
BEGIN:VEVENT
DTSTART;TZID=Europe/Dublin:20250905T213000
DTEND;TZID=Europe/Dublin:20250905T233000
DTSTAMP:20260423T213325
CREATED:20250901T211615Z
LAST-MODIFIED:20250901T211658Z
UID:10002884-1757107800-1757115000@charlestown.ie
SUMMARY:Live Music - Johnny's Bar
DESCRIPTION:
URL:https://charlestown.ie/event/live-music-johnnys-bar/2025-09-05/
LOCATION:Johnny’s Bar & Off Licence\, The Square\, Charlestown\, Co Mayo\, Ireland
CATEGORIES:Live Music
ATTACH;FMTTYPE=image/jpeg:https://charlestown.ie/wp-content/uploads/2025/09/Screenshot_20250901_221105_Facebook.jpg
END:VEVENT
BEGIN:VEVENT
DTSTART;TZID=Europe/Dublin:20250831T210000
DTEND;TZID=Europe/Dublin:20250831T233000
DTSTAMP:20260423T213325
CREATED:20250807T114426Z
LAST-MODIFIED:20250807T114500Z
UID:10002141-1756674000-1756683000@charlestown.ie
SUMMARY:Live Music - Shane Downey ( Johnny's Bar)
DESCRIPTION:
URL:https://charlestown.ie/event/live-music-shane-downey-johnnys-bar/2025-08-31/
LOCATION:Johnny’s Bar & Off Licence\, The Square\, Charlestown\, Co Mayo\, Ireland
CATEGORIES:Live Music
ATTACH;FMTTYPE=image/jpeg:https://charlestown.ie/wp-content/uploads/2025/08/Screenshot_20250807_124005_Facebook.jpg
END:VEVENT
BEGIN:VEVENT
DTSTART;TZID=Europe/Dublin:20250815T213000
DTEND;TZID=Europe/Dublin:20250815T230000
DTSTAMP:20260423T213325
CREATED:20250807T135848Z
LAST-MODIFIED:20250807T135848Z
UID:10002142-1755293400-1755298800@charlestown.ie
SUMMARY:Live Music - Tony Cunningham ( Johnny's Bar)
DESCRIPTION:
URL:https://charlestown.ie/event/live-music-tony-cunningham-johnnys-bar/
LOCATION:Johnny’s Bar & Off Licence\, The Square\, Charlestown\, Co Mayo\, Ireland
CATEGORIES:Live Music
ATTACH;FMTTYPE=image/jpeg:https://charlestown.ie/wp-content/uploads/2025/08/Screenshot_20250807_145602_Facebook.jpg
END:VEVENT
BEGIN:VEVENT
DTSTART;TZID=Europe/Dublin:20250809T213000
DTEND;TZID=Europe/Dublin:20250809T233000
DTSTAMP:20260423T213325
CREATED:20250807T113407Z
LAST-MODIFIED:20250807T113407Z
UID:10002137-1754775000-1754782200@charlestown.ie
SUMMARY:Live Music - O'Toole Family ( Murray's Bar)
DESCRIPTION:
URL:https://charlestown.ie/event/live-music-otoole-family-murrays-bar/
LOCATION:Murray’s Bar
CATEGORIES:Live Music
ATTACH;FMTTYPE=image/jpeg:https://charlestown.ie/wp-content/uploads/2016/01/Music-Pic.jpg
END:VEVENT
BEGIN:VEVENT
DTSTART;TZID=Europe/Dublin:20250808T210000
DTEND;TZID=Europe/Dublin:20250808T233000
DTSTAMP:20260423T213325
CREATED:20250807T114426Z
LAST-MODIFIED:20250807T114500Z
UID:10002140-1754686800-1754695800@charlestown.ie
SUMMARY:Live Music - Shane Downey ( Johnny's Bar)
DESCRIPTION:
URL:https://charlestown.ie/event/live-music-shane-downey-johnnys-bar/2025-08-08/
LOCATION:Johnny’s Bar & Off Licence\, The Square\, Charlestown\, Co Mayo\, Ireland
CATEGORIES:Live Music
ATTACH;FMTTYPE=image/jpeg:https://charlestown.ie/wp-content/uploads/2025/08/Screenshot_20250807_124005_Facebook.jpg
END:VEVENT
BEGIN:VEVENT
DTSTART;TZID=Europe/Dublin:20250712T220000
DTEND;TZID=Europe/Dublin:20250712T233000
DTSTAMP:20260423T213325
CREATED:20250710T013625Z
LAST-MODIFIED:20250710T013625Z
UID:10002094-1752357600-1752363000@charlestown.ie
SUMMARY:Live Music - DJ James ( Murrays Bar)
DESCRIPTION:
URL:https://charlestown.ie/event/live-music-dj-james-murrays-bar/
LOCATION:Murray’s Bar
CATEGORIES:Live Music
ATTACH;FMTTYPE=image/jpeg:https://charlestown.ie/wp-content/uploads/2025/07/Screenshot_20250710_023335_Google.jpg
END:VEVENT
BEGIN:VEVENT
DTSTART;TZID=Europe/Dublin:20250705T213000
DTEND;TZID=Europe/Dublin:20250705T233000
DTSTAMP:20260423T213325
CREATED:20250701T184539Z
LAST-MODIFIED:20250701T184539Z
UID:10002085-1751751000-1751758200@charlestown.ie
SUMMARY:Live Music - Oisin McCann (Johnny’s)
DESCRIPTION:
URL:https://charlestown.ie/event/live-music-oisin-mccann-johnnys/
LOCATION:Johnny’s Bar & Off Licence\, The Square\, Charlestown\, Co Mayo\, Ireland
CATEGORIES:Live Music
ATTACH;FMTTYPE=image/jpeg:https://charlestown.ie/wp-content/uploads/2023/02/Music-Generation-1.jpg
END:VEVENT
BEGIN:VEVENT
DTSTART;TZID=Europe/Dublin:20250705T213000
DTEND;TZID=Europe/Dublin:20250705T233000
DTSTAMP:20260423T213325
CREATED:20250701T183627Z
LAST-MODIFIED:20250701T183627Z
UID:10002083-1751751000-1751758200@charlestown.ie
SUMMARY:Live Music - MATICA (Murrays)
DESCRIPTION:
URL:https://charlestown.ie/event/live-music-matica-murrays/
LOCATION:Co Mayo
CATEGORIES:Live Music
ATTACH;FMTTYPE=image/jpeg:https://charlestown.ie/wp-content/uploads/2023/02/Music-Generation-1.jpg
END:VEVENT
BEGIN:VEVENT
DTSTART;TZID=Europe/Dublin:20250621T213000
DTEND;TZID=Europe/Dublin:20250621T233000
DTSTAMP:20260423T213325
CREATED:20250618T132507Z
LAST-MODIFIED:20250618T132507Z
UID:10002071-1750541400-1750548600@charlestown.ie
SUMMARY:Live Music - Finéinn Quinn ( Johnny's Bar)
DESCRIPTION:
URL:https://charlestown.ie/event/live-music-fineinn-quinn-johnnys-bar/
LOCATION:Johnny’s Bar & Off Licence\, The Square\, Charlestown\, Co Mayo\, Ireland
CATEGORIES:Live Music
ATTACH;FMTTYPE=image/jpeg:https://charlestown.ie/wp-content/uploads/2025/06/Screenshot_20250618_142217_Facebook.jpg
END:VEVENT
END:VCALENDAR