BEGIN:VCALENDAR
VERSION:2.0
PRODID:-//Charlestown - ECPv6.6.4.2//NONSGML v1.0//EN
CALSCALE:GREGORIAN
METHOD:PUBLISH
X-ORIGINAL-URL:https://charlestown.ie
X-WR-CALDESC:Events for Charlestown
REFRESH-INTERVAL;VALUE=DURATION:PT1H
X-Robots-Tag:noindex
X-PUBLISHED-TTL:PT1H
BEGIN:VTIMEZONE
TZID:Europe/Dublin
BEGIN:DAYLIGHT
TZOFFSETFROM:+0000
TZOFFSETTO:+0100
TZNAME:IST
DTSTART:20260329T010000
END:DAYLIGHT
BEGIN:STANDARD
TZOFFSETFROM:+0100
TZOFFSETTO:+0000
TZNAME:GMT
DTSTART:20261025T010000
END:STANDARD
END:VTIMEZONE
BEGIN:VEVENT
DTSTART;TZID=Europe/Dublin:20260103T213000
DTEND;TZID=Europe/Dublin:20260103T230000
DTSTAMP:20260424T002807
CREATED:20251128T155535Z
LAST-MODIFIED:20251128T155535Z
UID:10003232-1767475800-1767481200@charlestown.ie
SUMMARY:Christmas Live Music - Johnny's Bar
DESCRIPTION:
URL:https://charlestown.ie/event/christmas-live-music-johnnys-bar/2026-01-03/
LOCATION:Johnny’s Bar & Off Licence\, The Square\, Charlestown\, Co Mayo\, Ireland
CATEGORIES:Live Music
ATTACH;FMTTYPE=image/jpeg:https://charlestown.ie/wp-content/uploads/2025/11/Screenshot_20251128_154443_Facebook.jpg
END:VEVENT
END:VCALENDAR