BEGIN:VCALENDAR
VERSION:2.0
PRODID:-//Charlestown - ECPv6.6.4.2//NONSGML v1.0//EN
CALSCALE:GREGORIAN
METHOD:PUBLISH
X-WR-CALNAME:Charlestown
X-ORIGINAL-URL:https://charlestown.ie
X-WR-CALDESC:Events for Charlestown
REFRESH-INTERVAL;VALUE=DURATION:PT1H
X-Robots-Tag:noindex
X-PUBLISHED-TTL:PT1H
BEGIN:VTIMEZONE
TZID:Europe/Dublin
BEGIN:DAYLIGHT
TZOFFSETFROM:+0000
TZOFFSETTO:+0100
TZNAME:IST
DTSTART:20250330T010000
END:DAYLIGHT
BEGIN:STANDARD
TZOFFSETFROM:+0100
TZOFFSETTO:+0000
TZNAME:GMT
DTSTART:20251026T010000
END:STANDARD
END:VTIMEZONE
BEGIN:VEVENT
DTSTART;TZID=Europe/Dublin:20251213T213000
DTEND;TZID=Europe/Dublin:20251213T233000
DTSTAMP:20260423T225119
CREATED:20251128T155535Z
LAST-MODIFIED:20251128T155535Z
UID:10003221-1765661400-1765668600@charlestown.ie
SUMMARY:Christmas Live Music - Johnny's Bar
DESCRIPTION:
URL:https://charlestown.ie/event/christmas-live-music-johnnys-bar/2025-12-13/
LOCATION:Johnny’s Bar & Off Licence\, The Square\, Charlestown\, Co Mayo\, Ireland
CATEGORIES:Live Music
ATTACH;FMTTYPE=image/jpeg:https://charlestown.ie/wp-content/uploads/2025/11/Screenshot_20251128_154443_Facebook.jpg
END:VEVENT
BEGIN:VEVENT
DTSTART;TZID=Europe/Dublin:20251214T213000
DTEND;TZID=Europe/Dublin:20251214T233000
DTSTAMP:20260423T225119
CREATED:20251128T155535Z
LAST-MODIFIED:20251128T155535Z
UID:10003222-1765747800-1765755000@charlestown.ie
SUMMARY:Christmas Live Music - Johnny's Bar
DESCRIPTION:
URL:https://charlestown.ie/event/christmas-live-music-johnnys-bar/2025-12-14/
LOCATION:Johnny’s Bar & Off Licence\, The Square\, Charlestown\, Co Mayo\, Ireland
CATEGORIES:Live Music
ATTACH;FMTTYPE=image/jpeg:https://charlestown.ie/wp-content/uploads/2025/11/Screenshot_20251128_154443_Facebook.jpg
END:VEVENT
BEGIN:VEVENT
DTSTART;TZID=Europe/Dublin:20251219T213000
DTEND;TZID=Europe/Dublin:20251219T233000
DTSTAMP:20260423T225119
CREATED:20251128T155535Z
LAST-MODIFIED:20251128T155535Z
UID:10003223-1766179800-1766187000@charlestown.ie
SUMMARY:Christmas Live Music - Johnny's Bar
DESCRIPTION:
URL:https://charlestown.ie/event/christmas-live-music-johnnys-bar/2025-12-19/
LOCATION:Johnny’s Bar & Off Licence\, The Square\, Charlestown\, Co Mayo\, Ireland
CATEGORIES:Live Music
ATTACH;FMTTYPE=image/jpeg:https://charlestown.ie/wp-content/uploads/2025/11/Screenshot_20251128_154443_Facebook.jpg
END:VEVENT
BEGIN:VEVENT
DTSTART;TZID=Europe/Dublin:20251220T213000
DTEND;TZID=Europe/Dublin:20251220T233000
DTSTAMP:20260423T225119
CREATED:20251128T155535Z
LAST-MODIFIED:20251128T155535Z
UID:10003224-1766266200-1766273400@charlestown.ie
SUMMARY:Christmas Live Music - Johnny's Bar
DESCRIPTION:
URL:https://charlestown.ie/event/christmas-live-music-johnnys-bar/2025-12-20/
LOCATION:Johnny’s Bar & Off Licence\, The Square\, Charlestown\, Co Mayo\, Ireland
CATEGORIES:Live Music
ATTACH;FMTTYPE=image/jpeg:https://charlestown.ie/wp-content/uploads/2025/11/Screenshot_20251128_154443_Facebook.jpg
END:VEVENT
BEGIN:VEVENT
DTSTART;TZID=Europe/Dublin:20251221T213000
DTEND;TZID=Europe/Dublin:20251221T233000
DTSTAMP:20260423T225119
CREATED:20251128T155535Z
LAST-MODIFIED:20251128T155535Z
UID:10003225-1766352600-1766359800@charlestown.ie
SUMMARY:Christmas Live Music - Johnny's Bar
DESCRIPTION:
URL:https://charlestown.ie/event/christmas-live-music-johnnys-bar/2025-12-21/
LOCATION:Johnny’s Bar & Off Licence\, The Square\, Charlestown\, Co Mayo\, Ireland
CATEGORIES:Live Music
ATTACH;FMTTYPE=image/jpeg:https://charlestown.ie/wp-content/uploads/2025/11/Screenshot_20251128_154443_Facebook.jpg
END:VEVENT
BEGIN:VEVENT
DTSTART;TZID=Europe/Dublin:20251222T213000
DTEND;TZID=Europe/Dublin:20251222T233000
DTSTAMP:20260423T225119
CREATED:20251128T155535Z
LAST-MODIFIED:20251128T155535Z
UID:10003226-1766439000-1766446200@charlestown.ie
SUMMARY:Christmas Live Music - Johnny's Bar
DESCRIPTION:
URL:https://charlestown.ie/event/christmas-live-music-johnnys-bar/2025-12-22/
LOCATION:Johnny’s Bar & Off Licence\, The Square\, Charlestown\, Co Mayo\, Ireland
CATEGORIES:Live Music
ATTACH;FMTTYPE=image/jpeg:https://charlestown.ie/wp-content/uploads/2025/11/Screenshot_20251128_154443_Facebook.jpg
END:VEVENT
BEGIN:VEVENT
DTSTART;TZID=Europe/Dublin:20251223T213000
DTEND;TZID=Europe/Dublin:20251223T233000
DTSTAMP:20260423T225119
CREATED:20251128T155535Z
LAST-MODIFIED:20251128T155535Z
UID:10003227-1766525400-1766532600@charlestown.ie
SUMMARY:Christmas Live Music - Johnny's Bar
DESCRIPTION:
URL:https://charlestown.ie/event/christmas-live-music-johnnys-bar/2025-12-23/
LOCATION:Johnny’s Bar & Off Licence\, The Square\, Charlestown\, Co Mayo\, Ireland
CATEGORIES:Live Music
ATTACH;FMTTYPE=image/jpeg:https://charlestown.ie/wp-content/uploads/2025/11/Screenshot_20251128_154443_Facebook.jpg
END:VEVENT
BEGIN:VEVENT
DTSTART;TZID=Europe/Dublin:20251226T213000
DTEND;TZID=Europe/Dublin:20251226T233000
DTSTAMP:20260423T225119
CREATED:20251128T155535Z
LAST-MODIFIED:20251128T155535Z
UID:10003228-1766784600-1766791800@charlestown.ie
SUMMARY:Christmas Live Music - Johnny's Bar
DESCRIPTION:
URL:https://charlestown.ie/event/christmas-live-music-johnnys-bar/2025-12-26/
LOCATION:Johnny’s Bar & Off Licence\, The Square\, Charlestown\, Co Mayo\, Ireland
CATEGORIES:Live Music
ATTACH;FMTTYPE=image/jpeg:https://charlestown.ie/wp-content/uploads/2025/11/Screenshot_20251128_154443_Facebook.jpg
END:VEVENT
BEGIN:VEVENT
DTSTART;TZID=Europe/Dublin:20251227T213000
DTEND;TZID=Europe/Dublin:20251227T233000
DTSTAMP:20260423T225119
CREATED:20251128T155535Z
LAST-MODIFIED:20251128T155535Z
UID:10003229-1766871000-1766878200@charlestown.ie
SUMMARY:Christmas Live Music - Johnny's Bar
DESCRIPTION:
URL:https://charlestown.ie/event/christmas-live-music-johnnys-bar/2025-12-27/
LOCATION:Johnny’s Bar & Off Licence\, The Square\, Charlestown\, Co Mayo\, Ireland
CATEGORIES:Live Music
ATTACH;FMTTYPE=image/jpeg:https://charlestown.ie/wp-content/uploads/2025/11/Screenshot_20251128_154443_Facebook.jpg
END:VEVENT
BEGIN:VEVENT
DTSTART;TZID=Europe/Dublin:20251228T213000
DTEND;TZID=Europe/Dublin:20251228T233000
DTSTAMP:20260423T225119
CREATED:20251128T155535Z
LAST-MODIFIED:20251128T155535Z
UID:10003230-1766957400-1766964600@charlestown.ie
SUMMARY:Christmas Live Music - Johnny's Bar
DESCRIPTION:
URL:https://charlestown.ie/event/christmas-live-music-johnnys-bar/2025-12-28/
LOCATION:Johnny’s Bar & Off Licence\, The Square\, Charlestown\, Co Mayo\, Ireland
CATEGORIES:Live Music
ATTACH;FMTTYPE=image/jpeg:https://charlestown.ie/wp-content/uploads/2025/11/Screenshot_20251128_154443_Facebook.jpg
END:VEVENT
END:VCALENDAR