BEGIN:VCALENDAR
VERSION:2.0
PRODID:-//Charlestown - ECPv6.6.4.2//NONSGML v1.0//EN
CALSCALE:GREGORIAN
METHOD:PUBLISH
X-ORIGINAL-URL:https://charlestown.ie
X-WR-CALDESC:Events for Charlestown
REFRESH-INTERVAL;VALUE=DURATION:PT1H
X-Robots-Tag:noindex
X-PUBLISHED-TTL:PT1H
BEGIN:VTIMEZONE
TZID:Europe/Dublin
BEGIN:DAYLIGHT
TZOFFSETFROM:+0000
TZOFFSETTO:+0100
TZNAME:IST
DTSTART:20250330T010000
END:DAYLIGHT
BEGIN:STANDARD
TZOFFSETFROM:+0100
TZOFFSETTO:+0000
TZNAME:GMT
DTSTART:20251026T010000
END:STANDARD
BEGIN:DAYLIGHT
TZOFFSETFROM:+0000
TZOFFSETTO:+0100
TZNAME:IST
DTSTART:20260329T010000
END:DAYLIGHT
BEGIN:STANDARD
TZOFFSETFROM:+0100
TZOFFSETTO:+0000
TZNAME:GMT
DTSTART:20261025T010000
END:STANDARD
END:VTIMEZONE
BEGIN:VEVENT
DTSTART;TZID=Europe/Dublin:20260308T123000
DTEND;TZID=Europe/Dublin:20260308T133000
DTSTAMP:20260425T151938
CREATED:20260306T170846Z
LAST-MODIFIED:20260306T170846Z
UID:10003518-1772973000-1772976600@charlestown.ie
SUMMARY:GAA - Seniors v Aghamore (home)
DESCRIPTION:
URL:https://charlestown.ie/event/gaa-seniors-v-aghamore-home/
LOCATION:Fr. O’ Hara Park\, Charlestown Sarsfields GAA Club\, Lowpark\, Charlestown\, Mayo
CATEGORIES:GAA- LGFA
ATTACH;FMTTYPE=image/jpeg:https://charlestown.ie/wp-content/uploads/2024/09/Screenshot_20240919_200230_Facebook.jpg
ORGANIZER;CN="Charlestown Sarsfields GAA":MAILTO:secretary.charlestown.mayo@gaa.ie
END:VEVENT
BEGIN:VEVENT
DTSTART;TZID=Europe/Dublin:20260308T110000
DTEND;TZID=Europe/Dublin:20260308T120000
DTSTAMP:20260425T151938
CREATED:20260306T171055Z
LAST-MODIFIED:20260306T171055Z
UID:10003519-1772967600-1772971200@charlestown.ie
SUMMARY:LGFA - Seniors v Kilmovee League RD1(home)
DESCRIPTION:
URL:https://charlestown.ie/event/lgfa-seniors-v-kilmovee-league-rd1home/
LOCATION:Fr. O’ Hara Park\, Charlestown Sarsfields GAA Club\, Lowpark\, Charlestown\, Mayo
CATEGORIES:GAA- LGFA
ATTACH;FMTTYPE=image/jpeg:https://charlestown.ie/wp-content/uploads/2024/09/LGFA-Gloves.jpg
END:VEVENT
BEGIN:VEVENT
DTSTART;TZID=Europe/Dublin:20260228T180000
DTEND;TZID=Europe/Dublin:20260228T190000
DTSTAMP:20260425T151938
CREATED:20260221T144418Z
LAST-MODIFIED:20260221T144418Z
UID:10003513-1772301600-1772305200@charlestown.ie
SUMMARY:Underage Medal Presentation
DESCRIPTION:
URL:https://charlestown.ie/event/underage-medal-presentation/
LOCATION:CBD Recreational Centre\, Charlestown\, Lowpark\, Charlestown\, Mayo\, Ireland
CATEGORIES:GAA- LGFA
ATTACH;FMTTYPE=image/jpeg:https://charlestown.ie/wp-content/uploads/2026/02/Screenshot_20260221_143805_WhatsApp.jpg
END:VEVENT
BEGIN:VEVENT
DTSTART;TZID=Europe/Dublin:20260228T173000
DTEND;TZID=Europe/Dublin:20260228T190000
DTSTAMP:20260425T151938
CREATED:20260117T171736Z
LAST-MODIFIED:20260117T171736Z
UID:10003238-1772299800-1772305200@charlestown.ie
SUMMARY:Underage GAA/LGFA Medal Presentation
DESCRIPTION:
URL:https://charlestown.ie/event/underage-gaa-lgfa-medal-presentation/
LOCATION:CBD Recreational Centre\, Charlestown\, Lowpark\, Charlestown\, Mayo\, Ireland
CATEGORIES:GAA- LGFA
ATTACH;FMTTYPE=image/jpeg:https://charlestown.ie/wp-content/uploads/2024/09/Screenshot_20240923_154557_Adobe-Acrobat.jpg
END:VEVENT
BEGIN:VEVENT
DTSTART;TZID=Europe/Dublin:20251102T120000
DTEND;TZID=Europe/Dublin:20251102T140000
DTSTAMP:20260425T151938
CREATED:20251028T122615Z
LAST-MODIFIED:20251028T122615Z
UID:10002982-1762084800-1762092000@charlestown.ie
SUMMARY:GAA - U21C C'Ship v Shrule (home)
DESCRIPTION:
URL:https://charlestown.ie/event/gaa-u21c-cship-v-shrule-home/
LOCATION:Fr. O’ Hara Park\, Charlestown Sarsfields GAA Club\, Lowpark\, Charlestown\, Mayo
CATEGORIES:GAA- LGFA
ATTACH;FMTTYPE=image/jpeg:https://charlestown.ie/wp-content/uploads/2024/09/Screenshot_20240919_200230_Facebook.jpg
END:VEVENT
BEGIN:VEVENT
DTSTART;TZID=Europe/Dublin:20251019T140000
DTEND;TZID=Europe/Dublin:20251019T180000
DTSTAMP:20260425T151938
CREATED:20251018T151758Z
LAST-MODIFIED:20251018T152830Z
UID:10002965-1760882400-1760896800@charlestown.ie
SUMMARY:GAA - Mayo Senior Final - ( Walsh's Bar)
DESCRIPTION:
URL:https://charlestown.ie/event/gaa-mayo-senior-final-walshs-bar/
LOCATION:Walsh’s Public House\, Main Street\, Charlestown\, Mayo\, Ireland
CATEGORIES:GAA- LGFA
ATTACH;FMTTYPE=image/jpeg:https://charlestown.ie/wp-content/uploads/2025/10/Screenshot_20251018_161334_Facebook.jpg
END:VEVENT
BEGIN:VEVENT
DTSTART;TZID=Europe/Dublin:20250924T183000
DTEND;TZID=Europe/Dublin:20250924T200000
DTSTAMP:20260425T151938
CREATED:20250922T084341Z
LAST-MODIFIED:20250922T084341Z
UID:10002911-1758738600-1758744000@charlestown.ie
SUMMARY:LGFA - U13 Grading League v Louisburg (away)
DESCRIPTION:
URL:https://charlestown.ie/event/lgfa-u13-grading-league-v-louisburg-away/
CATEGORIES:GAA- LGFA
ATTACH;FMTTYPE=image/jpeg:https://charlestown.ie/wp-content/uploads/2024/09/LGFA-Gloves.jpg
END:VEVENT
BEGIN:VEVENT
DTSTART;TZID=Europe/Dublin:20250922T183000
DTEND;TZID=Europe/Dublin:20250922T200000
DTSTAMP:20260425T151938
CREATED:20250922T062137Z
LAST-MODIFIED:20250922T084418Z
UID:10002910-1758565800-1758571200@charlestown.ie
SUMMARY:LGFA - U13 Grading League v Knockmore A (home)
DESCRIPTION:
URL:https://charlestown.ie/event/lgfa-u13-v-knockmore-a-home/
LOCATION:Fr. O’ Hara Park\, Charlestown Sarsfields GAA Club\, Lowpark\, Charlestown\, Mayo
CATEGORIES:GAA- LGFA
ATTACH;FMTTYPE=image/jpeg:https://charlestown.ie/wp-content/uploads/2024/09/LGFA-Gloves.jpg
END:VEVENT
BEGIN:VEVENT
DTSTART;TZID=Europe/Dublin:20250921T140000
DTEND;TZID=Europe/Dublin:20250921T153000
DTSTAMP:20260425T151938
CREATED:20250918T084713Z
LAST-MODIFIED:20250918T084713Z
UID:10002908-1758463200-1758468600@charlestown.ie
SUMMARY:GAA - Seniors Relegation Semi Final v Mayo Gaels ( away)
DESCRIPTION:
URL:https://charlestown.ie/event/gaa-seniors-relegation-semi-final-v-mayo-gaels-away/
CATEGORIES:GAA- LGFA
ATTACH;FMTTYPE=image/jpeg:https://charlestown.ie/wp-content/uploads/2024/09/Screenshot_20240919_200230_Facebook.jpg
ORGANIZER;CN="Charlestown Sarsfields GAA":MAILTO:secretary.charlestown.mayo@gaa.ie
END:VEVENT
BEGIN:VEVENT
DTSTART;TZID=Europe/Dublin:20250921T110000
DTEND;TZID=Europe/Dublin:20250921T153000
DTSTAMP:20260425T151938
CREATED:20250918T084915Z
LAST-MODIFIED:20250918T084915Z
UID:10002909-1758452400-1758468600@charlestown.ie
SUMMARY:LGFA - Shield Final  - Seniors v Kilmovee(away)
DESCRIPTION:
URL:https://charlestown.ie/event/lgfa-shield-final-seniors-v-kilmoveeaway/
CATEGORIES:GAA- LGFA
ATTACH;FMTTYPE=image/jpeg:https://charlestown.ie/wp-content/uploads/2024/09/LGFA-Gloves.jpg
END:VEVENT
BEGIN:VEVENT
DTSTART;TZID=Europe/Dublin:20250920T133000
DTEND;TZID=Europe/Dublin:20250920T143000
DTSTAMP:20260425T151938
CREATED:20250913T233536Z
LAST-MODIFIED:20250913T233536Z
UID:10002907-1758375000-1758378600@charlestown.ie
SUMMARY:GAA - U13 Dev Grading League Final v Belmullet( away)
DESCRIPTION:
URL:https://charlestown.ie/event/gaa-u13-dev-grading-league-final-v-belmullet-away/
CATEGORIES:GAA- LGFA
ATTACH;FMTTYPE=image/jpeg:https://charlestown.ie/wp-content/uploads/2024/09/Screenshot_20240923_154557_Adobe-Acrobat.jpg
END:VEVENT
BEGIN:VEVENT
DTSTART;TZID=Europe/Dublin:20250920T110000
DTEND;TZID=Europe/Dublin:20250920T123000
DTSTAMP:20260425T151938
CREATED:20250908T172804Z
LAST-MODIFIED:20250917T065743Z
UID:10002896-1758366000-1758371400@charlestown.ie
SUMMARY:LGFA - U16 A Championship Shield Semi Final  v Kilmoremoy(home)
DESCRIPTION:
URL:https://charlestown.ie/event/lgfa-u16-a-championship-shield-semi-final-v-kilmoremoyhome/
LOCATION:Fr. O’ Hara Park\, Charlestown Sarsfields GAA Club\, Lowpark\, Charlestown\, Mayo
CATEGORIES:GAA- LGFA
ATTACH;FMTTYPE=image/jpeg:https://charlestown.ie/wp-content/uploads/2024/09/LGFA-Gloves.jpg
END:VEVENT
BEGIN:VEVENT
DTSTART;TZID=Europe/Dublin:20250918T183000
DTEND;TZID=Europe/Dublin:20250918T203000
DTSTAMP:20260425T151938
CREATED:20250913T233058Z
LAST-MODIFIED:20250913T233058Z
UID:10002906-1758220200-1758227400@charlestown.ie
SUMMARY:GAA - U15 Grading v Ballaghadereen(home)
DESCRIPTION:
URL:https://charlestown.ie/event/gaa-u15-grading-v-ballaghadereenhome/
LOCATION:Fr. O’ Hara Park\, Charlestown Sarsfields GAA Club\, Lowpark\, Charlestown\, Mayo
CATEGORIES:GAA- LGFA
ATTACH;FMTTYPE=image/jpeg:https://charlestown.ie/wp-content/uploads/2024/09/Screenshot_20240923_154557_Adobe-Acrobat.jpg
END:VEVENT
BEGIN:VEVENT
DTSTART;TZID=Europe/Dublin:20250916T183000
DTEND;TZID=Europe/Dublin:20250916T203000
DTSTAMP:20260425T151938
CREATED:20250913T232647Z
LAST-MODIFIED:20250913T232647Z
UID:10002905-1758047400-1758054600@charlestown.ie
SUMMARY:LGFA - U17 Grading League v St Jarlath's (away)
DESCRIPTION:
URL:https://charlestown.ie/event/lgfa-u17-grading-league-v-st-jarlaths-away/
CATEGORIES:GAA- LGFA
ATTACH;FMTTYPE=image/jpeg:https://charlestown.ie/wp-content/uploads/2024/09/LGFA-Gloves.jpg
END:VEVENT
BEGIN:VEVENT
DTSTART;TZID=Europe/Dublin:20250914T110000
DTEND;TZID=Europe/Dublin:20250914T123000
DTSTAMP:20260425T151938
CREATED:20250908T173458Z
LAST-MODIFIED:20250908T173458Z
UID:10002898-1757847600-1757853000@charlestown.ie
SUMMARY:GAA - U15 Grading Dev League v Ballinrobe( away)
DESCRIPTION:
URL:https://charlestown.ie/event/gaa-u15-grading-dev-league-v-ballinrobe-away/
CATEGORIES:GAA- LGFA
ATTACH;FMTTYPE=image/jpeg:https://charlestown.ie/wp-content/uploads/2024/09/Screenshot_20240923_154557_Adobe-Acrobat.jpg
END:VEVENT
BEGIN:VEVENT
DTSTART;TZID=Europe/Dublin:20250914T110000
DTEND;TZID=Europe/Dublin:20250914T123000
DTSTAMP:20260425T151938
CREATED:20250723T174454Z
LAST-MODIFIED:20250913T232405Z
UID:10002120-1757847600-1757853000@charlestown.ie
SUMMARY:LGFA - Senior C'ship v Westport A (away)
DESCRIPTION:
URL:https://charlestown.ie/event/lgfa-senior-cship-v-westport-a-home/
CATEGORIES:GAA- LGFA
ATTACH;FMTTYPE=image/jpeg:https://charlestown.ie/wp-content/uploads/2024/09/LGFA-Gloves.jpg
END:VEVENT
BEGIN:VEVENT
DTSTART;TZID=Europe/Dublin:20250913T110000
DTEND;TZID=Europe/Dublin:20250913T123000
DTSTAMP:20260425T151938
CREATED:20250908T173045Z
LAST-MODIFIED:20250908T173045Z
UID:10002897-1757761200-1757766600@charlestown.ie
SUMMARY:GAA - U13 Grading Dev League v Kiltimagh( away)
DESCRIPTION:
URL:https://charlestown.ie/event/gaa-u13-grading-dev-league-v-kiltimagh-away/
CATEGORIES:GAA- LGFA
ATTACH;FMTTYPE=image/jpeg:https://charlestown.ie/wp-content/uploads/2024/09/Screenshot_20240923_154557_Adobe-Acrobat.jpg
END:VEVENT
BEGIN:VEVENT
DTSTART;TZID=Europe/Dublin:20250912T180000
DTEND;TZID=Europe/Dublin:20250912T200000
DTSTAMP:20260425T151938
CREATED:20250908T172403Z
LAST-MODIFIED:20250908T172841Z
UID:10002894-1757700000-1757707200@charlestown.ie
SUMMARY:LGFA - U15 League Semi Final v Westport (home)
DESCRIPTION:
URL:https://charlestown.ie/event/lgfa-u15-league-semi-final-v-westport-v-home/
LOCATION:Fr. O’ Hara Park\, Charlestown Sarsfields GAA Club\, Lowpark\, Charlestown\, Mayo
CATEGORIES:GAA- LGFA
ATTACH;FMTTYPE=image/jpeg:https://charlestown.ie/wp-content/uploads/2024/09/LGFA-Gloves.jpg
END:VEVENT
BEGIN:VEVENT
DTSTART;TZID=Europe/Dublin:20250911T183000
DTEND;TZID=Europe/Dublin:20250911T193000
DTSTAMP:20260425T151938
CREATED:20250908T173247Z
LAST-MODIFIED:20250908T173247Z
UID:10002893-1757615400-1757619000@charlestown.ie
SUMMARY:GAA - U15 Grading League v Swinford (home)
DESCRIPTION:
URL:https://charlestown.ie/event/gaa-u15-grading-league-v-swinford-home/
LOCATION:Fr. O’ Hara Park\, Charlestown Sarsfields GAA Club\, Lowpark\, Charlestown\, Mayo
CATEGORIES:GAA- LGFA
ATTACH;FMTTYPE=image/jpeg:https://charlestown.ie/wp-content/uploads/2024/09/Screenshot_20240923_154557_Adobe-Acrobat.jpg
END:VEVENT
BEGIN:VEVENT
DTSTART;TZID=Europe/Dublin:20250909T190000
DTEND;TZID=Europe/Dublin:20250909T203000
DTSTAMP:20260425T151938
CREATED:20250909T170557Z
LAST-MODIFIED:20250909T170557Z
UID:10002901-1757444400-1757449800@charlestown.ie
SUMMARY:GAA - U17 Grading League v Tourmakeady (home)
DESCRIPTION:
URL:https://charlestown.ie/event/gaa-u17-grading-league-v-tourmakeady-home/
LOCATION:Fr. O’ Hara Park\, Charlestown Sarsfields GAA Club\, Lowpark\, Charlestown\, Mayo
CATEGORIES:GAA- LGFA
ATTACH;FMTTYPE=image/jpeg:https://charlestown.ie/wp-content/uploads/2024/09/Screenshot_20240923_154557_Adobe-Acrobat.jpg
END:VEVENT
BEGIN:VEVENT
DTSTART;TZID=Europe/Dublin:20250908T190000
DTEND;TZID=Europe/Dublin:20250908T203000
DTSTAMP:20260425T151938
CREATED:20250823T090923Z
LAST-MODIFIED:20250823T090923Z
UID:10002876-1757358000-1757363400@charlestown.ie
SUMMARY:GAA - U13 v Aghamore (home)
DESCRIPTION:
URL:https://charlestown.ie/event/gaa-u13-v-aghamore-home/
CATEGORIES:GAA- LGFA
ATTACH;FMTTYPE=image/jpeg:https://charlestown.ie/wp-content/uploads/2024/09/Screenshot_20240923_154557_Adobe-Acrobat.jpg
END:VEVENT
BEGIN:VEVENT
DTSTART;TZID=Europe/Dublin:20250907T110000
DTEND;TZID=Europe/Dublin:20250907T123000
DTSTAMP:20260425T151938
CREATED:20250902T062850Z
LAST-MODIFIED:20250902T062850Z
UID:10002891-1757242800-1757248200@charlestown.ie
SUMMARY:GAA - U15 Grading League v Carras (home)
DESCRIPTION:
URL:https://charlestown.ie/event/gaa-u15-grading-league-v-carras-home/
LOCATION:Fr. O’ Hara Park\, Charlestown Sarsfields GAA Club\, Lowpark\, Charlestown\, Mayo
CATEGORIES:GAA- LGFA
ATTACH;FMTTYPE=image/jpeg:https://charlestown.ie/wp-content/uploads/2024/09/Screenshot_20240923_154557_Adobe-Acrobat.jpg
END:VEVENT
BEGIN:VEVENT
DTSTART;TZID=Europe/Dublin:20250907T110000
DTEND;TZID=Europe/Dublin:20250907T123000
DTSTAMP:20260425T151938
CREATED:20250723T174154Z
LAST-MODIFIED:20250723T174544Z
UID:10002119-1757242800-1757248200@charlestown.ie
SUMMARY:LGFA - Senior C'ship v Castlebar Mitchels A (away)
DESCRIPTION:
URL:https://charlestown.ie/event/lgfa-senior-cship-v-castlebar-mitchelsaway/
CATEGORIES:GAA- LGFA
ATTACH;FMTTYPE=image/jpeg:https://charlestown.ie/wp-content/uploads/2024/09/LGFA-Gloves.jpg
END:VEVENT
BEGIN:VEVENT
DTSTART;TZID=Europe/Dublin:20250906T200000
DTEND;TZID=Europe/Dublin:20250906T213000
DTSTAMP:20260425T151938
CREATED:20250827T023942Z
LAST-MODIFIED:20250829T192609Z
UID:10002878-1757188800-1757194200@charlestown.ie
SUMMARY:GAA - Senior C'ship v Claremorris (away)
DESCRIPTION:
URL:https://charlestown.ie/event/gaa-senior-cship-v-claremorris-away/
CATEGORIES:GAA- LGFA
ATTACH;FMTTYPE=image/jpeg:https://charlestown.ie/wp-content/uploads/2024/09/Screenshot_20240919_200230_Facebook.jpg
ORGANIZER;CN="Charlestown Sarsfields GAA":MAILTO:secretary.charlestown.mayo@gaa.ie
END:VEVENT
BEGIN:VEVENT
DTSTART;TZID=Europe/Dublin:20250906T110000
DTEND;TZID=Europe/Dublin:20250906T130000
DTSTAMP:20260425T151938
CREATED:20250901T205634Z
LAST-MODIFIED:20250901T205634Z
UID:10002882-1757156400-1757163600@charlestown.ie
SUMMARY:GAA - U13 Grading v Swinford(home)
DESCRIPTION:
URL:https://charlestown.ie/event/gaa-u13-grading-v-swinfordhome/
LOCATION:Fr. O’ Hara Park\, Charlestown Sarsfields GAA Club\, Lowpark\, Charlestown\, Mayo
CATEGORIES:GAA- LGFA
ATTACH;FMTTYPE=image/jpeg:https://charlestown.ie/wp-content/uploads/2024/09/Screenshot_20240923_154557_Adobe-Acrobat.jpg
END:VEVENT
BEGIN:VEVENT
DTSTART;TZID=Europe/Dublin:20250905T190000
DTEND;TZID=Europe/Dublin:20250905T203000
DTSTAMP:20260425T151938
CREATED:20250902T062256Z
LAST-MODIFIED:20250902T062256Z
UID:10002889-1757098800-1757104200@charlestown.ie
SUMMARY:LGFA - U15 Div1 League v Swinford (home)
DESCRIPTION:
URL:https://charlestown.ie/event/lgfa-u15-div1-league-v-swinford-home/
LOCATION:Fr. O’ Hara Park\, Charlestown Sarsfields GAA Club\, Lowpark\, Charlestown\, Mayo
CATEGORIES:GAA- LGFA
ATTACH;FMTTYPE=image/jpeg:https://charlestown.ie/wp-content/uploads/2024/09/LGFA-Gloves.jpg
END:VEVENT
BEGIN:VEVENT
DTSTART;TZID=Europe/Dublin:20250904T190000
DTEND;TZID=Europe/Dublin:20250904T203000
DTSTAMP:20260425T151938
CREATED:20250902T062533Z
LAST-MODIFIED:20250902T062533Z
UID:10002890-1757012400-1757017800@charlestown.ie
SUMMARY:GAA - U15 Grading League v St Jarlaths (away)
DESCRIPTION:
URL:https://charlestown.ie/event/gaa-u15-grading-league-v-st-jarlaths-away/
CATEGORIES:GAA- LGFA
ATTACH;FMTTYPE=image/jpeg:https://charlestown.ie/wp-content/uploads/2024/09/Screenshot_20240923_154557_Adobe-Acrobat.jpg
END:VEVENT
BEGIN:VEVENT
DTSTART;TZID=Europe/Dublin:20250902T190000
DTEND;TZID=Europe/Dublin:20250902T203000
DTSTAMP:20260425T151938
CREATED:20250829T192932Z
LAST-MODIFIED:20250829T192932Z
UID:10002110-1756839600-1756845000@charlestown.ie
SUMMARY:GAA - U17 Grading League v The Neale (away)
DESCRIPTION:
URL:https://charlestown.ie/event/gaa-u17-grading-league-v-the-neale-away/
CATEGORIES:GAA- LGFA
ATTACH;FMTTYPE=image/jpeg:https://charlestown.ie/wp-content/uploads/2024/09/Screenshot_20240923_154557_Adobe-Acrobat.jpg
END:VEVENT
BEGIN:VEVENT
DTSTART;TZID=Europe/Dublin:20250902T190000
DTEND;TZID=Europe/Dublin:20250902T203000
DTSTAMP:20260425T151938
CREATED:20250813T221502Z
LAST-MODIFIED:20250829T192504Z
UID:10002146-1756839600-1756845000@charlestown.ie
SUMMARY:LGFA - U16 C'ship v MacHale Rovers (away)
DESCRIPTION:
URL:https://charlestown.ie/event/lgfa-u16-cship-v-machale-rovers-away/
CATEGORIES:GAA- LGFA
ATTACH;FMTTYPE=image/jpeg:https://charlestown.ie/wp-content/uploads/2024/09/LGFA-Gloves.jpg
END:VEVENT
BEGIN:VEVENT
DTSTART;TZID=Europe/Dublin:20250901T190000
DTEND;TZID=Europe/Dublin:20250901T203000
DTSTAMP:20260425T151938
CREATED:20250823T090810Z
LAST-MODIFIED:20250823T091013Z
UID:10002875-1756753200-1756758600@charlestown.ie
SUMMARY:GAA - U13 v Ballintubber (home)
DESCRIPTION:
URL:https://charlestown.ie/event/gaa-u13-v-ballintubber-home/
CATEGORIES:GAA- LGFA
ATTACH;FMTTYPE=image/jpeg:https://charlestown.ie/wp-content/uploads/2024/09/Screenshot_20240923_154557_Adobe-Acrobat.jpg
END:VEVENT
END:VCALENDAR