BEGIN:VCALENDAR
VERSION:2.0
PRODID:-//Charlestown - ECPv6.6.4.2//NONSGML v1.0//EN
CALSCALE:GREGORIAN
METHOD:PUBLISH
X-WR-CALNAME:Charlestown
X-ORIGINAL-URL:https://charlestown.ie
X-WR-CALDESC:Events for Charlestown
REFRESH-INTERVAL;VALUE=DURATION:PT1H
X-Robots-Tag:noindex
X-PUBLISHED-TTL:PT1H
BEGIN:VTIMEZONE
TZID:Europe/Dublin
BEGIN:DAYLIGHT
TZOFFSETFROM:+0000
TZOFFSETTO:+0100
TZNAME:IST
DTSTART:20250330T010000
END:DAYLIGHT
BEGIN:STANDARD
TZOFFSETFROM:+0100
TZOFFSETTO:+0000
TZNAME:GMT
DTSTART:20251026T010000
END:STANDARD
END:VTIMEZONE
BEGIN:VEVENT
DTSTART;TZID=Europe/Dublin:20250721T190000
DTEND;TZID=Europe/Dublin:20250721T200000
DTSTAMP:20260426T013728
CREATED:20250721T160053Z
LAST-MODIFIED:20250721T160750Z
UID:10002103-1753124400-1753128000@charlestown.ie
SUMMARY:GAA - U14 Development C'Ship v Swinford (away)
DESCRIPTION:
URL:https://charlestown.ie/event/gaa-u14-b-cship-v-claremorris-home/
CATEGORIES:GAA- LGFA
ATTACH;FMTTYPE=image/jpeg:https://charlestown.ie/wp-content/uploads/2024/09/Screenshot_20240923_154557_Adobe-Acrobat.jpg
END:VEVENT
BEGIN:VEVENT
DTSTART;TZID=Europe/Dublin:20250721T190000
DTEND;TZID=Europe/Dublin:20250721T203000
DTSTAMP:20260426T013728
CREATED:20250721T162503Z
LAST-MODIFIED:20250721T162503Z
UID:10002111-1753124400-1753129800@charlestown.ie
SUMMARY:GAA - U8 Go Games v Swinford (away)
DESCRIPTION:
URL:https://charlestown.ie/event/gaa-u8-go-games-v-swinford-away/
CATEGORIES:GAA- LGFA
ATTACH;FMTTYPE=image/jpeg:https://charlestown.ie/wp-content/uploads/2024/09/Screenshot_20240923_154557_Adobe-Acrobat.jpg
END:VEVENT
END:VCALENDAR