BEGIN:VCALENDAR
VERSION:2.0
PRODID:-//Charlestown - ECPv6.6.4.2//NONSGML v1.0//EN
CALSCALE:GREGORIAN
METHOD:PUBLISH
X-ORIGINAL-URL:https://charlestown.ie
X-WR-CALDESC:Events for Charlestown
REFRESH-INTERVAL;VALUE=DURATION:PT1H
X-Robots-Tag:noindex
X-PUBLISHED-TTL:PT1H
BEGIN:VTIMEZONE
TZID:Europe/Dublin
BEGIN:DAYLIGHT
TZOFFSETFROM:+0000
TZOFFSETTO:+0100
TZNAME:IST
DTSTART:20250330T010000
END:DAYLIGHT
BEGIN:STANDARD
TZOFFSETFROM:+0100
TZOFFSETTO:+0000
TZNAME:GMT
DTSTART:20251026T010000
END:STANDARD
END:VTIMEZONE
BEGIN:VEVENT
DTSTART;TZID=Europe/Dublin:20250528T180000
DTEND;TZID=Europe/Dublin:20250528T193000
DTSTAMP:20260426T025308
CREATED:20250527T062834Z
LAST-MODIFIED:20250527T062834Z
UID:10001977-1748455200-1748460600@charlestown.ie
SUMMARY:LGFA - U12 League v Belmullet (away)
DESCRIPTION:
URL:https://charlestown.ie/event/lgfa-u12-league-v-belmullet-away/
CATEGORIES:GAA- LGFA
ATTACH;FMTTYPE=image/jpeg:https://charlestown.ie/wp-content/uploads/2024/09/LGFA-Gloves.jpg
END:VEVENT
BEGIN:VEVENT
DTSTART;TZID=Europe/Dublin:20250528T180000
DTEND;TZID=Europe/Dublin:20250528T193000
DTSTAMP:20260426T025308
CREATED:20250527T071450Z
LAST-MODIFIED:20250527T071450Z
UID:10002050-1748455200-1748460600@charlestown.ie
SUMMARY:LGFA - U10 League v Claremorris(away)
DESCRIPTION:
URL:https://charlestown.ie/event/lgfa-u10-league-v-claremorrisaway/
CATEGORIES:GAA- LGFA
ATTACH;FMTTYPE=image/jpeg:https://charlestown.ie/wp-content/uploads/2024/09/LGFA-Gloves.jpg
END:VEVENT
BEGIN:VEVENT
DTSTART;TZID=Europe/Dublin:20250528T190000
DTEND;TZID=Europe/Dublin:20250528T200000
DTSTAMP:20260426T025308
CREATED:20250527T063308Z
LAST-MODIFIED:20250527T063308Z
UID:10001979-1748458800-1748462400@charlestown.ie
SUMMARY:GAA - U12 Spring League v Aghamore (home)
DESCRIPTION:
URL:https://charlestown.ie/event/gaa-u12-spring-league-v-aghamore-home-3/
LOCATION:Fr. O’ Hara Park\, Charlestown Sarsfields GAA Club\, Lowpark\, Charlestown\, Mayo
CATEGORIES:GAA- LGFA
ATTACH;FMTTYPE=image/jpeg:https://charlestown.ie/wp-content/uploads/2024/09/Screenshot_20240923_154557_Adobe-Acrobat.jpg
END:VEVENT
BEGIN:VEVENT
DTSTART;TZID=Europe/Dublin:20250528T190000
DTEND;TZID=Europe/Dublin:20250528T203000
DTSTAMP:20260426T025308
CREATED:20250521T210754Z
LAST-MODIFIED:20250521T210754Z
UID:10001975-1748458800-1748464200@charlestown.ie
SUMMARY:GAA - U12 Spring League v Aghamore (home)
DESCRIPTION:
URL:https://charlestown.ie/event/gaa-u12-spring-league-v-aghamore-home-2/
LOCATION:Fr. O’ Hara Park\, Charlestown Sarsfields GAA Club\, Lowpark\, Charlestown\, Mayo
CATEGORIES:GAA- LGFA
ATTACH;FMTTYPE=image/jpeg:https://charlestown.ie/wp-content/uploads/2024/09/Screenshot_20240923_154557_Adobe-Acrobat.jpg
END:VEVENT
BEGIN:VEVENT
DTSTART;TZID=Europe/Dublin:20250528T190000
DTEND;TZID=Europe/Dublin:20250528T203000
DTSTAMP:20260426T025308
CREATED:20250527T063034Z
LAST-MODIFIED:20250527T063034Z
UID:10001978-1748458800-1748464200@charlestown.ie
SUMMARY:LGFA - U14 League Semi Final v Tourmakeady (away)
DESCRIPTION:
URL:https://charlestown.ie/event/lgfa-u14-league-semi-final-v-tourmakeady-away/
CATEGORIES:GAA- LGFA
ATTACH;FMTTYPE=image/jpeg:https://charlestown.ie/wp-content/uploads/2024/09/LGFA-Gloves.jpg
END:VEVENT
END:VCALENDAR