BEGIN:VCALENDAR
VERSION:2.0
PRODID:-//Charlestown - ECPv6.6.4.2//NONSGML v1.0//EN
CALSCALE:GREGORIAN
METHOD:PUBLISH
X-ORIGINAL-URL:https://charlestown.ie
X-WR-CALDESC:Events for Charlestown
REFRESH-INTERVAL;VALUE=DURATION:PT1H
X-Robots-Tag:noindex
X-PUBLISHED-TTL:PT1H
BEGIN:VTIMEZONE
TZID:Europe/Dublin
BEGIN:DAYLIGHT
TZOFFSETFROM:+0000
TZOFFSETTO:+0100
TZNAME:IST
DTSTART:20250330T010000
END:DAYLIGHT
BEGIN:STANDARD
TZOFFSETFROM:+0100
TZOFFSETTO:+0000
TZNAME:GMT
DTSTART:20251026T010000
END:STANDARD
END:VTIMEZONE
BEGIN:VEVENT
DTSTART;TZID=Europe/Dublin:20251102T120000
DTEND;TZID=Europe/Dublin:20251102T140000
DTSTAMP:20260425T191529
CREATED:20251028T122615Z
LAST-MODIFIED:20251028T122615Z
UID:10002982-1762084800-1762092000@charlestown.ie
SUMMARY:GAA - U21C C'Ship v Shrule (home)
DESCRIPTION:
URL:https://charlestown.ie/event/gaa-u21c-cship-v-shrule-home/
LOCATION:Fr. O’ Hara Park\, Charlestown Sarsfields GAA Club\, Lowpark\, Charlestown\, Mayo
CATEGORIES:GAA- LGFA
ATTACH;FMTTYPE=image/jpeg:https://charlestown.ie/wp-content/uploads/2024/09/Screenshot_20240919_200230_Facebook.jpg
END:VEVENT
END:VCALENDAR