BEGIN:VCALENDAR
VERSION:2.0
PRODID:-//Charlestown - ECPv6.6.4.2//NONSGML v1.0//EN
CALSCALE:GREGORIAN
METHOD:PUBLISH
X-WR-CALNAME:Charlestown
X-ORIGINAL-URL:https://charlestown.ie
X-WR-CALDESC:Events for Charlestown
REFRESH-INTERVAL;VALUE=DURATION:PT1H
X-Robots-Tag:noindex
X-PUBLISHED-TTL:PT1H
BEGIN:VTIMEZONE
TZID:Europe/Dublin
BEGIN:DAYLIGHT
TZOFFSETFROM:+0000
TZOFFSETTO:+0100
TZNAME:IST
DTSTART:20250330T010000
END:DAYLIGHT
BEGIN:STANDARD
TZOFFSETFROM:+0100
TZOFFSETTO:+0000
TZNAME:GMT
DTSTART:20251026T010000
END:STANDARD
END:VTIMEZONE
BEGIN:VEVENT
DTSTART;TZID=Europe/Dublin:20250301T120000
DTEND;TZID=Europe/Dublin:20250301T140000
DTSTAMP:20260426T053440
CREATED:20250227T221717Z
LAST-MODIFIED:20250227T221717Z
UID:10001729-1740830400-1740837600@charlestown.ie
SUMMARY:GAA - Seniors County Cup 2024 v Garrymore ( Away) (Time TBC)
DESCRIPTION:
URL:https://charlestown.ie/event/gaa-seniors-county-cup-2024-v-garrymore-away-time-tbc/
CATEGORIES:GAA- LGFA
ATTACH;FMTTYPE=image/jpeg:https://charlestown.ie/wp-content/uploads/2024/09/Screenshot_20240919_200230_Facebook.jpg
ORGANIZER;CN="Charlestown Sarsfields GAA":MAILTO:secretary.charlestown.mayo@gaa.ie
END:VEVENT
BEGIN:VEVENT
DTSTART;TZID=Europe/Dublin:20250309T110000
DTEND;TZID=Europe/Dublin:20250309T130000
DTSTAMP:20260426T053440
CREATED:20250301T162220Z
LAST-MODIFIED:20250301T162220Z
UID:10001738-1741518000-1741525200@charlestown.ie
SUMMARY:LGFA - U18 Round 1 League v Swinford K (home)
DESCRIPTION:
URL:https://charlestown.ie/event/lgfa-u18-round-1-league-v-swinford-k-home/
LOCATION:Charlestown Sarsfields GAA grounds\, Lowpark\, Charlestown\, Co. Mayo\, Ireland
CATEGORIES:GAA- LGFA
ATTACH;FMTTYPE=image/jpeg:https://charlestown.ie/wp-content/uploads/2024/09/LGFA-Gloves.jpg
END:VEVENT
BEGIN:VEVENT
DTSTART;TZID=Europe/Dublin:20250309T140000
DTEND;TZID=Europe/Dublin:20250309T153000
DTSTAMP:20260426T053440
CREATED:20250309T033730Z
LAST-MODIFIED:20250309T033730Z
UID:10001743-1741528800-1741534200@charlestown.ie
SUMMARY:GAA - Seniors County Cup Final v Ballina (away)
DESCRIPTION:
URL:https://charlestown.ie/event/gaa-seniors-county-cup-final-v-ballina-away/
CATEGORIES:GAA- LGFA
ATTACH;FMTTYPE=image/jpeg:https://charlestown.ie/wp-content/uploads/2025/03/Screenshot_20250309_031408_Facebook.jpg
ORGANIZER;CN="Charlestown Sarsfields GAA":MAILTO:secretary.charlestown.mayo@gaa.ie
END:VEVENT
BEGIN:VEVENT
DTSTART;TZID=Europe/Dublin:20250310T110000
DTEND;TZID=Europe/Dublin:20250310T130000
DTSTAMP:20260426T053440
CREATED:20250310T014456Z
LAST-MODIFIED:20250310T015612Z
UID:10001744-1741604400-1741611600@charlestown.ie
SUMMARY:GAA - Junior School League St Joe's v Louisburg (Colm's Pitch)
DESCRIPTION:
URL:https://charlestown.ie/event/gaa-junior-league-st-joes-v-louisburg-schools-home/
LOCATION:Colm’s Pitch\, Fr O Hara Park\, Charlestown\, Ireland
CATEGORIES:GAA- LGFA
ATTACH;FMTTYPE=image/jpeg:https://charlestown.ie/wp-content/uploads/2023/01/St-Josephs-Image.jpg
END:VEVENT
BEGIN:VEVENT
DTSTART;TZID=Europe/Dublin:20250311T110000
DTEND;TZID=Europe/Dublin:20250311T133000
DTSTAMP:20260426T053440
CREATED:20250310T020946Z
LAST-MODIFIED:20250310T020946Z
UID:10001748-1741690800-1741699800@charlestown.ie
SUMMARY:LGFA - Schools Junior D Cup Final St Joe's v St Joseph's Castlebar ( away)
DESCRIPTION:
URL:https://charlestown.ie/event/lgfa-schools-junior-d-cup-final-st-joes-v-st-josephs-castlebar-away/
CATEGORIES:GAA- LGFA
ATTACH;FMTTYPE=image/jpeg:https://charlestown.ie/wp-content/uploads/2023/01/St-Josephs-Image.jpg
END:VEVENT
BEGIN:VEVENT
DTSTART;TZID=Europe/Dublin:20250316T110000
DTEND;TZID=Europe/Dublin:20250316T130000
DTSTAMP:20260426T053440
CREATED:20250301T162408Z
LAST-MODIFIED:20250301T162408Z
UID:10001739-1742122800-1742130000@charlestown.ie
SUMMARY:LGFA - U18 Round 2 v The Neale (away)
DESCRIPTION:
URL:https://charlestown.ie/event/lgfa-u18-round-2-v-the-neale-away/
CATEGORIES:GAA- LGFA
ATTACH;FMTTYPE=image/jpeg:https://charlestown.ie/wp-content/uploads/2024/09/LGFA-Gloves.jpg
END:VEVENT
BEGIN:VEVENT
DTSTART;TZID=Europe/Dublin:20250316T130000
DTEND;TZID=Europe/Dublin:20250316T143000
DTSTAMP:20260426T053440
CREATED:20250310T014740Z
LAST-MODIFIED:20250314T114828Z
UID:10001745-1742130000-1742135400@charlestown.ie
SUMMARY:GAA - Seniors v Aghamore Centenary Cup (Colm's Pitch)
DESCRIPTION:
URL:https://charlestown.ie/event/gaa-seniors-v-aghamore-centenary-cup-home/
LOCATION:Colm’s Pitch\, Fr O Hara Park\, Charlestown\, Ireland
CATEGORIES:GAA- LGFA
ATTACH;FMTTYPE=image/jpeg:https://charlestown.ie/wp-content/uploads/2024/09/Screenshot_20240919_200230_Facebook.jpg
ORGANIZER;CN="Charlestown Sarsfields GAA":MAILTO:secretary.charlestown.mayo@gaa.ie
END:VEVENT
BEGIN:VEVENT
DTSTART;TZID=Europe/Dublin:20250321T173000
DTEND;TZID=Europe/Dublin:20250321T190000
DTSTAMP:20260426T053440
CREATED:20250310T015402Z
LAST-MODIFIED:20250318T191505Z
UID:10001746-1742578200-1742583600@charlestown.ie
SUMMARY:LGFA - U16 Star League v Castlebar A (Colm's Pitch)
DESCRIPTION:
URL:https://charlestown.ie/event/lgfa-u16-star-league-v-castlebar-a-home/
LOCATION:Colm’s Pitch\, Fr O Hara Park\, Charlestown\, Ireland
CATEGORIES:GAA- LGFA
ATTACH;FMTTYPE=image/jpeg:https://charlestown.ie/wp-content/uploads/2024/09/LGFA-Gloves.jpg
END:VEVENT
BEGIN:VEVENT
DTSTART;TZID=Europe/Dublin:20250323T080000
DTEND;TZID=Europe/Dublin:20250323T170000
DTSTAMP:20260426T053440
CREATED:20250323T130039Z
LAST-MODIFIED:20250323T130039Z
UID:10001851-1742716800-1742749200@charlestown.ie
SUMMARY:LGFA - PJ Loftus Seniors League v Burrishoole (home)
DESCRIPTION:
URL:https://charlestown.ie/event/lgfa-pj-loftus-seniors-league-v-burrishoole-home/
LOCATION:Charlestown Sarsfields GAA grounds\, Lowpark\, Charlestown\, Co. Mayo\, Ireland
CATEGORIES:GAA- LGFA
ATTACH;FMTTYPE=image/jpeg:https://charlestown.ie/wp-content/uploads/2023/05/LGFA-Logo.jpg
END:VEVENT
BEGIN:VEVENT
DTSTART;TZID=Europe/Dublin:20250323T110000
DTEND;TZID=Europe/Dublin:20250323T123000
DTSTAMP:20260426T053440
CREATED:20250301T162609Z
LAST-MODIFIED:20250319T135306Z
UID:10001740-1742727600-1742733000@charlestown.ie
SUMMARY:LGFA - U18 Minor Rd3 v Parke (away)
DESCRIPTION:
URL:https://charlestown.ie/event/lgfa-u18-minor-rd3-v-parke-away/
CATEGORIES:GAA- LGFA
ATTACH;FMTTYPE=image/jpeg:https://charlestown.ie/wp-content/uploads/2024/09/LGFA-Gloves.jpg
END:VEVENT
BEGIN:VEVENT
DTSTART;TZID=Europe/Dublin:20250323T110000
DTEND;TZID=Europe/Dublin:20250323T133000
DTSTAMP:20260426T053440
CREATED:20250317T163847Z
LAST-MODIFIED:20250317T163847Z
UID:10001836-1742727600-1742736600@charlestown.ie
SUMMARY:GAA - U16 League Div2 v Crossmolina (away)
DESCRIPTION:
URL:https://charlestown.ie/event/gaa-u16-league-div2-v-crossmolina-away/
CATEGORIES:GAA- LGFA
ATTACH;FMTTYPE=image/jpeg:https://charlestown.ie/wp-content/uploads/2024/09/Screenshot_20240923_154557_Adobe-Acrobat.jpg
END:VEVENT
BEGIN:VEVENT
DTSTART;TZID=Europe/Dublin:20250328T183000
DTEND;TZID=Europe/Dublin:20250328T200000
DTSTAMP:20260426T053440
CREATED:20250317T195038Z
LAST-MODIFIED:20250317T195038Z
UID:10001845-1743186600-1743192000@charlestown.ie
SUMMARY:LGFA - U16 Star League v Kilmovee (away)
DESCRIPTION:
URL:https://charlestown.ie/event/lgfa-u16-star-league-v-kilmovee-away/
CATEGORIES:GAA- LGFA
ATTACH;FMTTYPE=image/jpeg:https://charlestown.ie/wp-content/uploads/2024/09/LGFA-Gloves.jpg
END:VEVENT
BEGIN:VEVENT
DTSTART;TZID=Europe/Dublin:20250330T110000
DTEND;TZID=Europe/Dublin:20250330T130000
DTSTAMP:20260426T053440
CREATED:20250328T105741Z
LAST-MODIFIED:20250328T105741Z
UID:10001918-1743332400-1743339600@charlestown.ie
SUMMARY:LGFA - U18 League Semi Final v Claremorris (home)
DESCRIPTION:
URL:https://charlestown.ie/event/lgfa-u18-league-semi-final-v-claremorris-home/
LOCATION:Colm’s Pitch\, Fr O Hara Park\, Charlestown\, Ireland
CATEGORIES:GAA- LGFA
ATTACH;FMTTYPE=image/jpeg:https://charlestown.ie/wp-content/uploads/2023/05/LGFA-Logo.jpg
END:VEVENT
END:VCALENDAR