BEGIN:VCALENDAR
VERSION:2.0
PRODID:-//Charlestown - ECPv6.6.4.2//NONSGML v1.0//EN
CALSCALE:GREGORIAN
METHOD:PUBLISH
X-WR-CALNAME:Charlestown
X-ORIGINAL-URL:https://charlestown.ie
X-WR-CALDESC:Events for Charlestown
REFRESH-INTERVAL;VALUE=DURATION:PT1H
X-Robots-Tag:noindex
X-PUBLISHED-TTL:PT1H
BEGIN:VTIMEZONE
TZID:Europe/Dublin
BEGIN:DAYLIGHT
TZOFFSETFROM:+0000
TZOFFSETTO:+0100
TZNAME:IST
DTSTART:20240331T010000
END:DAYLIGHT
BEGIN:STANDARD
TZOFFSETFROM:+0100
TZOFFSETTO:+0000
TZNAME:GMT
DTSTART:20241027T010000
END:STANDARD
END:VTIMEZONE
BEGIN:VEVENT
DTSTART;TZID=Europe/Dublin:20240308T200000
DTEND;TZID=Europe/Dublin:20240308T200000
DTSTAMP:20260425T121202
CREATED:20240227T125810Z
LAST-MODIFIED:20240227T125810Z
UID:10000885-1709928000-1709928000@charlestown.ie
SUMMARY:Fashion Show at The Brusna Inn
DESCRIPTION:A night of fashion and entertainment will take in The Brusna Inn on Friday\, 8th March commencing at 8pm.\n\n\n \n\n\nFashion on display by our very own Siobhan’s Fashion Scene.\n\n\n \n\n\nCheese & Wine Reception\, as well as a raffle and prize for Best Dressed Lady.\n\n\n \n\n\nAdmission: €15\n\n 
URL:https://charlestown.ie/event/fashion-show-at-the-brusna-inn/
CATEGORIES:Community,Fashion,Fundraiser
END:VEVENT
BEGIN:VEVENT
DTSTART;TZID=Europe/Dublin:20240329T200000
DTEND;TZID=Europe/Dublin:20240329T200000
DTSTAMP:20260425T121202
CREATED:20240326T115839Z
LAST-MODIFIED:20240327T100727Z
UID:10000909-1711742400-1711742400@charlestown.ie
SUMMARY:Fundraising Bingo Night
DESCRIPTION:Join the Charlestown Swimming Pool Committee for their annual Fundraising Bingo Night on Friday\, 29th March at 8pm. \nGet your Easter off to a great start by coming along to this fun-filled night! \nAll support is greatly appreciated! \n 
URL:https://charlestown.ie/event/fundraising-bingo-night/
LOCATION:CBD Recreational Centre\, Charlestown\, Lowpark\, Charlestown\, Mayo\, Ireland
CATEGORIES:Community,Easter,Fundraiser
ATTACH;FMTTYPE=image/jpeg:https://charlestown.ie/wp-content/uploads/2024/03/Bingo-Night.jpg
END:VEVENT
BEGIN:VEVENT
DTSTART;TZID=Europe/Dublin:20240331T130000
DTEND;TZID=Europe/Dublin:20240331T130000
DTSTAMP:20260425T121202
CREATED:20240325T220726Z
LAST-MODIFIED:20240325T224455Z
UID:10000904-1711890000-1711890000@charlestown.ie
SUMMARY:Easter Duck Race
DESCRIPTION:  \nDucks are available to purchase by clicking on the link below or in businesses around Charlestown. \nhttps://l.facebook.com/l.php?u=https%3A%2F%2Fgofund.me%2F9df4fe23%3Ffbclid%3DIwAR3ieuqalmagHzDXaFSRcRScsz0P6Gf-LaDOMEVQcHMyjv28C2BJ2_3UtUI_aem_ATTefskLIstik8NfcKYSsxHIc1f1GyeAKW8N0ZiRmjlYadw13vVjoyFOT0iNXfkj-NllQvbhqmNPxbp3EZnjm6m_&h=AT0WjP_0LEG41l3FEtv1guVj9EDQGy4ScBFAvmsAy_hTvjibcQ9L6b8PrGO6SDmHWEKJfropjDgUBed0pj0_4kMxclkeiUrQkV3L9P8tKUcoJxWPHJFOo4gPssqIxtBh3e-gmw \nCost: €5 per duck or €20 for 5 ducks. \nA donation will be made to Mayo Roscommon Hospice with the proceeds.
URL:https://charlestown.ie/event/easter-duck-race/
CATEGORIES:Community,Easter,Family Event,Fundraiser,Schools
ATTACH;FMTTYPE=image/jpeg:https://charlestown.ie/wp-content/uploads/2024/03/Easter-Duck-Race.jpg
END:VEVENT
END:VCALENDAR