BEGIN:VCALENDAR
VERSION:2.0
PRODID:-//Charlestown - ECPv6.6.4.2//NONSGML v1.0//EN
CALSCALE:GREGORIAN
METHOD:PUBLISH
X-ORIGINAL-URL:https://charlestown.ie
X-WR-CALDESC:Events for Charlestown
REFRESH-INTERVAL;VALUE=DURATION:PT1H
X-Robots-Tag:noindex
X-PUBLISHED-TTL:PT1H
BEGIN:VTIMEZONE
TZID:Europe/Dublin
BEGIN:DAYLIGHT
TZOFFSETFROM:+0000
TZOFFSETTO:+0100
TZNAME:IST
DTSTART:20240331T010000
END:DAYLIGHT
BEGIN:STANDARD
TZOFFSETFROM:+0100
TZOFFSETTO:+0000
TZNAME:GMT
DTSTART:20241027T010000
END:STANDARD
END:VTIMEZONE
BEGIN:VEVENT
DTSTART;TZID=Europe/Dublin:20240109T190000
DTEND;TZID=Europe/Dublin:20240229T190000
DTSTAMP:20260425T145130
CREATED:20240103T135620Z
LAST-MODIFIED:20240103T144305Z
UID:10000839-1704826800-1709233200@charlestown.ie
SUMMARY:Couch to 5k Programme
DESCRIPTION:  \nCouch to 5k Programme starts on Tuesday\, 9th January. \nThis programme will run for the duration of 8 weeks\, meeting on a Tuesday and Thursday at 7pm at Charlestown National School. \nAll fitness levels are welcome. \nSign up Here.
URL:https://charlestown.ie/event/couch-to-5k-programme/
LOCATION:St. Attracta’s N.S.\, Lowpark\, Charlestown\, Mayo\, Ireland
CATEGORIES:Community,Fitness
END:VEVENT
BEGIN:VEVENT
DTSTART;TZID=Europe/Dublin:20240119T120000
DTEND;TZID=Europe/Dublin:20240119T130000
DTSTAMP:20260425T145130
CREATED:20240103T142220Z
LAST-MODIFIED:20240103T142703Z
UID:10000841-1705665600-1705669200@charlestown.ie
SUMMARY:Activator Pole/Chair Exercise Class
DESCRIPTION:Refreshments will be served from 11:15am. Class to commence at 12pm. \nAll are welcome.
URL:https://charlestown.ie/event/activator-pole-chair-exercise-class-3/
LOCATION:Arts Centre\, Barrack Street\, Charlestown\, Mayo\, Ireland
CATEGORIES:Community,Fitness
END:VEVENT
END:VCALENDAR