BEGIN:VCALENDAR
VERSION:2.0
PRODID:-//Charlestown - ECPv6.6.4.2//NONSGML v1.0//EN
CALSCALE:GREGORIAN
METHOD:PUBLISH
X-ORIGINAL-URL:https://charlestown.ie
X-WR-CALDESC:Events for Charlestown
REFRESH-INTERVAL;VALUE=DURATION:PT1H
X-Robots-Tag:noindex
X-PUBLISHED-TTL:PT1H
BEGIN:VTIMEZONE
TZID:Europe/Dublin
BEGIN:DAYLIGHT
TZOFFSETFROM:+0000
TZOFFSETTO:+0100
TZNAME:IST
DTSTART:20230326T010000
END:DAYLIGHT
BEGIN:STANDARD
TZOFFSETFROM:+0100
TZOFFSETTO:+0000
TZNAME:GMT
DTSTART:20231029T010000
END:STANDARD
BEGIN:DAYLIGHT
TZOFFSETFROM:+0000
TZOFFSETTO:+0100
TZNAME:IST
DTSTART:20240331T010000
END:DAYLIGHT
BEGIN:STANDARD
TZOFFSETFROM:+0100
TZOFFSETTO:+0000
TZNAME:GMT
DTSTART:20241027T010000
END:STANDARD
END:VTIMEZONE
BEGIN:VEVENT
DTSTART;TZID=Europe/Dublin:20241217T190000
DTEND;TZID=Europe/Dublin:20241217T220000
DTSTAMP:20260425T180408
CREATED:20241212T115237Z
LAST-MODIFIED:20241212T115237Z
UID:10001519-1734462000-1734472800@charlestown.ie
SUMMARY:Christmas Concert - St Attracta's National School
DESCRIPTION:It’s all systems go here in school as we prepare for our Christmas Concerts / Performances on Tuesday\, December 17th and Thursday\, December 19th. \nWe begin at 7pm on Tuesday in the CBD Complex where students from Junior to Second Class will perform I’m Gonna Shine followed by No One Wraps Like an Elf – Third to Sixth Class Students. \nFollowing these performances on Thursday at 1 pm here in school we will welcome the parents and families of children in Sugradh\, Sonas\, Saolta\, Sasta and Spraoi to join us for Christmas songs and play. \nWe are so looking forward to these very special events and thank all our pupils and teachers for all their hard work in preparation. \nFurther details of arrangements will follow in the coming days.
URL:https://charlestown.ie/event/christmas-concert-st-attractas-national-school/
LOCATION:CBD Recreational Centre\, Charlestown\, Lowpark\, Charlestown\, Mayo\, Ireland
CATEGORIES:Christmas,Community,Family Event,Schools
ATTACH;FMTTYPE=image/jpeg:https://charlestown.ie/wp-content/uploads/2024/12/Screenshot_20241212_105853_Facebook.jpg
ORGANIZER;CN="St. Attracta's N. S.":MAILTO:office@stattractasns.ie
END:VEVENT
BEGIN:VEVENT
DTSTART;TZID=Europe/Dublin:20241011T193000
DTEND;TZID=Europe/Dublin:20241011T203000
DTSTAMP:20260425T180408
CREATED:20241009T130257Z
LAST-MODIFIED:20241009T130257Z
UID:10001304-1728675000-1728678600@charlestown.ie
SUMMARY:GAA - Community Feedback Workshop - Club Strategic Plan 2025-2027
DESCRIPTION:Community Engagment Evening – Club Strategic Plan\n\n\n\nCharlestown Sarsfields GAA Club are hosting a community engagement evening next Friday evening 11th Oct at 7.30 in the Arts Centre as part of our Club Strategic Plan.\nWe invite all members\, non members\, businesses\, voluntary groups and our wider community to come along and have your say in our clubs plan for the next 3 years.\n\n\nThe Sarsfields club is an important part of our community. It’s your community\, please help us as we set out on this exciting phase in the clubs future development.\n\n\nWe hope to see you there!
URL:https://charlestown.ie/event/gaa-community-feedback-workshop-club-strategic-plan-2025-2027/
LOCATION:Charlestown Arts Centre
CATEGORIES:Children,Community,Family Event,GAA- LGFA,Schools
ATTACH;FMTTYPE=image/jpeg:https://charlestown.ie/wp-content/uploads/2024/10/Strategic-Plan.jpg
ORGANIZER;CN="Charlestown Sarsfields GAA":MAILTO:secretary.charlestown.mayo@gaa.ie
END:VEVENT
BEGIN:VEVENT
DTSTART;TZID=Europe/Dublin:20240927T100000
DTEND;TZID=Europe/Dublin:20240927T130000
DTSTAMP:20260425T180408
CREATED:20240922T204536Z
LAST-MODIFIED:20240926T200058Z
UID:10001251-1727431200-1727442000@charlestown.ie
SUMMARY:Bake Sale - St Attracta's Residence (F12 KN36)
DESCRIPTION:
URL:https://charlestown.ie/event/bake-sale-st-attractas-residence-f12-kn36/
LOCATION:St Attracta’s Residence\, Hagfield\, Charlestown\, F12KN36\, Ireland
CATEGORIES:Bake Sale,Community,Family Event
ATTACH;FMTTYPE=image/jpeg:https://charlestown.ie/wp-content/uploads/2024/09/st-attractas-bake-sale.jpg
END:VEVENT
BEGIN:VEVENT
DTSTART;VALUE=DATE:20240811
DTEND;VALUE=DATE:20240812
DTSTAMP:20260425T180408
CREATED:20240628T101354Z
LAST-MODIFIED:20240709T081448Z
UID:10000998-1723334400-1723420799@charlestown.ie
SUMMARY:Eugene McLoughlin Memorial Run
DESCRIPTION:
URL:https://charlestown.ie/event/eugene-mcloughlin-memorial-run/
LOCATION:Mayo
CATEGORIES:Children,Community,Family Event
ATTACH;FMTTYPE=image/jpeg:https://charlestown.ie/wp-content/uploads/2024/06/Eugene-McLoughlin-2024.jpg
END:VEVENT
BEGIN:VEVENT
DTSTART;VALUE=DATE:20240707
DTEND;VALUE=DATE:20240708
DTSTAMP:20260425T180408
CREATED:20240622T143158Z
LAST-MODIFIED:20240622T143158Z
UID:10000988-1720310400-1720396799@charlestown.ie
SUMMARY:Carracastle Vintage Run
DESCRIPTION:  \n  \n  \n  \nCarracastle’s 2nd annual run will take place this year on Sunday 7th July. All bikes\, lorries\, tractors and cars are welcome!All proceeds will be going towards Croí and Carracastle Preschool.Join us on the day for a Monster Auction and raffle. We will also have a BBQ\, an ice cream van and face painting on the day. DJ Scoby will be playing Hope to see ye all there !!
URL:https://charlestown.ie/event/carracastle-vintage-run-2/
LOCATION:Mayo
CATEGORIES:Children,Community,Family Event
ATTACH;FMTTYPE=image/jpeg:https://charlestown.ie/wp-content/uploads/2024/06/Carracastle-Vintage-Run.jpg
END:VEVENT
BEGIN:VEVENT
DTSTART;TZID=Europe/Dublin:20240616T120000
DTEND;TZID=Europe/Dublin:20240616T120000
DTSTAMP:20260425T180408
CREATED:20240611T114801Z
LAST-MODIFIED:20240611T120127Z
UID:10000971-1718539200-1718539200@charlestown.ie
SUMMARY:GAA - SFL Division 3B v Davitts (away)
DESCRIPTION:Location: Davitt’s GAA Club
URL:https://charlestown.ie/event/gaa-sfl-division-3-v-davitts-away/
LOCATION:Mayo
CATEGORIES:Adult Sport,Community,Family Event,Sport
ATTACH;FMTTYPE=image/jpeg:https://charlestown.ie/wp-content/uploads/2015/06/Charlestown-Aerial-View.jpg
END:VEVENT
BEGIN:VEVENT
DTSTART;TZID=Europe/Dublin:20240519T080000
DTEND;TZID=Europe/Dublin:20240519T140000
DTSTAMP:20260425T180408
CREATED:20240123T165841Z
LAST-MODIFIED:20240515T133552Z
UID:10000859-1716105600-1716127200@charlestown.ie
SUMMARY:Colm Horkan Memorial Run
DESCRIPTION:  \nAll information posted on East Mayo Facebook Page
URL:https://charlestown.ie/event/colm-horkan-memorial-run-2/
LOCATION:Charlestown Sarsfields GAA grounds\, Lowpark\, Charlestown\, Co. Mayo\, Ireland
CATEGORIES:Children,Community,Family Event,Sport
ATTACH;FMTTYPE=image/jpeg:https://charlestown.ie/wp-content/uploads/2015/06/Charlestown-Aerial-View.jpg
END:VEVENT
BEGIN:VEVENT
DTSTART;TZID=Europe/Dublin:20240517T190000
DTEND;TZID=Europe/Dublin:20240517T203000
DTSTAMP:20260425T180408
CREATED:20240506T102804Z
LAST-MODIFIED:20240506T102804Z
UID:10000944-1715972400-1715977800@charlestown.ie
SUMMARY:LGFA U14 League Semi Final v Breaffy (home)
DESCRIPTION:
URL:https://charlestown.ie/event/lgfa-u14-league-semi-final-v-breaffy-home/
LOCATION:Charlestown Sarsfields GAA grounds\, Lowpark\, Charlestown\, Co. Mayo\, Ireland
CATEGORIES:Children,Community,Family Event,GAA- LGFA,Sport
ATTACH;FMTTYPE=image/jpeg:https://charlestown.ie/wp-content/uploads/2015/06/Charlestown-Aerial-View.jpg
END:VEVENT
BEGIN:VEVENT
DTSTART;TZID=Europe/Dublin:20240331T130000
DTEND;TZID=Europe/Dublin:20240331T130000
DTSTAMP:20260425T180408
CREATED:20240325T222009Z
LAST-MODIFIED:20240325T224246Z
UID:10000905-1711890000-1711890000@charlestown.ie
SUMMARY:Easter Bake Sale
DESCRIPTION:  \nCharlestown Foróige 3rd year group are hosting a Bake Sale after 12 noon Mass on Easter Sunday\, 31st March. \nPlease support.
URL:https://charlestown.ie/event/easter-bake-sale/
LOCATION:St James Church\, Charlestown\, Church St\, Charlestown\, Co Mayo\, Ireland
CATEGORIES:Children,Community,Easter,Family Event,Schools
ATTACH;FMTTYPE=image/jpeg:https://charlestown.ie/wp-content/uploads/2024/03/Easter-Bake-Sale.jpg
END:VEVENT
BEGIN:VEVENT
DTSTART;TZID=Europe/Dublin:20240331T130000
DTEND;TZID=Europe/Dublin:20240331T130000
DTSTAMP:20260425T180408
CREATED:20240325T220726Z
LAST-MODIFIED:20240325T224455Z
UID:10000904-1711890000-1711890000@charlestown.ie
SUMMARY:Easter Duck Race
DESCRIPTION:  \nDucks are available to purchase by clicking on the link below or in businesses around Charlestown. \nhttps://l.facebook.com/l.php?u=https%3A%2F%2Fgofund.me%2F9df4fe23%3Ffbclid%3DIwAR3ieuqalmagHzDXaFSRcRScsz0P6Gf-LaDOMEVQcHMyjv28C2BJ2_3UtUI_aem_ATTefskLIstik8NfcKYSsxHIc1f1GyeAKW8N0ZiRmjlYadw13vVjoyFOT0iNXfkj-NllQvbhqmNPxbp3EZnjm6m_&h=AT0WjP_0LEG41l3FEtv1guVj9EDQGy4ScBFAvmsAy_hTvjibcQ9L6b8PrGO6SDmHWEKJfropjDgUBed0pj0_4kMxclkeiUrQkV3L9P8tKUcoJxWPHJFOo4gPssqIxtBh3e-gmw \nCost: €5 per duck or €20 for 5 ducks. \nA donation will be made to Mayo Roscommon Hospice with the proceeds.
URL:https://charlestown.ie/event/easter-duck-race/
LOCATION:Mayo
CATEGORIES:Community,Easter,Family Event,Fundraiser,Schools
ATTACH;FMTTYPE=image/jpeg:https://charlestown.ie/wp-content/uploads/2024/03/Easter-Duck-Race.jpg
END:VEVENT
BEGIN:VEVENT
DTSTART;TZID=Europe/Dublin:20240126T190000
DTEND;TZID=Europe/Dublin:20240126T190000
DTSTAMP:20260425T180408
CREATED:20240123T125421Z
LAST-MODIFIED:20240123T125421Z
UID:10000858-1706295600-1706295600@charlestown.ie
SUMMARY:Revolutionary Women Exhibition
DESCRIPTION:
URL:https://charlestown.ie/event/revolutionary-women-exhibition/
LOCATION:Arts Centre\, Barrack Street\, Charlestown\, Mayo\, Ireland
CATEGORIES:Community,Culture,Family Event
END:VEVENT
BEGIN:VEVENT
DTSTART;TZID=Europe/Dublin:20240104T080000
DTEND;TZID=Europe/Dublin:20240313T110000
DTSTAMP:20260425T180408
CREATED:20230913T182337Z
LAST-MODIFIED:20240313T072046Z
UID:10000758-1704355200-1710327600@charlestown.ie
SUMMARY:Charlestown Activities Timetable 2024
DESCRIPTION:
URL:https://charlestown.ie/event/charlestown-activities-timetable/
LOCATION:Various venues in Charlestown
CATEGORIES:Basketball,Children,Community,Family Event,GAA- LGFA,Schools,Sport
ATTACH;FMTTYPE=image/jpeg:https://charlestown.ie/wp-content/uploads/2015/06/Charlestown-Aerial-View.jpg
END:VEVENT
BEGIN:VEVENT
DTSTART;TZID=Europe/Dublin:20231226T113000
DTEND;TZID=Europe/Dublin:20231226T140000
DTSTAMP:20260425T180408
CREATED:20231221T174652Z
LAST-MODIFIED:20231221T174652Z
UID:10000837-1703590200-1703599200@charlestown.ie
SUMMARY:Annual Michael Byrnes Memorial Game
DESCRIPTION:  \nThis St Stephen’s morning\, we are delighted to be be able to once again host the Annual Michael Byrnes Memorial Game. \nTo the start the day the day our senior ladies and newly formed Gaelic 4 Mothers and Others will take part in a small sided game at 11:45! \nFollowing this\, the men of the town (old\, young\,  everyone in between) will take to the field\, in what is a much anticipated game! Who will take home the Michael Byrnes Trophy this year\, the ‘overs’ or the ‘unders’?!? \nThis year all donations and proceeds on the day will be going directly to a very important cause: the Charlestown branch of St Vincent de Paul! Your support would be greatly appreciated. \nWe hope to see you all for an exciting feast of football!
URL:https://charlestown.ie/event/annual-michael-byrnes-memorial-game/
LOCATION:Charlestown Sarsfields GAA grounds\, Lowpark\, Charlestown\, Co. Mayo\, Ireland
CATEGORIES:Community,Family Event,GAA- LGFA,Sport
END:VEVENT
BEGIN:VEVENT
DTSTART;TZID=Europe/Dublin:20231222T080000
DTEND;TZID=Europe/Dublin:20231228T170000
DTSTAMP:20260425T180408
CREATED:20231213T193438Z
LAST-MODIFIED:20231213T195019Z
UID:10000832-1703232000-1703782800@charlestown.ie
SUMMARY:Happy Christmas Charlestown & Bellaghy
DESCRIPTION:
URL:https://charlestown.ie/event/happy-christmas-to-you-all/
LOCATION:Mayo
CATEGORIES:Children,Community,Family Event
END:VEVENT
BEGIN:VEVENT
DTSTART;TZID=Europe/Dublin:20231219T190000
DTEND;TZID=Europe/Dublin:20231219T210000
DTSTAMP:20260425T180408
CREATED:20231213T194905Z
LAST-MODIFIED:20231213T194905Z
UID:10000833-1703012400-1703019600@charlestown.ie
SUMMARY:Charlestown N.S. Christmas Play
DESCRIPTION:  \nAt 7 pm on Tuesday\, December 19th in the CBD Complex\, students from Junior to Second Class will perform Animal Rumble Grumble followed by Peace Child (Third to Sixth Class Students). Again this promises to be a wonderful evening\, one that our pupils and teachers have worked so hard preparing for.
URL:https://charlestown.ie/event/charlestown-n-s-christmas-play/
LOCATION:CBD Recreational Centre\, Charlestown\, Lowpark\, Charlestown\, Mayo\, Ireland
CATEGORIES:Children,Community,Family Event
END:VEVENT
BEGIN:VEVENT
DTSTART;TZID=Europe/Dublin:20231219T180000
DTEND;TZID=Europe/Dublin:20231219T193000
DTSTAMP:20260425T180408
CREATED:20231213T192119Z
LAST-MODIFIED:20231213T192119Z
UID:10000830-1703008800-1703014200@charlestown.ie
SUMMARY:Barnacogue N.S. Christmas Play
DESCRIPTION:
URL:https://charlestown.ie/event/barnacogue-n-s-christmas-play/
LOCATION:Mayo
CATEGORIES:Children,Community,Family Event
END:VEVENT
BEGIN:VEVENT
DTSTART;TZID=Europe/Dublin:20231219T141500
DTEND;TZID=Europe/Dublin:20231219T151500
DTSTAMP:20260425T180408
CREATED:20231216T092730Z
LAST-MODIFIED:20231216T112324Z
UID:10000835-1702995300-1702998900@charlestown.ie
SUMMARY:Cloonlyon N.S. Christmas Concert
DESCRIPTION:Christmas play on Tuesday 19th for the public & local creches \nThen on Wed 20th for parents & families… \n  \n  \n 
URL:https://charlestown.ie/event/cloonlyon-n-s-christmas-play/
LOCATION:Mayo
CATEGORIES:Children,Community,Family Event
END:VEVENT
BEGIN:VEVENT
DTSTART;TZID=Europe/Dublin:20231216T100000
DTEND;TZID=Europe/Dublin:20231216T110000
DTSTAMP:20260425T180408
CREATED:20231213T200753Z
LAST-MODIFIED:20231213T200753Z
UID:10000834-1702720800-1702724400@charlestown.ie
SUMMARY:East Mayo A.C - Santa Dash
DESCRIPTION:  \n10am \nCar Park behind Centra\, Bellaghy \n 
URL:https://charlestown.ie/event/east-mayo-a-c-santa-dash/
LOCATION:Mayo
CATEGORIES:Children,Community,Family Event,Schools
END:VEVENT
BEGIN:VEVENT
DTSTART;TZID=Europe/Dublin:20231215T173000
DTEND;TZID=Europe/Dublin:20231215T190000
DTSTAMP:20260425T180408
CREATED:20231117T113437Z
LAST-MODIFIED:20231117T113437Z
UID:10000814-1702661400-1702666800@charlestown.ie
SUMMARY:Tavneena N.S. Christmas Concert
DESCRIPTION:  \nFriday 15th Dec \n5.30pm \nAll Welcome
URL:https://charlestown.ie/event/tavneena-n-s-christmas-concert/
LOCATION:Tavneena National School\, Tavneena\, Charlestown\, Mayo\, Ireland
CATEGORIES:Children,Community,Family Event
END:VEVENT
BEGIN:VEVENT
DTSTART;TZID=Europe/Dublin:20231209T180000
DTEND;TZID=Europe/Dublin:20231209T190000
DTSTAMP:20260425T180408
CREATED:20231205T123030Z
LAST-MODIFIED:20231205T123030Z
UID:10000829-1702144800-1702148400@charlestown.ie
SUMMARY:Bellaghy Christmas Tree Lighting Ceremony
DESCRIPTION:
URL:https://charlestown.ie/event/bellaghy-christmas-tree-lighting-ceremony/
LOCATION:Bellaghy\, Bellaghy\, Charlestown\, Co. Sligo\, Ireland
CATEGORIES:Children,Christmas,Community,Family Event,Schools
END:VEVENT
BEGIN:VEVENT
DTSTART;TZID=Europe/Dublin:20231208T180000
DTEND;TZID=Europe/Dublin:20231208T180000
DTSTAMP:20260425T180408
CREATED:20231205T122137Z
LAST-MODIFIED:20231205T122453Z
UID:10000828-1702058400-1702058400@charlestown.ie
SUMMARY:Charlestown Christmas Tree Lighting Ceremony
DESCRIPTION:
URL:https://charlestown.ie/event/8078/
LOCATION:Market Square\, Market Square\, Charlestown\, Mayo\, Ireland
CATEGORIES:Children,Christmas,Community,Family Event,Schools
END:VEVENT
BEGIN:VEVENT
DTSTART;TZID=Europe/Dublin:20231120T204500
DTEND;TZID=Europe/Dublin:20231120T220000
DTSTAMP:20260425T180408
CREATED:20231025T213852Z
LAST-MODIFIED:20231025T213852Z
UID:10000797-1700513100-1700517600@charlestown.ie
SUMMARY:EAST MAYO AC - AGM
DESCRIPTION:CBD COMPLEX
URL:https://charlestown.ie/event/east-mayo-ac-agm/
LOCATION:CBD Recreational Centre\, Charlestown\, Lowpark\, Charlestown\, Mayo\, Ireland
CATEGORIES:Basketball,Children,Community,Family Event,Sport
END:VEVENT
BEGIN:VEVENT
DTSTART;TZID=Europe/Dublin:20231112T110000
DTEND;TZID=Europe/Dublin:20231112T140000
DTSTAMP:20260425T180408
CREATED:20231020T070621Z
LAST-MODIFIED:20231020T070621Z
UID:10000789-1699786800-1699797600@charlestown.ie
SUMMARY:Basketball U12 Boys League Blitz 1 (away)
DESCRIPTION:
URL:https://charlestown.ie/event/basketball-u12-boys-league-blitz-1-away/
LOCATION:Mayo
CATEGORIES:Basketball,Children,Community,Family Event,Sport
END:VEVENT
BEGIN:VEVENT
DTSTART;TZID=Europe/Dublin:20231105T120000
DTEND;TZID=Europe/Dublin:20231105T133000
DTSTAMP:20260425T180408
CREATED:20231025T165538Z
LAST-MODIFIED:20231025T165538Z
UID:10000796-1699185600-1699191000@charlestown.ie
SUMMARY:Basketball - U16 Girls League v Castlebar (away)
DESCRIPTION:
URL:https://charlestown.ie/event/basketball-u16-girls-league-v-castlebar-away/
LOCATION:Mayo
CATEGORIES:Basketball,Children,Community,Family Event,Sport
END:VEVENT
BEGIN:VEVENT
DTSTART;TZID=Europe/Dublin:20231101T190000
DTEND;TZID=Europe/Dublin:20231101T200000
DTSTAMP:20260425T180408
CREATED:20231021T190214Z
LAST-MODIFIED:20231021T190214Z
UID:10000791-1698865200-1698868800@charlestown.ie
SUMMARY:Basketball - U14 Boys League v Crossmolina (home)
DESCRIPTION:
URL:https://charlestown.ie/event/basketball-u14-boys-league-v-crossmolina-home/
LOCATION:CBD Recreational Centre\, Charlestown\, Lowpark\, Charlestown\, Mayo\, Ireland
CATEGORIES:Children,Community,Family Event,Sport
END:VEVENT
BEGIN:VEVENT
DTSTART;TZID=Europe/Dublin:20231026T170000
DTEND;TZID=Europe/Dublin:20231026T190000
DTSTAMP:20260425T180408
CREATED:20231011T131304Z
LAST-MODIFIED:20231011T131304Z
UID:10000779-1698339600-1698346800@charlestown.ie
SUMMARY:Halloween Disco - Tavneena N.S.
DESCRIPTION:
URL:https://charlestown.ie/event/halloween-disco-tavneena-n-s/
LOCATION:Mayo
CATEGORIES:Children,Community,Family Event
END:VEVENT
BEGIN:VEVENT
DTSTART;TZID=Europe/Dublin:20231023T190000
DTEND;TZID=Europe/Dublin:20231023T203000
DTSTAMP:20260425T180408
CREATED:20231020T070442Z
LAST-MODIFIED:20231020T070758Z
UID:10000788-1698087600-1698093000@charlestown.ie
SUMMARY:Basketball - U12 Girls League White Squad v Ballinrobe (home)
DESCRIPTION:
URL:https://charlestown.ie/event/basketball-u12-league-white-squad-v-ballinrobe-home/
LOCATION:CBD Recreational Centre\, Charlestown\, Lowpark\, Charlestown\, Mayo\, Ireland
CATEGORIES:Basketball,Children,Community,Family Event,Sport
END:VEVENT
BEGIN:VEVENT
DTSTART;TZID=Europe/Dublin:20231022T110000
DTEND;TZID=Europe/Dublin:20231022T123000
DTSTAMP:20260425T180408
CREATED:20231017T124905Z
LAST-MODIFIED:20231017T124905Z
UID:10000783-1697972400-1697977800@charlestown.ie
SUMMARY:LGFA - Senior Ladies Relegation Playoff v Castlebar Mitchels (away)
DESCRIPTION:
URL:https://charlestown.ie/event/lgfa-senior-ladies-relegation-playoff-v-castlebar-mitchels-away/
LOCATION:Centre of Excellence\, Bekan
CATEGORIES:Community,Family Event,GAA- LGFA,Sport
END:VEVENT
BEGIN:VEVENT
DTSTART;TZID=Europe/Dublin:20231012T150000
DTEND;TZID=Europe/Dublin:20231012T150000
DTSTAMP:20260425T180408
CREATED:20231010T105954Z
LAST-MODIFIED:20231010T105954Z
UID:10000777-1697122800-1697122800@charlestown.ie
SUMMARY:Martin Neary Woodland Park - Walk & Talk
DESCRIPTION:Martin Neary Woodland Park\n\n\n\nPeter Gill – Mayo County Council’s horticulturalist will do a walk and talk at the Martin Neary Woodland Park on Thursday\, October 12th at 3pm.\n\n\n\nThe talk will focus on biodiversity and the various species of trees. He will also discuss future plans and strategies for the park.\n\nAll are welcome. Assembly at the entrance at 3pm.
URL:https://charlestown.ie/event/martin-neary-woodland-park-walk-talk/
LOCATION:Mayo
CATEGORIES:Community,Family Event,Nature
END:VEVENT
BEGIN:VEVENT
DTSTART;TZID=Europe/Dublin:20231008T110000
DTEND;TZID=Europe/Dublin:20231008T123000
DTSTAMP:20260425T180408
CREATED:20231001T182947Z
LAST-MODIFIED:20231002T140304Z
UID:10000771-1696762800-1696768200@charlestown.ie
SUMMARY:LGFA - Senior Ladies Shield Semi Final v Hollymount (away)
DESCRIPTION:GAME IN HOLLYMOUNT
URL:https://charlestown.ie/event/lgfa-senior-ladies-shield-semi-final-v-hollymount-away-time-tbc/
LOCATION:Mayo
CATEGORIES:Community,Family Event,GAA- LGFA,Sport
END:VEVENT
END:VCALENDAR