BEGIN:VCALENDAR
VERSION:2.0
PRODID:-//Charlestown - ECPv6.6.4.2//NONSGML v1.0//EN
CALSCALE:GREGORIAN
METHOD:PUBLISH
X-WR-CALNAME:Charlestown
X-ORIGINAL-URL:https://charlestown.ie
X-WR-CALDESC:Events for Charlestown
REFRESH-INTERVAL;VALUE=DURATION:PT1H
X-Robots-Tag:noindex
X-PUBLISHED-TTL:PT1H
BEGIN:VTIMEZONE
TZID:Europe/Dublin
BEGIN:DAYLIGHT
TZOFFSETFROM:+0000
TZOFFSETTO:+0100
TZNAME:IST
DTSTART:20240331T010000
END:DAYLIGHT
BEGIN:STANDARD
TZOFFSETFROM:+0100
TZOFFSETTO:+0000
TZNAME:GMT
DTSTART:20241027T010000
END:STANDARD
BEGIN:DAYLIGHT
TZOFFSETFROM:+0000
TZOFFSETTO:+0100
TZNAME:IST
DTSTART:20250330T010000
END:DAYLIGHT
BEGIN:STANDARD
TZOFFSETFROM:+0100
TZOFFSETTO:+0000
TZNAME:GMT
DTSTART:20251026T010000
END:STANDARD
END:VTIMEZONE
BEGIN:VEVENT
DTSTART;TZID=Europe/Dublin:20251115T190000
DTEND;TZID=Europe/Dublin:20251115T220000
DTSTAMP:20260424T021115
CREATED:20251028T084828Z
LAST-MODIFIED:20251028T084828Z
UID:10002973-1763233200-1763244000@charlestown.ie
SUMMARY:Drama Club presents - ACT III
DESCRIPTION:
URL:https://charlestown.ie/event/drama-club-presents-act-iii-3/
LOCATION:Charlestown Arts Centre
CATEGORIES:Drama
ATTACH;FMTTYPE=image/jpeg:https://charlestown.ie/wp-content/uploads/2025/10/Screenshot_20251028_084414_Facebook.jpg
END:VEVENT
BEGIN:VEVENT
DTSTART;TZID=Europe/Dublin:20251114T190000
DTEND;TZID=Europe/Dublin:20251114T220000
DTSTAMP:20260424T021115
CREATED:20251028T084755Z
LAST-MODIFIED:20251028T084755Z
UID:10002972-1763146800-1763157600@charlestown.ie
SUMMARY:Drama Club presents - ACT III
DESCRIPTION:
URL:https://charlestown.ie/event/drama-club-presents-act-iii-2/
LOCATION:Charlestown Arts Centre
CATEGORIES:Drama
ATTACH;FMTTYPE=image/jpeg:https://charlestown.ie/wp-content/uploads/2025/10/Screenshot_20251028_084414_Facebook.jpg
END:VEVENT
BEGIN:VEVENT
DTSTART;TZID=Europe/Dublin:20251113T190000
DTEND;TZID=Europe/Dublin:20251113T220000
DTSTAMP:20260424T021115
CREATED:20251028T084724Z
LAST-MODIFIED:20251028T084724Z
UID:10002971-1763060400-1763071200@charlestown.ie
SUMMARY:Drama Club presents - ACT III
DESCRIPTION:
URL:https://charlestown.ie/event/drama-club-presents-act-iii/
LOCATION:Charlestown Arts Centre
CATEGORIES:Drama
ATTACH;FMTTYPE=image/jpeg:https://charlestown.ie/wp-content/uploads/2025/10/Screenshot_20251028_084414_Facebook.jpg
END:VEVENT
BEGIN:VEVENT
DTSTART;VALUE=DATE:20240806
DTEND;VALUE=DATE:20240810
DTSTAMP:20260424T021115
CREATED:20240611T103707Z
LAST-MODIFIED:20240616T082944Z
UID:10000970-1722902400-1723247999@charlestown.ie
SUMMARY:Summer Drama Workshops
DESCRIPTION:
URL:https://charlestown.ie/event/summer-drama-workshops/
LOCATION:Arts Centre\, Barrack Street\, Charlestown\, Mayo\, Ireland
CATEGORIES:Children,Community,Drama,Schools
ATTACH;FMTTYPE=image/jpeg:https://charlestown.ie/wp-content/uploads/2024/06/Drama-giggles.jpg
END:VEVENT
BEGIN:VEVENT
DTSTART;VALUE=DATE:20240222
DTEND;VALUE=DATE:20240223
DTSTAMP:20260424T021115
CREATED:20240214T114133Z
LAST-MODIFIED:20240214T120107Z
UID:10000878-1708560000-1708646399@charlestown.ie
SUMMARY:Charlestown Drama Group - Annual General Meeting
DESCRIPTION:Charlestown Drama Group AGM will take place on Thursday\, 22nd February at 8:15pm in the Arts centre\, Barrack Street\, Charlestown.
URL:https://charlestown.ie/event/charlestown-drama-group-annual-general-meeting/
LOCATION:Arts Centre\, Barrack Street\, Charlestown\, Mayo\, Ireland
CATEGORIES:Community,Culture,Drama
END:VEVENT
END:VCALENDAR