BEGIN:VCALENDAR
VERSION:2.0
PRODID:-//Charlestown - ECPv6.6.4.2//NONSGML v1.0//EN
CALSCALE:GREGORIAN
METHOD:PUBLISH
X-ORIGINAL-URL:https://charlestown.ie
X-WR-CALDESC:Events for Charlestown
REFRESH-INTERVAL;VALUE=DURATION:PT1H
X-Robots-Tag:noindex
X-PUBLISHED-TTL:PT1H
BEGIN:VTIMEZONE
TZID:Europe/Dublin
BEGIN:DAYLIGHT
TZOFFSETFROM:+0000
TZOFFSETTO:+0100
TZNAME:IST
DTSTART:20240331T010000
END:DAYLIGHT
BEGIN:STANDARD
TZOFFSETFROM:+0100
TZOFFSETTO:+0000
TZNAME:GMT
DTSTART:20241027T010000
END:STANDARD
END:VTIMEZONE
BEGIN:VEVENT
DTSTART;VALUE=DATE:20240222
DTEND;VALUE=DATE:20240223
DTSTAMP:20260425T115442
CREATED:20240214T114133Z
LAST-MODIFIED:20240214T120107Z
UID:10000878-1708560000-1708646399@charlestown.ie
SUMMARY:Charlestown Drama Group - Annual General Meeting
DESCRIPTION:Charlestown Drama Group AGM will take place on Thursday\, 22nd February at 8:15pm in the Arts centre\, Barrack Street\, Charlestown.
URL:https://charlestown.ie/event/charlestown-drama-group-annual-general-meeting/
LOCATION:Arts Centre\, Barrack Street\, Charlestown\, Mayo\, Ireland
CATEGORIES:Community,Culture,Drama
END:VEVENT
END:VCALENDAR