BEGIN:VCALENDAR
VERSION:2.0
PRODID:-//Charlestown - ECPv6.6.4.2//NONSGML v1.0//EN
CALSCALE:GREGORIAN
METHOD:PUBLISH
X-WR-CALNAME:Charlestown
X-ORIGINAL-URL:https://charlestown.ie
X-WR-CALDESC:Events for Charlestown
REFRESH-INTERVAL;VALUE=DURATION:PT1H
X-Robots-Tag:noindex
X-PUBLISHED-TTL:PT1H
BEGIN:VTIMEZONE
TZID:Europe/Dublin
BEGIN:DAYLIGHT
TZOFFSETFROM:+0000
TZOFFSETTO:+0100
TZNAME:IST
DTSTART:20250330T010000
END:DAYLIGHT
BEGIN:STANDARD
TZOFFSETFROM:+0100
TZOFFSETTO:+0000
TZNAME:GMT
DTSTART:20251026T010000
END:STANDARD
END:VTIMEZONE
BEGIN:VEVENT
DTSTART;TZID=Europe/Dublin:20250903T193000
DTEND;TZID=Europe/Dublin:20250903T203000
DTSTAMP:20260425T231857
CREATED:20250830T142739Z
LAST-MODIFIED:20250830T142740Z
UID:10001395-1756927800-1756931400@charlestown.ie
SUMMARY:Salsa Dancing
DESCRIPTION:💃🕺 Salsa dance classes in Charlestown Arts Centre are on every Wednesday evening from 7:30 – 8:30 💃🕺\n🔥🔥Newcomers welcome\, no experience necessary.\n🔥🔥Come alone or as a couple.
URL:https://charlestown.ie/event/salsa-dancing-8-2/
LOCATION:Charlestown Arts Centre
CATEGORIES:Community
ATTACH;FMTTYPE=image/jpeg:https://charlestown.ie/wp-content/uploads/2024/09/salsa-e1730497732958.jpg
END:VEVENT
END:VCALENDAR