BEGIN:VCALENDAR
VERSION:2.0
PRODID:-//Charlestown - ECPv6.6.4.2//NONSGML v1.0//EN
CALSCALE:GREGORIAN
METHOD:PUBLISH
X-WR-CALNAME:Charlestown
X-ORIGINAL-URL:https://charlestown.ie
X-WR-CALDESC:Events for Charlestown
REFRESH-INTERVAL;VALUE=DURATION:PT1H
X-Robots-Tag:noindex
X-PUBLISHED-TTL:PT1H
BEGIN:VTIMEZONE
TZID:Europe/Dublin
BEGIN:DAYLIGHT
TZOFFSETFROM:+0000
TZOFFSETTO:+0100
TZNAME:IST
DTSTART:20250330T010000
END:DAYLIGHT
BEGIN:STANDARD
TZOFFSETFROM:+0100
TZOFFSETTO:+0000
TZNAME:GMT
DTSTART:20251026T010000
END:STANDARD
END:VTIMEZONE
BEGIN:VEVENT
DTSTART;TZID=Europe/Dublin:20250419T130000
DTEND;TZID=Europe/Dublin:20250419T170000
DTSTAMP:20260426T042418
CREATED:20250227T141459Z
LAST-MODIFIED:20250227T141459Z
UID:10001728-1745067600-1745082000@charlestown.ie
SUMMARY:Kilmovee 10K & 5K
DESCRIPTION:
URL:https://charlestown.ie/event/kilmovee-10k-5k/
LOCATION:Mayo
CATEGORIES:Community
ATTACH;FMTTYPE=image/jpeg:https://charlestown.ie/wp-content/uploads/2025/02/Screenshot_20250227_141315_Facebook.jpg
END:VEVENT
END:VCALENDAR