BEGIN:VCALENDAR
VERSION:2.0
PRODID:-//Charlestown - ECPv6.6.4.2//NONSGML v1.0//EN
CALSCALE:GREGORIAN
METHOD:PUBLISH
X-ORIGINAL-URL:https://charlestown.ie
X-WR-CALDESC:Events for Charlestown
REFRESH-INTERVAL;VALUE=DURATION:PT1H
X-Robots-Tag:noindex
X-PUBLISHED-TTL:PT1H
BEGIN:VTIMEZONE
TZID:Europe/Dublin
BEGIN:DAYLIGHT
TZOFFSETFROM:+0000
TZOFFSETTO:+0100
TZNAME:IST
DTSTART:20230326T010000
END:DAYLIGHT
BEGIN:STANDARD
TZOFFSETFROM:+0100
TZOFFSETTO:+0000
TZNAME:GMT
DTSTART:20231029T010000
END:STANDARD
END:VTIMEZONE
BEGIN:VEVENT
DTSTART;TZID=Europe/Dublin:20230621T190000
DTEND;TZID=Europe/Dublin:20230621T203000
DTSTAMP:20260425T052941
CREATED:20230619T154701Z
LAST-MODIFIED:20230619T154701Z
UID:10000650-1687374000-1687379400@charlestown.ie
SUMMARY:LGFA - U14 Championship - Charlestown v MacHale Rovers (home)
DESCRIPTION:
URL:https://charlestown.ie/event/lgfa-u14-championship-charlestown-v-machale-rovers-home/
LOCATION:Charlestown Sarsfields GAA grounds\, Lowpark\, Charlestown\, Co. Mayo\, Ireland
CATEGORIES:Children,GAA- LGFA,Sport
END:VEVENT
BEGIN:VEVENT
DTSTART;TZID=Europe/Dublin:20230619T190000
DTEND;TZID=Europe/Dublin:20230619T203000
DTSTAMP:20260425T052941
CREATED:20230614T010258Z
LAST-MODIFIED:20230619T154324Z
UID:10000647-1687201200-1687206600@charlestown.ie
SUMMARY:GAA - U14 B Championship Rd 1 v Breaffy (home)
DESCRIPTION:
URL:https://charlestown.ie/event/gaa-u14-b-championship-rd-1-v-breaffy-home-time-tbc/
LOCATION:Charlestown Sarsfields GAA grounds\, Lowpark\, Charlestown\, Co. Mayo\, Ireland
CATEGORIES:Children,GAA- LGFA,Sport
ORGANIZER;CN="Charlestown Sarsfields GAA":MAILTO:secretary.charlestown.mayo@gaa.ie
END:VEVENT
BEGIN:VEVENT
DTSTART;TZID=Europe/Dublin:20230616T190000
DTEND;TZID=Europe/Dublin:20230616T200000
DTSTAMP:20260425T052941
CREATED:20230613T225252Z
LAST-MODIFIED:20230616T121853Z
UID:10000645-1686942000-1686945600@charlestown.ie
SUMMARY:LGFA - U14 League Final v Kilmoremoy A (away)
DESCRIPTION:Venue – Kilmoremoy Pitch
URL:https://charlestown.ie/event/lgfa-u14-league-final-v-kilmoremoy-a-away-time-venue-tbc/
CATEGORIES:Children,GAA- LGFA,Sport
END:VEVENT
BEGIN:VEVENT
DTSTART;TZID=Europe/Dublin:20230615T190000
DTEND;TZID=Europe/Dublin:20230615T203000
DTSTAMP:20260425T052941
CREATED:20230613T191158Z
LAST-MODIFIED:20230613T191158Z
UID:10000642-1686855600-1686861000@charlestown.ie
SUMMARY:GAA - U12 Spring league v Swinford (away)
DESCRIPTION:Venue – Robert Mccallion Park\, Swinford \n 
URL:https://charlestown.ie/event/gaa-u12-spring-league-v-swinford-away/
CATEGORIES:Children,GAA- LGFA,Sport
ORGANIZER;CN="Charlestown Sarsfields GAA":MAILTO:secretary.charlestown.mayo@gaa.ie
END:VEVENT
BEGIN:VEVENT
DTSTART;TZID=Europe/Dublin:20230605T163000
DTEND;TZID=Europe/Dublin:20230605T183000
DTSTAMP:20260425T052941
CREATED:20230527T070728Z
LAST-MODIFIED:20230527T070728Z
UID:10000631-1685982600-1685989800@charlestown.ie
SUMMARY:Charlestown Carracastle Community Games - Athletics Day
DESCRIPTION:
URL:https://charlestown.ie/event/charlestown-carracastle-community-games-athletics-day/
CATEGORIES:Children,Community,Schools,Sport
END:VEVENT
BEGIN:VEVENT
DTSTART;TZID=Europe/Dublin:20230603T190000
DTEND;TZID=Europe/Dublin:20230603T203000
DTSTAMP:20260425T052941
CREATED:20230531T065009Z
LAST-MODIFIED:20230531T065009Z
UID:10000636-1685818800-1685824200@charlestown.ie
SUMMARY:GAA - SFL Div 1A v Ballina Stephenites (away)
DESCRIPTION:Venue – Ballina
URL:https://charlestown.ie/event/gaa-sfl-div-1a-v-ballina-stephenites-away/
CATEGORIES:Children,GAA- LGFA,Sport
ORGANIZER;CN="Charlestown Sarsfields GAA":MAILTO:secretary.charlestown.mayo@gaa.ie
END:VEVENT
BEGIN:VEVENT
DTSTART;TZID=Europe/Dublin:20230601T190000
DTEND;TZID=Europe/Dublin:20230601T203000
DTSTAMP:20260425T052941
CREATED:20230531T064627Z
LAST-MODIFIED:20230531T064627Z
UID:10000634-1685646000-1685651400@charlestown.ie
SUMMARY:GAA - U16 League Div 5 Final v Lahardane McHales (away)
DESCRIPTION:Venue – Swinford
URL:https://charlestown.ie/event/gaa-u16-league-div-5-final-v-lahardane-mchales-away/
CATEGORIES:Children,GAA- LGFA,Sport
ORGANIZER;CN="Charlestown Sarsfields GAA":MAILTO:secretary.charlestown.mayo@gaa.ie
END:VEVENT
BEGIN:VEVENT
DTSTART;TZID=Europe/Dublin:20230601T173000
DTEND;TZID=Europe/Dublin:20230601T190000
DTSTAMP:20260425T052941
CREATED:20230531T064802Z
LAST-MODIFIED:20230531T064802Z
UID:10000635-1685640600-1685646000@charlestown.ie
SUMMARY:GAA  -U14 League Div 7 Semi Final v Crossmolina (away)
DESCRIPTION:Venue – Crossmolina
URL:https://charlestown.ie/event/gaa-u14-league-div-7-semi-final-v-crossmolina-away/
CATEGORIES:Children,GAA- LGFA,Sport
ORGANIZER;CN="Charlestown Sarsfields GAA":MAILTO:secretary.charlestown.mayo@gaa.ie
END:VEVENT
BEGIN:VEVENT
DTSTART;TZID=Europe/Dublin:20230531T190000
DTEND;TZID=Europe/Dublin:20230531T200000
DTSTAMP:20260425T052941
CREATED:20230531T064301Z
LAST-MODIFIED:20230531T064301Z
UID:10000633-1685559600-1685563200@charlestown.ie
SUMMARY:LGFA - U14 League Semi Final v Belmullet (home)
DESCRIPTION:
URL:https://charlestown.ie/event/lgfa-u14-league-semi-final-v-belmullet-home/
LOCATION:Charlestown Sarsfields GAA grounds\, Lowpark\, Charlestown\, Co. Mayo\, Ireland
CATEGORIES:Children,GAA- LGFA,Sport
ATTACH;FMTTYPE=image/jpeg:https://charlestown.ie/wp-content/uploads/2023/05/LGFA-Logo.jpg
END:VEVENT
BEGIN:VEVENT
DTSTART;TZID=Europe/Dublin:20230527T110000
DTEND;TZID=Europe/Dublin:20230527T120000
DTSTAMP:20260425T052941
CREATED:20230522T145010Z
LAST-MODIFIED:20230522T145010Z
UID:10000624-1685185200-1685188800@charlestown.ie
SUMMARY:GAA - U14 Div 7 League Semi Final v Crossmolina (away)
DESCRIPTION:
URL:https://charlestown.ie/event/gaa-u14-div-7-league-semi-final-v-crossmolina-away/
CATEGORIES:Children,GAA- LGFA,Sport
ORGANIZER;CN="Charlestown Sarsfields GAA":MAILTO:secretary.charlestown.mayo@gaa.ie
END:VEVENT
BEGIN:VEVENT
DTSTART;TZID=Europe/Dublin:20230525T190000
DTEND;TZID=Europe/Dublin:20230525T200000
DTSTAMP:20260425T052941
CREATED:20230522T145208Z
LAST-MODIFIED:20230522T145208Z
UID:10000625-1685041200-1685044800@charlestown.ie
SUMMARY:GAA - U16 Div 5 League Semi Final v Mayo Gaels
DESCRIPTION:
URL:https://charlestown.ie/event/gaa-u16-div-5-league-semi-final-v-mayo-gaels/
CATEGORIES:Children,GAA- LGFA,Sport
ORGANIZER;CN="Charlestown Sarsfields GAA":MAILTO:secretary.charlestown.mayo@gaa.ie
END:VEVENT
BEGIN:VEVENT
DTSTART;TZID=Europe/Dublin:20230524T193000
DTEND;TZID=Europe/Dublin:20230524T203000
DTSTAMP:20260425T052941
CREATED:20230521T200544Z
LAST-MODIFIED:20230521T200544Z
UID:10000620-1684956600-1684960200@charlestown.ie
SUMMARY:LGFA - U12 Grading League 2 v Belmullet (home)
DESCRIPTION:
URL:https://charlestown.ie/event/lgfa-u12-grading-league-2-v-belmullet-home/
LOCATION:Charlestown Sarsfields GAA grounds\, Lowpark\, Charlestown\, Co. Mayo\, Ireland
CATEGORIES:Children,GAA- LGFA,Sport
ATTACH;FMTTYPE=image/jpeg:https://charlestown.ie/wp-content/uploads/2023/05/LGFA-Logo.jpg
END:VEVENT
BEGIN:VEVENT
DTSTART;TZID=Europe/Dublin:20230524T183000
DTEND;TZID=Europe/Dublin:20230524T193000
DTSTAMP:20260425T052941
CREATED:20230522T121952Z
LAST-MODIFIED:20230522T121952Z
UID:10000621-1684953000-1684956600@charlestown.ie
SUMMARY:LGFA - U10 Challenge v Swinford (home)
DESCRIPTION:
URL:https://charlestown.ie/event/lgfa-u10-challenge-v-swinford-home/
LOCATION:Charlestown Sarsfields GAA grounds\, Lowpark\, Charlestown\, Co. Mayo\, Ireland
CATEGORIES:Children,GAA- LGFA,Sport
ATTACH;FMTTYPE=image/jpeg:https://charlestown.ie/wp-content/uploads/2023/05/LGFA-Logo.jpg
END:VEVENT
BEGIN:VEVENT
DTSTART;TZID=Europe/Dublin:20230523T190000
DTEND;TZID=Europe/Dublin:20230523T200000
DTSTAMP:20260425T052941
CREATED:20230522T150754Z
LAST-MODIFIED:20230522T150754Z
UID:10000626-1684868400-1684872000@charlestown.ie
SUMMARY:GAA - Minor League Div 5 Final v Ballintubber (tbc)
DESCRIPTION:
URL:https://charlestown.ie/event/gaa-minor-league-div-5-final-v-ballintubber-tbc/
CATEGORIES:Children,GAA- LGFA,Sport
ORGANIZER;CN="Charlestown Sarsfields GAA":MAILTO:secretary.charlestown.mayo@gaa.ie
END:VEVENT
BEGIN:VEVENT
DTSTART;TZID=Europe/Dublin:20230523T183000
DTEND;TZID=Europe/Dublin:20230523T193000
DTSTAMP:20260425T052941
CREATED:20230522T144751Z
LAST-MODIFIED:20230522T144751Z
UID:10000623-1684866600-1684870200@charlestown.ie
SUMMARY:GAA - U12 Spring League v Moy Davitts (home)
DESCRIPTION:
URL:https://charlestown.ie/event/gaa-u12-spring-league-v-moy-davitts-home/
LOCATION:Charlestown Sarsfields GAA grounds\, Lowpark\, Charlestown\, Co. Mayo\, Ireland
CATEGORIES:Children,GAA- LGFA,Sport
ORGANIZER;CN="Charlestown Sarsfields GAA":MAILTO:secretary.charlestown.mayo@gaa.ie
END:VEVENT
BEGIN:VEVENT
DTSTART;TZID=Europe/Dublin:20230522T190000
DTEND;TZID=Europe/Dublin:20230522T200000
DTSTAMP:20260425T052941
CREATED:20230522T144613Z
LAST-MODIFIED:20230522T144613Z
UID:10000622-1684782000-1684785600@charlestown.ie
SUMMARY:GAA - U14 Div 2 League Semi Final v Claremorris (home)
DESCRIPTION:
URL:https://charlestown.ie/event/gaa-u14-div-2-league-semi-final-v-claremorris-home/
LOCATION:Charlestown Sarsfields GAA grounds\, Lowpark\, Charlestown\, Co. Mayo\, Ireland
CATEGORIES:Children,GAA- LGFA,Sport
ORGANIZER;CN="Charlestown Sarsfields GAA":MAILTO:secretary.charlestown.mayo@gaa.ie
END:VEVENT
BEGIN:VEVENT
DTSTART;TZID=Europe/Dublin:20230522T190000
DTEND;TZID=Europe/Dublin:20230522T200000
DTSTAMP:20260425T052941
CREATED:20230521T200217Z
LAST-MODIFIED:20230521T200217Z
UID:10000619-1684782000-1684785600@charlestown.ie
SUMMARY:LGFA - U12 Grading League 2 v Ballinrobe (away)
DESCRIPTION:
URL:https://charlestown.ie/event/lgfa-u12-grading-league-2-v-ballinrobe-away/
CATEGORIES:Children,GAA- LGFA,Sport
ATTACH;FMTTYPE=image/jpeg:https://charlestown.ie/wp-content/uploads/2023/05/LGFA-Logo.jpg
END:VEVENT
BEGIN:VEVENT
DTSTART;TZID=Europe/Dublin:20230520T113000
DTEND;TZID=Europe/Dublin:20230520T143000
DTSTAMP:20260425T052941
CREATED:20230516T104353Z
LAST-MODIFIED:20230516T104353Z
UID:10000617-1684582200-1684593000@charlestown.ie
SUMMARY:Charlestown Foróige Football Blitz
DESCRIPTION:
URL:https://charlestown.ie/event/charlestown-foroige-football-blitz/
LOCATION:Charlestown Sarsfields GAA grounds\, Lowpark\, Charlestown\, Co. Mayo\, Ireland
CATEGORIES:Children,Community,Schools,Sport
END:VEVENT
BEGIN:VEVENT
DTSTART;TZID=Europe/Dublin:20230520T110000
DTEND;TZID=Europe/Dublin:20230520T120000
DTSTAMP:20260425T052941
CREATED:20230515T170359Z
LAST-MODIFIED:20230517T131057Z
UID:10000616-1684580400-1684584000@charlestown.ie
SUMMARY:LGFA - U14 League D1 v Knockmore(home)
DESCRIPTION:
URL:https://charlestown.ie/event/lgfa-u14-d1-v-knockmorehome/
LOCATION:Charlestown Sarsfields GAA grounds\, Lowpark\, Charlestown\, Co. Mayo\, Ireland
CATEGORIES:Children,GAA- LGFA,Sport
END:VEVENT
BEGIN:VEVENT
DTSTART;TZID=Europe/Dublin:20230520T110000
DTEND;TZID=Europe/Dublin:20230520T120000
DTSTAMP:20260425T052941
CREATED:20230515T170215Z
LAST-MODIFIED:20230515T170215Z
UID:10000615-1684580400-1684584000@charlestown.ie
SUMMARY:GAA - U14 League D7 v Knockmore (away)
DESCRIPTION:
URL:https://charlestown.ie/event/gaa-u14-league-d7-v-knockmore-away/
CATEGORIES:Children,GAA- LGFA,Sport
END:VEVENT
BEGIN:VEVENT
DTSTART;TZID=Europe/Dublin:20230517T190000
DTEND;TZID=Europe/Dublin:20230517T200000
DTSTAMP:20260425T052941
CREATED:20230515T165717Z
LAST-MODIFIED:20230515T165717Z
UID:10000613-1684350000-1684353600@charlestown.ie
SUMMARY:GAA - U12 Spring League v Swinford (home)
DESCRIPTION:
URL:https://charlestown.ie/event/gaa-u12-spring-league-v-swinford-home/
LOCATION:Charlestown Sarsfields GAA grounds\, Lowpark\, Charlestown\, Co. Mayo\, Ireland
CATEGORIES:Children,GAA- LGFA,Sport
END:VEVENT
BEGIN:VEVENT
DTSTART;TZID=Europe/Dublin:20230517T190000
DTEND;TZID=Europe/Dublin:20230517T200000
DTSTAMP:20260425T052941
CREATED:20230515T165521Z
LAST-MODIFIED:20230515T165521Z
UID:10000612-1684350000-1684353600@charlestown.ie
SUMMARY:LGFA - U14 League v Hollymount (away)
DESCRIPTION:
URL:https://charlestown.ie/event/lgfa-u14-league-v-hollymount-away/
CATEGORIES:Children,GAA- LGFA,Sport
END:VEVENT
BEGIN:VEVENT
DTSTART;TZID=Europe/Dublin:20230512T183000
DTEND;TZID=Europe/Dublin:20230512T190000
DTSTAMP:20260425T052941
CREATED:20230504T103348Z
LAST-MODIFIED:20230504T103348Z
UID:10000606-1683916200-1683918000@charlestown.ie
SUMMARY:Foróige Football Blitz - Registration Evening
DESCRIPTION:
URL:https://charlestown.ie/event/foroige-football-blitz-registration-evening-2/
LOCATION:Charlestown Sarsfields GAA grounds\, Lowpark\, Charlestown\, Co. Mayo\, Ireland
CATEGORIES:Children,Community,Schools
END:VEVENT
BEGIN:VEVENT
DTSTART;TZID=Europe/Dublin:20230506T110000
DTEND;TZID=Europe/Dublin:20230506T120000
DTSTAMP:20260425T052941
CREATED:20230501T122515Z
LAST-MODIFIED:20230501T122515Z
UID:10000600-1683370800-1683374400@charlestown.ie
SUMMARY:GAA - U14 League Div 7 v Crossmolina (away)
DESCRIPTION:
URL:https://charlestown.ie/event/gaa-u14-league-div-7-v-crossmolina-away/
CATEGORIES:Children,GAA- LGFA,Sport
ORGANIZER;CN="Charlestown Sarsfields GAA":MAILTO:secretary.charlestown.mayo@gaa.ie
END:VEVENT
BEGIN:VEVENT
DTSTART;TZID=Europe/Dublin:20230505T183000
DTEND;TZID=Europe/Dublin:20230505T190000
DTSTAMP:20260425T052941
CREATED:20230504T103024Z
LAST-MODIFIED:20230504T103024Z
UID:10000605-1683311400-1683313200@charlestown.ie
SUMMARY:Foróige Football Blitz - Registration Evening
DESCRIPTION:
URL:https://charlestown.ie/event/foroige-football-blitz-registration-evening/
LOCATION:Charlestown Sarsfields GAA grounds\, Lowpark\, Charlestown\, Co. Mayo\, Ireland
CATEGORIES:Children,Community,Schools
END:VEVENT
BEGIN:VEVENT
DTSTART;TZID=Europe/Dublin:20230504T190000
DTEND;TZID=Europe/Dublin:20230504T200000
DTSTAMP:20260425T052941
CREATED:20230501T122653Z
LAST-MODIFIED:20230501T122653Z
UID:10000601-1683226800-1683230400@charlestown.ie
SUMMARY:GAA  - U16 League Div 5 v Mayo Gaels (home)
DESCRIPTION:
URL:https://charlestown.ie/event/gaa-u16-league-div-5-v-mayo-gaels-home/
LOCATION:Charlestown Sarsfields GAA grounds\, Lowpark\, Charlestown\, Co. Mayo\, Ireland
CATEGORIES:Children,GAA- LGFA,Sport
ORGANIZER;CN="Charlestown Sarsfields GAA":MAILTO:secretary.charlestown.mayo@gaa.ie
END:VEVENT
BEGIN:VEVENT
DTSTART;TZID=Europe/Dublin:20230502T190000
DTEND;TZID=Europe/Dublin:20230502T200000
DTSTAMP:20260425T052941
CREATED:20230501T122828Z
LAST-MODIFIED:20230501T122828Z
UID:10000602-1683054000-1683057600@charlestown.ie
SUMMARY:GAA - U18 League Div 5 v Ballintubber (away)
DESCRIPTION:
URL:https://charlestown.ie/event/gaa-u18-league-div-5-v-ballintubber-away/
CATEGORIES:Children,GAA- LGFA,Sport
ORGANIZER;CN="Charlestown Sarsfields GAA":MAILTO:secretary.charlestown.mayo@gaa.ie
END:VEVENT
BEGIN:VEVENT
DTSTART;TZID=Europe/Dublin:20230423T123000
DTEND;TZID=Europe/Dublin:20230423T140000
DTSTAMP:20260425T052941
CREATED:20230421T151525Z
LAST-MODIFIED:20230421T151525Z
UID:10000589-1682253000-1682258400@charlestown.ie
SUMMARY:LGFA - U16 League Final v Balla (away)
DESCRIPTION:Venue:  COE\, Bekan \nDate : Sunday 23rd April \nTime: 12.30pm \n 
URL:https://charlestown.ie/event/lgfa-u16-league-final-v-balla-away/
LOCATION:Centre of Excellence\, Bekan
CATEGORIES:Children,GAA- LGFA,Sport
ATTACH;FMTTYPE=image/jpeg:https://charlestown.ie/wp-content/uploads/2023/04/LGFA-Logo.jpg
END:VEVENT
BEGIN:VEVENT
DTSTART;VALUE=DATE:20230409
DTEND;VALUE=DATE:20230410
DTSTAMP:20260425T052941
CREATED:20230405T095234Z
LAST-MODIFIED:20230405T095234Z
UID:10000576-1680998400-1681084799@charlestown.ie
SUMMARY:Charlestown Foroige - Bake Sale
DESCRIPTION:
URL:https://charlestown.ie/event/charlestown-foroige-bake-sale-2/
LOCATION:Both Church’s\, Ireland
CATEGORIES:Community,Easter,Family Event
END:VEVENT
BEGIN:VEVENT
DTSTART;TZID=Europe/Dublin:20230407T200000
DTEND;TZID=Europe/Dublin:20230407T220000
DTSTAMP:20260425T052941
CREATED:20230308T231155Z
LAST-MODIFIED:20230308T231155Z
UID:10000550-1680897600-1680904800@charlestown.ie
SUMMARY:Annual Fundraising Bingo Night
DESCRIPTION:SAVE THE DATE…Join us on Good Friday April 7th for our Annual Fundraising Bingo Night at 8pm in the CBD Recreational Centre. \n\n 
URL:https://charlestown.ie/event/annual-fundraising-bingo-night/
LOCATION:CBD Recreational Centre\, Charlestown\, Lowpark\, Charlestown\, Mayo\, Ireland
CATEGORIES:Children,Family Event,Fundraiser
END:VEVENT
END:VCALENDAR