BEGIN:VCALENDAR
VERSION:2.0
PRODID:-//Charlestown - ECPv6.6.4.2//NONSGML v1.0//EN
CALSCALE:GREGORIAN
METHOD:PUBLISH
X-WR-CALNAME:Charlestown
X-ORIGINAL-URL:https://charlestown.ie
X-WR-CALDESC:Events for Charlestown
REFRESH-INTERVAL;VALUE=DURATION:PT1H
X-Robots-Tag:noindex
X-PUBLISHED-TTL:PT1H
BEGIN:VTIMEZONE
TZID:Europe/Dublin
BEGIN:DAYLIGHT
TZOFFSETFROM:+0000
TZOFFSETTO:+0100
TZNAME:IST
DTSTART:20230326T010000
END:DAYLIGHT
BEGIN:STANDARD
TZOFFSETFROM:+0100
TZOFFSETTO:+0000
TZNAME:GMT
DTSTART:20231029T010000
END:STANDARD
END:VTIMEZONE
BEGIN:VEVENT
DTSTART;TZID=Europe/Dublin:20231108T200000
DTEND;TZID=Europe/Dublin:20231108T200000
DTSTAMP:20260425T170045
CREATED:20231017T093856Z
LAST-MODIFIED:20231017T093856Z
UID:10000782-1699473600-1699473600@charlestown.ie
SUMMARY:Online Charity Bingo Night
DESCRIPTION:Ireland West Airport is delighted to host an online Charity Bingo Night on Wednesday\, 8th November through Zoom! \nBook your tickets now at https://eventmaster.ie/event/1AEBfwDHeM to be in with a chance of winning some fantastic prizes .
URL:https://charlestown.ie/event/online-charity-bingo-night/
CATEGORIES:Charity,Community
END:VEVENT
END:VCALENDAR