BEGIN:VCALENDAR
VERSION:2.0
PRODID:-//Charlestown - ECPv6.6.4.2//NONSGML v1.0//EN
CALSCALE:GREGORIAN
METHOD:PUBLISH
X-ORIGINAL-URL:https://charlestown.ie
X-WR-CALDESC:Events for Charlestown
REFRESH-INTERVAL;VALUE=DURATION:PT1H
X-Robots-Tag:noindex
X-PUBLISHED-TTL:PT1H
BEGIN:VTIMEZONE
TZID:Europe/Dublin
BEGIN:DAYLIGHT
TZOFFSETFROM:+0000
TZOFFSETTO:+0100
TZNAME:IST
DTSTART:20240331T010000
END:DAYLIGHT
BEGIN:STANDARD
TZOFFSETFROM:+0100
TZOFFSETTO:+0000
TZNAME:GMT
DTSTART:20241027T010000
END:STANDARD
END:VTIMEZONE
BEGIN:VEVENT
DTSTART;TZID=Europe/Dublin:20240217T200000
DTEND;TZID=Europe/Dublin:20240217T233000
DTSTAMP:20260425T124149
CREATED:20240111T145555Z
LAST-MODIFIED:20240124T073526Z
UID:10000853-1708200000-1708212600@charlestown.ie
SUMMARY:Pink Ribbon Fundraiser - hosted by Walsh's Public House
DESCRIPTION: 
URL:https://charlestown.ie/event/pink-ribbon-fundraiser-hosted-by-walshs-public-house/
LOCATION:Walsh’s Public House\, Main Street\, Charlestown\, Mayo\, Ireland
CATEGORIES:Community,Fundraiser
END:VEVENT
END:VCALENDAR