BEGIN:VCALENDAR
VERSION:2.0
PRODID:-//Charlestown - ECPv6.6.4.2//NONSGML v1.0//EN
CALSCALE:GREGORIAN
METHOD:PUBLISH
X-WR-CALNAME:Charlestown
X-ORIGINAL-URL:https://charlestown.ie
X-WR-CALDESC:Events for Charlestown
REFRESH-INTERVAL;VALUE=DURATION:PT1H
X-Robots-Tag:noindex
X-PUBLISHED-TTL:PT1H
BEGIN:VTIMEZONE
TZID:Europe/Dublin
BEGIN:DAYLIGHT
TZOFFSETFROM:+0000
TZOFFSETTO:+0100
TZNAME:IST
DTSTART:20230326T010000
END:DAYLIGHT
BEGIN:STANDARD
TZOFFSETFROM:+0100
TZOFFSETTO:+0000
TZNAME:GMT
DTSTART:20231029T010000
END:STANDARD
END:VTIMEZONE
BEGIN:VEVENT
DTSTART;TZID=Europe/Dublin:20231029T120000
DTEND;TZID=Europe/Dublin:20231029T133000
DTSTAMP:20260424T134758
CREATED:20231026T161120Z
LAST-MODIFIED:20231026T161120Z
UID:10000799-1698580800-1698586200@charlestown.ie
SUMMARY:Basketball  - U16 Girls Division 2 League v Castlebar (away)
DESCRIPTION:
URL:https://charlestown.ie/event/basketball-u16-girls-division-2-league-v-castlebar-away/
LOCATION:Mayo
CATEGORIES:Basketball,Children,Community,Sport
END:VEVENT
BEGIN:VEVENT
DTSTART;TZID=Europe/Dublin:20231026T200000
DTEND;TZID=Europe/Dublin:20231026T210000
DTSTAMP:20260424T134758
CREATED:20231019T210248Z
LAST-MODIFIED:20231020T070656Z
UID:10000787-1698350400-1698354000@charlestown.ie
SUMMARY:Basketball  - U14 Girls League Green Squad v Kiltimagh (home)
DESCRIPTION:
URL:https://charlestown.ie/event/basketball-u14-league-green-squad-v-kiltimagh-home/
LOCATION:CBD Recreational Centre\, Charlestown\, Lowpark\, Charlestown\, Mayo\, Ireland
CATEGORIES:Basketball,Children,Community,Sport
END:VEVENT
BEGIN:VEVENT
DTSTART;TZID=Europe/Dublin:20231025T190000
DTEND;TZID=Europe/Dublin:20231025T203000
DTSTAMP:20260424T134758
CREATED:20231019T210016Z
LAST-MODIFIED:20231019T210016Z
UID:10000786-1698260400-1698265800@charlestown.ie
SUMMARY:Basketball - League U16 Boys v Westport (home)
DESCRIPTION:
URL:https://charlestown.ie/event/basketball-league-u16-boys-v-westport-home/
LOCATION:CBD Recreational Centre\, Charlestown\, Lowpark\, Charlestown\, Mayo\, Ireland
CATEGORIES:Basketball,Children,Community,Sport
END:VEVENT
BEGIN:VEVENT
DTSTART;TZID=Europe/Dublin:20231023T190000
DTEND;TZID=Europe/Dublin:20231023T203000
DTSTAMP:20260424T134758
CREATED:20231020T070442Z
LAST-MODIFIED:20231020T070758Z
UID:10000788-1698087600-1698093000@charlestown.ie
SUMMARY:Basketball - U12 Girls League White Squad v Ballinrobe (home)
DESCRIPTION:
URL:https://charlestown.ie/event/basketball-u12-league-white-squad-v-ballinrobe-home/
LOCATION:CBD Recreational Centre\, Charlestown\, Lowpark\, Charlestown\, Mayo\, Ireland
CATEGORIES:Basketball,Children,Community,Family Event,Sport
END:VEVENT
BEGIN:VEVENT
DTSTART;TZID=Europe/Dublin:20230911T080000
DTEND;TZID=Europe/Dublin:20230911T170000
DTSTAMP:20260424T134758
CREATED:20230911T161250Z
LAST-MODIFIED:20230911T161533Z
UID:10000757-1694419200-1694451600@charlestown.ie
SUMMARY:Charlestown Activities List 2023/24 - Click here
DESCRIPTION:An up to date list of Activies currently happening in Charlestown.  \nIf any activity is missing \, please email info@charlestown.ie
URL:https://charlestown.ie/event/charlestown-activities-2023-24-click-here/
LOCATION:Mayo
CATEGORIES:Adult Sport,Basketball,Children,Community,Family Event,GAA- LGFA,Schools,Sport
END:VEVENT
BEGIN:VEVENT
DTSTART;TZID=Europe/Dublin:20230403T190000
DTEND;TZID=Europe/Dublin:20230403T200000
DTSTAMP:20260424T134758
CREATED:20230330T083548Z
LAST-MODIFIED:20230330T162049Z
UID:10000569-1680548400-1680552000@charlestown.ie
SUMMARY:U16 Girls Basketball League Final v Ballina (away)
DESCRIPTION:U16 Girls League Final \nMonday 03 April \nAn Sportlann\, Castlebar \nTip Off – 7pm \nBest of luck to the girls \n  \n  \n 
URL:https://charlestown.ie/event/u16-girls-league-final-v-ballina-away/
LOCATION:Mayo
CATEGORIES:Basketball,Sport
ATTACH;FMTTYPE=image/jpeg:https://charlestown.ie/wp-content/uploads/2023/03/Screenshot_20230330_171620_Facebook.jpg
END:VEVENT
BEGIN:VEVENT
DTSTART;TZID=Europe/Dublin:20230324T183000
DTEND;TZID=Europe/Dublin:20230324T200000
DTSTAMP:20260424T134758
CREATED:20230314T191149Z
LAST-MODIFIED:20230314T191149Z
UID:10000555-1679682600-1679688000@charlestown.ie
SUMMARY:Girls U16 Basketball Cup Final
DESCRIPTION:Rescheduled Date for Girls U16 Cup Final \nAll support welcome!
URL:https://charlestown.ie/event/girls-u16-basketball-cup-final/
LOCATION:Mayo
CATEGORIES:Basketball,Children,Sport
END:VEVENT
BEGIN:VEVENT
DTSTART;TZID=Europe/Dublin:20230321T190000
DTEND;TZID=Europe/Dublin:20230321T200000
DTSTAMP:20260424T134758
CREATED:20230319T125407Z
LAST-MODIFIED:20230319T125407Z
UID:10000560-1679425200-1679428800@charlestown.ie
SUMMARY:U12 Girls League Final - Basketball
DESCRIPTION:U12 Girls League Final \nTuesday 21st March \n7pm \nBallina Sports Centre \n  \nGood luck to all involved! \n 
URL:https://charlestown.ie/event/u12-girls-league-final-basketball/
LOCATION:Mayo
CATEGORIES:Basketball,Children,Schools,Sport
ATTACH;FMTTYPE=image/jpeg:https://charlestown.ie/wp-content/uploads/2023/03/u12-League-Final-e1679230427505.jpg
END:VEVENT
END:VCALENDAR