BEGIN:VCALENDAR
VERSION:2.0
PRODID:-//Charlestown - ECPv6.6.4.2//NONSGML v1.0//EN
CALSCALE:GREGORIAN
METHOD:PUBLISH
X-WR-CALNAME:Charlestown
X-ORIGINAL-URL:https://charlestown.ie
X-WR-CALDESC:Events for Charlestown
REFRESH-INTERVAL;VALUE=DURATION:PT1H
X-Robots-Tag:noindex
X-PUBLISHED-TTL:PT1H
BEGIN:VTIMEZONE
TZID:Europe/Dublin
BEGIN:DAYLIGHT
TZOFFSETFROM:+0000
TZOFFSETTO:+0100
TZNAME:IST
DTSTART:20250330T010000
END:DAYLIGHT
BEGIN:STANDARD
TZOFFSETFROM:+0100
TZOFFSETTO:+0000
TZNAME:GMT
DTSTART:20251026T010000
END:STANDARD
END:VTIMEZONE
BEGIN:VEVENT
DTSTART;TZID=Europe/Dublin:20251101T130000
DTEND;TZID=Europe/Dublin:20251101T150000
DTSTAMP:20260425T122052
CREATED:20251028T083435Z
LAST-MODIFIED:20251028T084037Z
UID:10002967-1762002000-1762009200@charlestown.ie
SUMMARY:U14 Girls Div1 League Basketball v Ballina (home)
DESCRIPTION:
URL:https://charlestown.ie/event/u14-div1-league-basketball-v-ballina-home/
LOCATION:Mayo
CATEGORIES:Basketball
ATTACH;FMTTYPE=image/jpeg:https://charlestown.ie/wp-content/uploads/2024/11/basketball.jpg
END:VEVENT
BEGIN:VEVENT
DTSTART;TZID=Europe/Dublin:20251101T150000
DTEND;TZID=Europe/Dublin:20251101T170000
DTSTAMP:20260425T122052
CREATED:20251028T083612Z
LAST-MODIFIED:20251028T084010Z
UID:10002968-1762009200-1762016400@charlestown.ie
SUMMARY:U16 Div1 Girls LeagueBasketball v Ballina  (home)
DESCRIPTION:
URL:https://charlestown.ie/event/u16-div1-leaguebasketball-v-ballina-home/
LOCATION:Mayo
CATEGORIES:Basketball
ATTACH;FMTTYPE=image/jpeg:https://charlestown.ie/wp-content/uploads/2024/11/basketball.jpg
END:VEVENT
BEGIN:VEVENT
DTSTART;TZID=Europe/Dublin:20251101T153000
DTEND;TZID=Europe/Dublin:20251101T170000
DTSTAMP:20260425T122052
CREATED:20251028T083934Z
LAST-MODIFIED:20251028T083934Z
UID:10002970-1762011000-1762016400@charlestown.ie
SUMMARY:U14 Boys Div2 League Basketball v Westport  (away)
DESCRIPTION:
URL:https://charlestown.ie/event/u14-boys-div2-league-basketball-v-westport-away/
LOCATION:Mayo
CATEGORIES:Basketball
ATTACH;FMTTYPE=image/jpeg:https://charlestown.ie/wp-content/uploads/2024/11/basketball.jpg
END:VEVENT
BEGIN:VEVENT
DTSTART;TZID=Europe/Dublin:20251103T200000
DTEND;TZID=Europe/Dublin:20251103T210000
DTSTAMP:20260425T122052
CREATED:20251028T083743Z
LAST-MODIFIED:20251028T083743Z
UID:10002969-1762200000-1762203600@charlestown.ie
SUMMARY:U18 Div1 League Basketball v Lakeside Lakers  (home)
DESCRIPTION:
URL:https://charlestown.ie/event/u18-div1-league-basketball-v-lakeside-lakers-home/
LOCATION:Mayo
CATEGORIES:Basketball
ATTACH;FMTTYPE=image/jpeg:https://charlestown.ie/wp-content/uploads/2024/11/basketball.jpg
END:VEVENT
BEGIN:VEVENT
DTSTART;TZID=Europe/Dublin:20251118T190000
DTEND;TZID=Europe/Dublin:20251118T200000
DTSTAMP:20260425T122052
CREATED:20251117T120804Z
LAST-MODIFIED:20251117T120804Z
UID:10003211-1763492400-1763496000@charlestown.ie
SUMMARY:U14 Boys Div1 League Basketball v Crossmolina  (home)
DESCRIPTION:
URL:https://charlestown.ie/event/u14-boys-div1-league-basketball-v-crossmolina-home/
LOCATION:CBD Recreational Centre\, Charlestown\, Lowpark\, Charlestown\, Mayo\, Ireland
CATEGORIES:Basketball
ATTACH;FMTTYPE=image/jpeg:https://charlestown.ie/wp-content/uploads/2024/11/basketball.jpg
END:VEVENT
BEGIN:VEVENT
DTSTART;TZID=Europe/Dublin:20251118T200000
DTEND;TZID=Europe/Dublin:20251118T210000
DTSTAMP:20260425T122052
CREATED:20251117T120916Z
LAST-MODIFIED:20251117T120916Z
UID:10003212-1763496000-1763499600@charlestown.ie
SUMMARY:U16 Girls Div1 League Basketball v Crossmolina  (home)
DESCRIPTION:
URL:https://charlestown.ie/event/u16-girls-div1-league-basketball-v-crossmolina-home/
LOCATION:CBD Recreational Centre\, Charlestown\, Lowpark\, Charlestown\, Mayo\, Ireland
CATEGORIES:Basketball
ATTACH;FMTTYPE=image/jpeg:https://charlestown.ie/wp-content/uploads/2024/11/basketball.jpg
END:VEVENT
BEGIN:VEVENT
DTSTART;TZID=Europe/Dublin:20251122T133000
DTEND;TZID=Europe/Dublin:20251122T143000
DTSTAMP:20260425T122052
CREATED:20251117T121150Z
LAST-MODIFIED:20251117T122251Z
UID:10003213-1763818200-1763821800@charlestown.ie
SUMMARY:U12 Girls Div2 Cup Basketball v Westport  (home)
DESCRIPTION:
URL:https://charlestown.ie/event/u12-girls-div2-league-basketball-v-westport-home/
LOCATION:CBD Recreational Centre\, Charlestown\, Lowpark\, Charlestown\, Mayo\, Ireland
CATEGORIES:Basketball
ATTACH;FMTTYPE=image/jpeg:https://charlestown.ie/wp-content/uploads/2024/11/basketball.jpg
END:VEVENT
BEGIN:VEVENT
DTSTART;TZID=Europe/Dublin:20251122T183000
DTEND;TZID=Europe/Dublin:20251122T190000
DTSTAMP:20260425T122052
CREATED:20251117T121455Z
LAST-MODIFIED:20251119T202007Z
UID:10003214-1763836200-1763838000@charlestown.ie
SUMMARY:U14 Girls Div2 League Basketball v Crossmolina (home)
DESCRIPTION:
URL:https://charlestown.ie/event/u14-girls-div2-league-basketball-v-crossmolina-home/
LOCATION:CBD Recreational Centre\, Charlestown\, Lowpark\, Charlestown\, Mayo\, Ireland
CATEGORIES:Basketball
ATTACH;FMTTYPE=image/jpeg:https://charlestown.ie/wp-content/uploads/2024/11/basketball.jpg
END:VEVENT
BEGIN:VEVENT
DTSTART;TZID=Europe/Dublin:20251130T133000
DTEND;TZID=Europe/Dublin:20251130T150000
DTSTAMP:20260425T122052
CREATED:20251117T121612Z
LAST-MODIFIED:20251128T160113Z
UID:10003215-1764509400-1764514800@charlestown.ie
SUMMARY:U14 Boys Div2 League Basketball v Ballina  (home)
DESCRIPTION:
URL:https://charlestown.ie/event/u14-boys-div2-league-basketball-v-ballina-home/
LOCATION:CBD Recreational Centre\, Charlestown\, Lowpark\, Charlestown\, Mayo\, Ireland
CATEGORIES:Basketball
ATTACH;FMTTYPE=image/jpeg:https://charlestown.ie/wp-content/uploads/2024/11/basketball.jpg
END:VEVENT
BEGIN:VEVENT
DTSTART;TZID=Europe/Dublin:20251130T150000
DTEND;TZID=Europe/Dublin:20251130T170000
DTSTAMP:20260425T122052
CREATED:20251117T121723Z
LAST-MODIFIED:20251117T121723Z
UID:10003216-1764514800-1764522000@charlestown.ie
SUMMARY:U14 Girls Div1 League Basketball v Westport (home)
DESCRIPTION:
URL:https://charlestown.ie/event/u14-girls-div1-league-basketball-v-westport-home/
LOCATION:CBD Recreational Centre\, Charlestown\, Lowpark\, Charlestown\, Mayo\, Ireland
CATEGORIES:Basketball
ATTACH;FMTTYPE=image/jpeg:https://charlestown.ie/wp-content/uploads/2024/11/basketball.jpg
END:VEVENT
BEGIN:VEVENT
DTSTART;TZID=Europe/Dublin:20251210T180000
DTEND;TZID=Europe/Dublin:20251210T190000
DTSTAMP:20260425T122052
CREATED:20251117T121934Z
LAST-MODIFIED:20251117T121934Z
UID:10003217-1765389600-1765393200@charlestown.ie
SUMMARY:U12 Boys Div1 Cup Basketball v Ballina (home)
DESCRIPTION:
URL:https://charlestown.ie/event/u12-boys-div1-cup-basketball-v-ballina-home/
LOCATION:CBD Recreational Centre\, Charlestown\, Lowpark\, Charlestown\, Mayo\, Ireland
CATEGORIES:Basketball
ATTACH;FMTTYPE=image/jpeg:https://charlestown.ie/wp-content/uploads/2024/11/basketball.jpg
END:VEVENT
END:VCALENDAR