BEGIN:VCALENDAR
VERSION:2.0
PRODID:-//Charlestown - ECPv6.6.4.2//NONSGML v1.0//EN
CALSCALE:GREGORIAN
METHOD:PUBLISH
X-ORIGINAL-URL:https://charlestown.ie
X-WR-CALDESC:Events for Charlestown
REFRESH-INTERVAL;VALUE=DURATION:PT1H
X-Robots-Tag:noindex
X-PUBLISHED-TTL:PT1H
BEGIN:VTIMEZONE
TZID:Europe/Dublin
BEGIN:DAYLIGHT
TZOFFSETFROM:+0000
TZOFFSETTO:+0100
TZNAME:IST
DTSTART:20250330T010000
END:DAYLIGHT
BEGIN:STANDARD
TZOFFSETFROM:+0100
TZOFFSETTO:+0000
TZNAME:GMT
DTSTART:20251026T010000
END:STANDARD
END:VTIMEZONE
BEGIN:VEVENT
DTSTART;TZID=Europe/Dublin:20251016T190000
DTEND;TZID=Europe/Dublin:20251016T200000
DTSTAMP:20260424T075934
CREATED:20251016T162639Z
LAST-MODIFIED:20251016T162639Z
UID:10002960-1760641200-1760644800@charlestown.ie
SUMMARY:U14 Boys Div1 League Basketball v Castlebar  (home)
DESCRIPTION:
URL:https://charlestown.ie/event/u14-boys-div1-league-basketball-v-castlebar-home/
LOCATION:Mayo
CATEGORIES:Basketball
ATTACH;FMTTYPE=image/jpeg:https://charlestown.ie/wp-content/uploads/2024/11/basketball.jpg
END:VEVENT
BEGIN:VEVENT
DTSTART;TZID=Europe/Dublin:20251016T190000
DTEND;TZID=Europe/Dublin:20251016T200000
DTSTAMP:20260424T075934
CREATED:20251016T162758Z
LAST-MODIFIED:20251016T162758Z
UID:10002961-1760641200-1760644800@charlestown.ie
SUMMARY:U16 Girls Div1 League Basketball v Ballintubber (away)
DESCRIPTION:
URL:https://charlestown.ie/event/u16-girls-div1-league-basketball-v-ballintubber-away/
LOCATION:Mayo
CATEGORIES:Basketball
ATTACH;FMTTYPE=image/jpeg:https://charlestown.ie/wp-content/uploads/2024/11/basketball.jpg
END:VEVENT
BEGIN:VEVENT
DTSTART;TZID=Europe/Dublin:20251019T100000
DTEND;TZID=Europe/Dublin:20251019T130000
DTSTAMP:20260424T075934
CREATED:20251016T162936Z
LAST-MODIFIED:20251016T162936Z
UID:10002962-1760868000-1760878800@charlestown.ie
SUMMARY:U12 Boys Div1 Blitz Basketball (home)
DESCRIPTION:
URL:https://charlestown.ie/event/u12-boys-div1-blitz-basketball-home/
LOCATION:Mayo
CATEGORIES:Basketball
ATTACH;FMTTYPE=image/jpeg:https://charlestown.ie/wp-content/uploads/2024/11/basketball.jpg
END:VEVENT
BEGIN:VEVENT
DTSTART;TZID=Europe/Dublin:20251020T190000
DTEND;TZID=Europe/Dublin:20251020T200000
DTSTAMP:20260424T075934
CREATED:20251016T163553Z
LAST-MODIFIED:20251016T163553Z
UID:10002963-1760986800-1760990400@charlestown.ie
SUMMARY:U14 Girls Div2 League Basketball (home)
DESCRIPTION:
URL:https://charlestown.ie/event/u14-girls-div2-league-basketball-home/
LOCATION:Mayo
CATEGORIES:Basketball
ATTACH;FMTTYPE=image/jpeg:https://charlestown.ie/wp-content/uploads/2024/11/basketball.jpg
END:VEVENT
BEGIN:VEVENT
DTSTART;TZID=Europe/Dublin:20251027T140000
DTEND;TZID=Europe/Dublin:20251027T153000
DTSTAMP:20260424T075934
CREATED:20251022T071525Z
LAST-MODIFIED:20251022T071525Z
UID:10002966-1761573600-1761579000@charlestown.ie
SUMMARY:U16 Div2 League Basketball v Ballinrobe (home)
DESCRIPTION:
URL:https://charlestown.ie/event/u16-div2-league-basketball-v-ballinrobe-home/
LOCATION:Mayo
CATEGORIES:Basketball
ATTACH;FMTTYPE=image/jpeg:https://charlestown.ie/wp-content/uploads/2024/11/basketball.jpg
END:VEVENT
END:VCALENDAR