BEGIN:VCALENDAR
VERSION:2.0
PRODID:-//Charlestown - ECPv6.6.4.2//NONSGML v1.0//EN
CALSCALE:GREGORIAN
METHOD:PUBLISH
X-ORIGINAL-URL:https://charlestown.ie
X-WR-CALDESC:Events for Charlestown
REFRESH-INTERVAL;VALUE=DURATION:PT1H
X-Robots-Tag:noindex
X-PUBLISHED-TTL:PT1H
BEGIN:VTIMEZONE
TZID:Europe/Dublin
BEGIN:DAYLIGHT
TZOFFSETFROM:+0000
TZOFFSETTO:+0100
TZNAME:IST
DTSTART:20240331T010000
END:DAYLIGHT
BEGIN:STANDARD
TZOFFSETFROM:+0100
TZOFFSETTO:+0000
TZNAME:GMT
DTSTART:20241027T010000
END:STANDARD
END:VTIMEZONE
BEGIN:VEVENT
DTSTART;TZID=Europe/Dublin:20241102T160000
DTEND;TZID=Europe/Dublin:20241102T170000
DTSTAMP:20260425T013949
CREATED:20241101T221145Z
LAST-MODIFIED:20241101T221200Z
UID:10001435-1730563200-1730566800@charlestown.ie
SUMMARY:Basketball - U14 Girls D1 v Castlebar Comets (away)
DESCRIPTION:
URL:https://charlestown.ie/event/basketball-u14-d1-v-castlebar-comets-away/
LOCATION:Mayo
CATEGORIES:Basketball
ATTACH;FMTTYPE=image/jpeg:https://charlestown.ie/wp-content/uploads/2024/10/Screenshot_20241015_122618_Facebook.jpg
END:VEVENT
BEGIN:VEVENT
DTSTART;TZID=Europe/Dublin:20241103T160000
DTEND;TZID=Europe/Dublin:20241103T180000
DTSTAMP:20260425T013949
CREATED:20241101T221526Z
LAST-MODIFIED:20241101T221526Z
UID:10001437-1730649600-1730656800@charlestown.ie
SUMMARY:Basketball - U16 Girls League v Castlebar (away)
DESCRIPTION:
URL:https://charlestown.ie/event/basketball-u16-girls-league-v-castlebar-away-2/
LOCATION:Mayo
CATEGORIES:Basketball
ATTACH;FMTTYPE=image/jpeg:https://charlestown.ie/wp-content/uploads/2024/10/Screenshot_20241015_122618_Facebook.jpg
END:VEVENT
BEGIN:VEVENT
DTSTART;TZID=Europe/Dublin:20241105T210000
DTEND;TZID=Europe/Dublin:20241105T220000
DTSTAMP:20260425T013949
CREATED:20240922T121026Z
LAST-MODIFIED:20241101T223844Z
UID:10001245-1730840400-1730844000@charlestown.ie
SUMMARY:Adult Basketball
DESCRIPTION:
URL:https://charlestown.ie/event/social-basketball-adults-only/2024-11-05/
LOCATION:CBD Recreational Centre\, Charlestown\, Lowpark\, Charlestown\, Mayo\, Ireland
CATEGORIES:Basketball
ATTACH;FMTTYPE=image/jpeg:https://charlestown.ie/wp-content/uploads/2024/09/bb-adults-only.jpg
END:VEVENT
BEGIN:VEVENT
DTSTART;TZID=Europe/Dublin:20241106T190000
DTEND;TZID=Europe/Dublin:20241106T200000
DTSTAMP:20260425T013949
CREATED:20241105T203832Z
LAST-MODIFIED:20241105T203832Z
UID:10001450-1730919600-1730923200@charlestown.ie
SUMMARY:Basketball- U16 D1 Girls v Ballintubber (home)
DESCRIPTION:
URL:https://charlestown.ie/event/basketball-u16-d1-girls-v-ballintubber-home/
LOCATION:CBD Recreational Centre\, Charlestown\, Lowpark\, Charlestown\, Mayo\, Ireland
CATEGORIES:Basketball
ATTACH;FMTTYPE=image/jpeg:https://charlestown.ie/wp-content/uploads/2024/10/Screenshot_20241015_122618_Facebook.jpg
END:VEVENT
BEGIN:VEVENT
DTSTART;TZID=Europe/Dublin:20241112T200000
DTEND;TZID=Europe/Dublin:20241112T210000
DTSTAMP:20260425T013949
CREATED:20241112T142401Z
LAST-MODIFIED:20241112T142401Z
UID:10001458-1731441600-1731445200@charlestown.ie
SUMMARY:Basketball - U18 Girls League v Ballina (home)
DESCRIPTION:
URL:https://charlestown.ie/event/basketball-u18-girls-league-v-ballina-home/
LOCATION:CBD Recreational Centre\, Charlestown\, Lowpark\, Charlestown\, Mayo\, Ireland
CATEGORIES:Basketball
ATTACH;FMTTYPE=image/jpeg:https://charlestown.ie/wp-content/uploads/2024/10/Screenshot_20241015_122618_Facebook.jpg
END:VEVENT
BEGIN:VEVENT
DTSTART;TZID=Europe/Dublin:20241112T210000
DTEND;TZID=Europe/Dublin:20241112T220000
DTSTAMP:20260425T013949
CREATED:20240922T121026Z
LAST-MODIFIED:20241101T223844Z
UID:10001246-1731445200-1731448800@charlestown.ie
SUMMARY:Adult Basketball
DESCRIPTION:
URL:https://charlestown.ie/event/social-basketball-adults-only/2024-11-12/
LOCATION:CBD Recreational Centre\, Charlestown\, Lowpark\, Charlestown\, Mayo\, Ireland
CATEGORIES:Basketball
ATTACH;FMTTYPE=image/jpeg:https://charlestown.ie/wp-content/uploads/2024/09/bb-adults-only.jpg
END:VEVENT
BEGIN:VEVENT
DTSTART;TZID=Europe/Dublin:20241114T190000
DTEND;TZID=Europe/Dublin:20241114T200000
DTSTAMP:20260425T013949
CREATED:20241113T182632Z
LAST-MODIFIED:20241113T182632Z
UID:10001489-1731610800-1731614400@charlestown.ie
SUMMARY:Basketball - U14 Girls League v Ballintubber ( home)
DESCRIPTION:
URL:https://charlestown.ie/event/basketball-u14-girls-league-v-ballintubber-home/
LOCATION:CBD Recreational Centre\, Charlestown\, Lowpark\, Charlestown\, Mayo\, Ireland
CATEGORIES:Basketball
ATTACH;FMTTYPE=image/jpeg:https://charlestown.ie/wp-content/uploads/2024/10/Screenshot_20241015_122618_Facebook.jpg
END:VEVENT
BEGIN:VEVENT
DTSTART;TZID=Europe/Dublin:20241119T210000
DTEND;TZID=Europe/Dublin:20241119T220000
DTSTAMP:20260425T013949
CREATED:20240922T121026Z
LAST-MODIFIED:20241101T223844Z
UID:10001247-1732050000-1732053600@charlestown.ie
SUMMARY:Adult Basketball
DESCRIPTION:
URL:https://charlestown.ie/event/social-basketball-adults-only/2024-11-19/
LOCATION:CBD Recreational Centre\, Charlestown\, Lowpark\, Charlestown\, Mayo\, Ireland
CATEGORIES:Basketball
ATTACH;FMTTYPE=image/jpeg:https://charlestown.ie/wp-content/uploads/2024/09/bb-adults-only.jpg
END:VEVENT
BEGIN:VEVENT
DTSTART;TZID=Europe/Dublin:20241121T190000
DTEND;TZID=Europe/Dublin:20241121T200000
DTSTAMP:20260425T013949
CREATED:20241117T214320Z
LAST-MODIFIED:20241117T214320Z
UID:10001491-1732215600-1732219200@charlestown.ie
SUMMARY:Basketball - U14 Girls League v Ballina ( away)
DESCRIPTION:
URL:https://charlestown.ie/event/basketball-u14-girls-league-v-ballina-away/
LOCATION:Mayo
CATEGORIES:Basketball
ATTACH;FMTTYPE=image/jpeg:https://charlestown.ie/wp-content/uploads/2024/11/basketball.jpg
END:VEVENT
BEGIN:VEVENT
DTSTART;TZID=Europe/Dublin:20241123T160000
DTEND;TZID=Europe/Dublin:20241123T180000
DTSTAMP:20260425T013949
CREATED:20241112T173519Z
LAST-MODIFIED:20241122T232339Z
UID:10001460-1732377600-1732384800@charlestown.ie
SUMMARY:Basketball- U12 Boys Div1 Blitz (home)
DESCRIPTION:
URL:https://charlestown.ie/event/basketball-u12-boys-div1-blitz-home/
LOCATION:CBD Recreational Centre\, Charlestown\, Lowpark\, Charlestown\, Mayo\, Ireland
CATEGORIES:Basketball
ATTACH;FMTTYPE=image/jpeg:https://charlestown.ie/wp-content/uploads/2024/10/Screenshot_20241015_122618_Facebook.jpg
END:VEVENT
BEGIN:VEVENT
DTSTART;TZID=Europe/Dublin:20241126T210000
DTEND;TZID=Europe/Dublin:20241126T220000
DTSTAMP:20260425T013949
CREATED:20240922T121026Z
LAST-MODIFIED:20241101T223844Z
UID:10001248-1732654800-1732658400@charlestown.ie
SUMMARY:Adult Basketball
DESCRIPTION:
URL:https://charlestown.ie/event/social-basketball-adults-only/2024-11-26/
LOCATION:CBD Recreational Centre\, Charlestown\, Lowpark\, Charlestown\, Mayo\, Ireland
CATEGORIES:Basketball
ATTACH;FMTTYPE=image/jpeg:https://charlestown.ie/wp-content/uploads/2024/09/bb-adults-only.jpg
END:VEVENT
END:VCALENDAR