BEGIN:VCALENDAR
VERSION:2.0
PRODID:-//Charlestown - ECPv6.6.4.2//NONSGML v1.0//EN
CALSCALE:GREGORIAN
METHOD:PUBLISH
X-ORIGINAL-URL:https://charlestown.ie
X-WR-CALDESC:Events for Charlestown
REFRESH-INTERVAL;VALUE=DURATION:PT1H
X-Robots-Tag:noindex
X-PUBLISHED-TTL:PT1H
BEGIN:VTIMEZONE
TZID:Europe/Dublin
BEGIN:DAYLIGHT
TZOFFSETFROM:+0000
TZOFFSETTO:+0100
TZNAME:IST
DTSTART:20230326T010000
END:DAYLIGHT
BEGIN:STANDARD
TZOFFSETFROM:+0100
TZOFFSETTO:+0000
TZNAME:GMT
DTSTART:20231029T010000
END:STANDARD
END:VTIMEZONE
BEGIN:VEVENT
DTSTART;TZID=Europe/Dublin:20231101T181500
DTEND;TZID=Europe/Dublin:20231101T193000
DTSTAMP:20260425T180135
CREATED:20231026T160846Z
LAST-MODIFIED:20231026T160846Z
UID:10000798-1698862500-1698867000@charlestown.ie
SUMMARY:Basketball - U14 Girls League White Squad v Ballintubber (away)
DESCRIPTION:
URL:https://charlestown.ie/event/basketball-u14-girls-league-white-squad-v-ballintubber-away/
LOCATION:Mayo
CATEGORIES:Basketball,Children,Community,Sport
END:VEVENT
BEGIN:VEVENT
DTSTART;TZID=Europe/Dublin:20231102T193000
DTEND;TZID=Europe/Dublin:20231102T210000
DTSTAMP:20260425T180135
CREATED:20231024T191316Z
LAST-MODIFIED:20231024T191316Z
UID:10000793-1698953400-1698958800@charlestown.ie
SUMMARY:Basketball- U14 Girls Green Squad v Ballintubber (away)
DESCRIPTION:
URL:https://charlestown.ie/event/basketball-u14-girls-green-squad-v-ballintubber-away/
LOCATION:Mayo
CATEGORIES:Basketball,Children,Community,Sport
END:VEVENT
BEGIN:VEVENT
DTSTART;TZID=Europe/Dublin:20231105T120000
DTEND;TZID=Europe/Dublin:20231105T133000
DTSTAMP:20260425T180135
CREATED:20231025T165538Z
LAST-MODIFIED:20231025T165538Z
UID:10000796-1699185600-1699191000@charlestown.ie
SUMMARY:Basketball - U16 Girls League v Castlebar (away)
DESCRIPTION:
URL:https://charlestown.ie/event/basketball-u16-girls-league-v-castlebar-away/
LOCATION:Mayo
CATEGORIES:Basketball,Children,Community,Family Event,Sport
END:VEVENT
BEGIN:VEVENT
DTSTART;TZID=Europe/Dublin:20231112T110000
DTEND;TZID=Europe/Dublin:20231112T140000
DTSTAMP:20260425T180135
CREATED:20231020T070621Z
LAST-MODIFIED:20231020T070621Z
UID:10000789-1699786800-1699797600@charlestown.ie
SUMMARY:Basketball U12 Boys League Blitz 1 (away)
DESCRIPTION:
URL:https://charlestown.ie/event/basketball-u12-boys-league-blitz-1-away/
LOCATION:Mayo
CATEGORIES:Basketball,Children,Community,Family Event,Sport
END:VEVENT
BEGIN:VEVENT
DTSTART;TZID=Europe/Dublin:20231120T204500
DTEND;TZID=Europe/Dublin:20231120T220000
DTSTAMP:20260425T180135
CREATED:20231025T213852Z
LAST-MODIFIED:20231025T213852Z
UID:10000797-1700513100-1700517600@charlestown.ie
SUMMARY:EAST MAYO AC - AGM
DESCRIPTION:CBD COMPLEX
URL:https://charlestown.ie/event/east-mayo-ac-agm/
LOCATION:CBD Recreational Centre\, Charlestown\, Lowpark\, Charlestown\, Mayo\, Ireland
CATEGORIES:Basketball,Children,Community,Family Event,Sport
END:VEVENT
BEGIN:VEVENT
DTSTART;TZID=Europe/Dublin:20231121T190000
DTEND;TZID=Europe/Dublin:20231121T203000
DTSTAMP:20260425T180135
CREATED:20231118T212814Z
LAST-MODIFIED:20231118T212814Z
UID:10000816-1700593200-1700598600@charlestown.ie
SUMMARY:Basketball - U12 Boys Cup Game v Ballinrobe (home)
DESCRIPTION:
URL:https://charlestown.ie/event/basketball-u12-boys-cup-game-v-ballinrobe-home/
LOCATION:CBD Recreational Centre\, Charlestown\, Lowpark\, Charlestown\, Mayo\, Ireland
CATEGORIES:Basketball,Children,Community,Sport
END:VEVENT
BEGIN:VEVENT
DTSTART;TZID=Europe/Dublin:20231122T183000
DTEND;TZID=Europe/Dublin:20231122T200000
DTSTAMP:20260425T180135
CREATED:20231121T201736Z
LAST-MODIFIED:20231121T201927Z
UID:10000820-1700677800-1700683200@charlestown.ie
SUMMARY:Basketball - U14 Girls Plate v Ballyhaunis (away)
DESCRIPTION:
URL:https://charlestown.ie/event/basketball-u14-girls-v-ballyhaunis-away/
LOCATION:Mayo
CATEGORIES:Basketball,Children,Community,Sport
END:VEVENT
BEGIN:VEVENT
DTSTART;TZID=Europe/Dublin:20231122T190000
DTEND;TZID=Europe/Dublin:20231122T203000
DTSTAMP:20260425T180135
CREATED:20231103T103138Z
LAST-MODIFIED:20231118T213433Z
UID:10000803-1700679600-1700685000@charlestown.ie
SUMMARY:Basketball - U12 Boys Division 2 Plate Game v Ballinrobe (home)
DESCRIPTION:
URL:https://charlestown.ie/event/basketball-u12-boys-division-2-v-ballinrobe-home/
LOCATION:CBD Recreational Centre\, Charlestown\, Lowpark\, Charlestown\, Mayo\, Ireland
CATEGORIES:Basketball,Children,Community,Sport
END:VEVENT
BEGIN:VEVENT
DTSTART;TZID=Europe/Dublin:20231123T190000
DTEND;TZID=Europe/Dublin:20231123T203000
DTSTAMP:20260425T180135
CREATED:20231116T193820Z
LAST-MODIFIED:20231116T193820Z
UID:10000813-1700766000-1700771400@charlestown.ie
SUMMARY:Basketball  - U14 Green Squad League v Crossmolina (away)
DESCRIPTION:
URL:https://charlestown.ie/event/basketball-u14-green-squad-league-v-crossmolina-away/
LOCATION:Mayo
CATEGORIES:Basketball,Children,Community,Sport
END:VEVENT
BEGIN:VEVENT
DTSTART;TZID=Europe/Dublin:20231125T170000
DTEND;TZID=Europe/Dublin:20231125T183000
DTSTAMP:20260425T180135
CREATED:20231121T155943Z
LAST-MODIFIED:20231121T155943Z
UID:10000817-1700931600-1700937000@charlestown.ie
SUMMARY:Basketball - U16 League v Cispheil Iorrais (home)
DESCRIPTION:
URL:https://charlestown.ie/event/basketball-u16-league-v-cispheil-iorrais-home/
LOCATION:CBD Recreational Centre\, Charlestown\, Lowpark\, Charlestown\, Mayo\, Ireland
CATEGORIES:Basketball,Children,Community,Sport
END:VEVENT
BEGIN:VEVENT
DTSTART;TZID=Europe/Dublin:20231126T103000
DTEND;TZID=Europe/Dublin:20231126T113000
DTSTAMP:20260425T180135
CREATED:20231123T175931Z
LAST-MODIFIED:20231123T175931Z
UID:10000822-1700994600-1700998200@charlestown.ie
SUMMARY:Basketball- U16 Girls League v Cispheil Iorrais (away)
DESCRIPTION:
URL:https://charlestown.ie/event/basketball-u16-girls-league-v-cispheil-iorrais-away/
LOCATION:Mayo
CATEGORIES:Basketball,Children,Community,Sport
END:VEVENT
BEGIN:VEVENT
DTSTART;TZID=Europe/Dublin:20231127T190000
DTEND;TZID=Europe/Dublin:20231127T203000
DTSTAMP:20260425T180135
CREATED:20231121T173209Z
LAST-MODIFIED:20231121T173209Z
UID:10000819-1701111600-1701117000@charlestown.ie
SUMMARY:Basketball - U14 Boys Cup game v Kiltimagh (away)
DESCRIPTION:
URL:https://charlestown.ie/event/basketball-u14-boys-cup-game-v-kiltimagh-away/
LOCATION:Mayo
CATEGORIES:Basketball,Children,Community,Sport
END:VEVENT
BEGIN:VEVENT
DTSTART;TZID=Europe/Dublin:20231128T183000
DTEND;TZID=Europe/Dublin:20231128T200000
DTSTAMP:20260425T180135
CREATED:20231116T193423Z
LAST-MODIFIED:20231118T213146Z
UID:10000812-1701196200-1701201600@charlestown.ie
SUMMARY:Basketball - U14 Green Squad Cup Game v Ballina (away)
DESCRIPTION:
URL:https://charlestown.ie/event/basketball-u14-green-squad-cup-game-v-ballina-away/
LOCATION:Mayo
CATEGORIES:Basketball,Children,Community,Sport
END:VEVENT
END:VCALENDAR