BEGIN:VCALENDAR
VERSION:2.0
PRODID:-//Charlestown - ECPv6.6.4.2//NONSGML v1.0//EN
CALSCALE:GREGORIAN
METHOD:PUBLISH
X-ORIGINAL-URL:https://charlestown.ie
X-WR-CALDESC:Events for Charlestown
REFRESH-INTERVAL;VALUE=DURATION:PT1H
X-Robots-Tag:noindex
X-PUBLISHED-TTL:PT1H
BEGIN:VTIMEZONE
TZID:Europe/Dublin
BEGIN:DAYLIGHT
TZOFFSETFROM:+0000
TZOFFSETTO:+0100
TZNAME:IST
DTSTART:20240331T010000
END:DAYLIGHT
BEGIN:STANDARD
TZOFFSETFROM:+0100
TZOFFSETTO:+0000
TZNAME:GMT
DTSTART:20241027T010000
END:STANDARD
END:VTIMEZONE
BEGIN:VEVENT
DTSTART;TZID=Europe/Dublin:20240928T213000
DTEND;TZID=Europe/Dublin:20240928T233000
DTSTAMP:20260425T004500
CREATED:20240923T205518Z
LAST-MODIFIED:20240923T205518Z
UID:10001272-1727559000-1727566200@charlestown.ie
SUMMARY:Charlestown Annual Run - Presentation Night. Music from Pat's Country Roadshow in McLoughlin's Bar
DESCRIPTION:
URL:https://charlestown.ie/event/charlestown-annual-run-presentation-night-music-from-pats-country-roadshow-in-mcloughlins-bar/
CATEGORIES:Annual Run
ATTACH;FMTTYPE=image/jpeg:https://charlestown.ie/wp-content/uploads/2024/06/Eugene-McLoughlin-2024.jpg
END:VEVENT
END:VCALENDAR