BEGIN:VCALENDAR
VERSION:2.0
PRODID:-//Charlestown - ECPv6.6.4.2//NONSGML v1.0//EN
CALSCALE:GREGORIAN
METHOD:PUBLISH
X-ORIGINAL-URL:https://charlestown.ie
X-WR-CALDESC:Events for Charlestown
REFRESH-INTERVAL;VALUE=DURATION:PT1H
X-Robots-Tag:noindex
X-PUBLISHED-TTL:PT1H
BEGIN:VTIMEZONE
TZID:Europe/Dublin
BEGIN:DAYLIGHT
TZOFFSETFROM:+0000
TZOFFSETTO:+0100
TZNAME:IST
DTSTART:20230326T010000
END:DAYLIGHT
BEGIN:STANDARD
TZOFFSETFROM:+0100
TZOFFSETTO:+0000
TZNAME:GMT
DTSTART:20231029T010000
END:STANDARD
END:VTIMEZONE
BEGIN:VEVENT
DTSTART;TZID=Europe/Dublin:20230701T190000
DTEND;TZID=Europe/Dublin:20230701T203000
DTSTAMP:20260424T063933
CREATED:20230628T072309Z
LAST-MODIFIED:20230628T072309Z
UID:10000670-1688238000-1688243400@charlestown.ie
SUMMARY:GAA - Mayo GAA SFL Div 3B v Tourmakeady (home)
DESCRIPTION:
URL:https://charlestown.ie/event/gaa-mayo-gaa-sfl-div-3b-v-tourmakeady-home/
LOCATION:Charlestown Sarsfields GAA grounds\, Lowpark\, Charlestown\, Co. Mayo\, Ireland
CATEGORIES:Adult Sport,Community,Sport
ORGANIZER;CN="Charlestown Sarsfields GAA":MAILTO:secretary.charlestown.mayo@gaa.ie
END:VEVENT
BEGIN:VEVENT
DTSTART;TZID=Europe/Dublin:20230630T200000
DTEND;TZID=Europe/Dublin:20230630T210000
DTSTAMP:20260424T063933
CREATED:20230628T072032Z
LAST-MODIFIED:20230628T072032Z
UID:10000669-1688155200-1688158800@charlestown.ie
SUMMARY:GAA - Mayo GAA SFL Div 1 v Kiltimagh (home)
DESCRIPTION:
URL:https://charlestown.ie/event/gaa-mayo-gaa-sfl-div-1-v-kiltimagh-home/
LOCATION:Charlestown Sarsfields GAA grounds\, Lowpark\, Charlestown\, Co. Mayo\, Ireland
CATEGORIES:Adult Sport,Community,Sport
ORGANIZER;CN="Charlestown Sarsfields GAA":MAILTO:secretary.charlestown.mayo@gaa.ie
END:VEVENT
BEGIN:VEVENT
DTSTART;TZID=Europe/Dublin:20230624T190000
DTEND;TZID=Europe/Dublin:20230624T203000
DTSTAMP:20260424T063933
CREATED:20230620T182825Z
LAST-MODIFIED:20230620T184235Z
UID:10000653-1687633200-1687638600@charlestown.ie
SUMMARY:GAA - JFC Group 1 v Knockmore (away)
DESCRIPTION:Venue – Robert Mc Callion Memorial Pitch – Swinford
URL:https://charlestown.ie/event/gaa-jfc-group-1-v-knockmore-away/
CATEGORIES:Adult Sport,GAA- LGFA,Sport
END:VEVENT
BEGIN:VEVENT
DTSTART;TZID=Europe/Dublin:20230506T190000
DTEND;TZID=Europe/Dublin:20230506T200000
DTSTAMP:20260424T063933
CREATED:20230501T174633Z
LAST-MODIFIED:20230501T174633Z
UID:10000604-1683399600-1683403200@charlestown.ie
SUMMARY:GAA - JFC Group 1 v Aghamore (away)
DESCRIPTION:
URL:https://charlestown.ie/event/gaa-jfc-group-1-v-aghamore-away/
CATEGORIES:Adult Sport,GAA- LGFA,Sport
ORGANIZER;CN="Charlestown Sarsfields GAA":MAILTO:secretary.charlestown.mayo@gaa.ie
END:VEVENT
BEGIN:VEVENT
DTSTART;TZID=Europe/Dublin:20230503T193000
DTEND;TZID=Europe/Dublin:20230503T203000
DTSTAMP:20260424T063933
CREATED:20230501T174449Z
LAST-MODIFIED:20230501T174449Z
UID:10000603-1683142200-1683145800@charlestown.ie
SUMMARY:GAA - Senior Football League Div 3B v Shrule/Glencorrib (away)
DESCRIPTION:
URL:https://charlestown.ie/event/gaa-senior-football-league-div-3b-v-shrule-glencorrib-away/
CATEGORIES:Adult Sport,GAA- LGFA,Sport
ORGANIZER;CN="Charlestown Sarsfields GAA":MAILTO:secretary.charlestown.mayo@gaa.ie
END:VEVENT
BEGIN:VEVENT
DTSTART;TZID=Europe/Dublin:20230430T110000
DTEND;TZID=Europe/Dublin:20230430T120000
DTSTAMP:20260424T063933
CREATED:20230424T171158Z
LAST-MODIFIED:20230424T171158Z
UID:10000593-1682852400-1682856000@charlestown.ie
SUMMARY:LGFA - Senior Ladies v Burrishoole A (home)
DESCRIPTION:PJ Loftus Memorial League \nSunday 30/04/2023 \nFr O Hara Pitch\, Charlestown \n11am \n 
URL:https://charlestown.ie/event/lgfa-senior-ladies-v-burrishoole-a-home/
LOCATION:Charlestown Sarsfields GAA grounds\, Lowpark\, Charlestown\, Co. Mayo\, Ireland
CATEGORIES:Adult Sport,GAA- LGFA
ATTACH;FMTTYPE=image/jpeg:https://charlestown.ie/wp-content/uploads/2023/04/LGFA-Logo.jpg
END:VEVENT
BEGIN:VEVENT
DTSTART;TZID=Europe/Dublin:20230428T193000
DTEND;TZID=Europe/Dublin:20230428T203000
DTSTAMP:20260424T063933
CREATED:20230425T091210Z
LAST-MODIFIED:20230425T091210Z
UID:10000594-1682710200-1682713800@charlestown.ie
SUMMARY:GAA - Senior Football League Div 1A v Knockmore (home)
DESCRIPTION:Date: 28th April 2023 \nVenue: Fr O Hara Park \nTime: 19:30
URL:https://charlestown.ie/event/gaa-senior-football-league-div-1a-v-knockmore-home/
LOCATION:Charlestown Sarsfields GAA grounds\, Lowpark\, Charlestown\, Co. Mayo\, Ireland
CATEGORIES:Adult Sport,GAA- LGFA
ORGANIZER;CN="Charlestown Sarsfields GAA":MAILTO:secretary.charlestown.mayo@gaa.ie
END:VEVENT
BEGIN:VEVENT
DTSTART;TZID=Europe/Dublin:20230301T200000
DTEND;TZID=Europe/Dublin:20230301T210000
DTSTAMP:20260424T063933
CREATED:20230221T181357Z
LAST-MODIFIED:20230221T181357Z
UID:10000543-1677700800-1677704400@charlestown.ie
SUMMARY:Gaelic 4 Mothers & Others
DESCRIPTION:Are you looking to play Ladies Gaelic Football in a fun\, non competitive & social environment? \nG4M&O is a Ladies Gaelic Football (LGFA) initiative for women aged 25 & above who are not currently playing competitive football with a club. \nCharlestown LGFA ( under coordinator Siobhan Durkan) are setting up G4M&O in Charlestown. \nCome & try it – Wednesdays – 8pm – Back Pitch. \nAny queries\, please contact Siobhan on 086 8729970. \n 
URL:https://charlestown.ie/event/gaelic-4-mothers-others-2/
LOCATION:Charlestown Sarsfields GAA grounds\, Lowpark\, Charlestown\, Co. Mayo\, Ireland
CATEGORIES:Adult Sport
END:VEVENT
END:VCALENDAR