BEGIN:VCALENDAR
VERSION:2.0
PRODID:-//Charlestown - ECPv6.6.4.2//NONSGML v1.0//EN
CALSCALE:GREGORIAN
METHOD:PUBLISH
X-ORIGINAL-URL:https://charlestown.ie
X-WR-CALDESC:Events for Charlestown
REFRESH-INTERVAL;VALUE=DURATION:PT1H
X-Robots-Tag:noindex
X-PUBLISHED-TTL:PT1H
BEGIN:VTIMEZONE
TZID:Europe/Dublin
BEGIN:DAYLIGHT
TZOFFSETFROM:+0000
TZOFFSETTO:+0100
TZNAME:IST
DTSTART:20230326T010000
END:DAYLIGHT
BEGIN:STANDARD
TZOFFSETFROM:+0100
TZOFFSETTO:+0000
TZNAME:GMT
DTSTART:20231029T010000
END:STANDARD
BEGIN:DAYLIGHT
TZOFFSETFROM:+0000
TZOFFSETTO:+0100
TZNAME:IST
DTSTART:20240331T010000
END:DAYLIGHT
BEGIN:STANDARD
TZOFFSETFROM:+0100
TZOFFSETTO:+0000
TZNAME:GMT
DTSTART:20241027T010000
END:STANDARD
BEGIN:DAYLIGHT
TZOFFSETFROM:+0000
TZOFFSETTO:+0100
TZNAME:IST
DTSTART:20250330T010000
END:DAYLIGHT
BEGIN:STANDARD
TZOFFSETFROM:+0100
TZOFFSETTO:+0000
TZNAME:GMT
DTSTART:20251026T010000
END:STANDARD
BEGIN:DAYLIGHT
TZOFFSETFROM:+0000
TZOFFSETTO:+0100
TZNAME:IST
DTSTART:20260329T010000
END:DAYLIGHT
BEGIN:STANDARD
TZOFFSETFROM:+0100
TZOFFSETTO:+0000
TZNAME:GMT
DTSTART:20261025T010000
END:STANDARD
END:VTIMEZONE
BEGIN:VEVENT
DTSTART;TZID=Europe/Dublin:20260116T210000
DTEND;TZID=Europe/Dublin:20260116T230000
DTSTAMP:20260424T015935
CREATED:20250930T071606Z
LAST-MODIFIED:20250930T071606Z
UID:10002933-1768597200-1768604400@charlestown.ie
SUMMARY:Friday Night Darts
DESCRIPTION:
URL:https://charlestown.ie/event/friday-night-darts/2026-01-16/
LOCATION:Johnny’s Bar & Off Licence\, The Square\, Charlestown\, Co Mayo\, Ireland
CATEGORIES:Adult Sport
ATTACH;FMTTYPE=image/jpeg:https://charlestown.ie/wp-content/uploads/2025/09/Screenshot_20250930_081147_Facebook.jpg
END:VEVENT
BEGIN:VEVENT
DTSTART;TZID=Europe/Dublin:20260109T210000
DTEND;TZID=Europe/Dublin:20260109T230000
DTSTAMP:20260424T015935
CREATED:20250930T071606Z
LAST-MODIFIED:20250930T071606Z
UID:10002932-1767992400-1767999600@charlestown.ie
SUMMARY:Friday Night Darts
DESCRIPTION:
URL:https://charlestown.ie/event/friday-night-darts/2026-01-09/
LOCATION:Johnny’s Bar & Off Licence\, The Square\, Charlestown\, Co Mayo\, Ireland
CATEGORIES:Adult Sport
ATTACH;FMTTYPE=image/jpeg:https://charlestown.ie/wp-content/uploads/2025/09/Screenshot_20250930_081147_Facebook.jpg
END:VEVENT
BEGIN:VEVENT
DTSTART;TZID=Europe/Dublin:20260102T210000
DTEND;TZID=Europe/Dublin:20260102T230000
DTSTAMP:20260424T015935
CREATED:20250930T071606Z
LAST-MODIFIED:20250930T071606Z
UID:10002931-1767387600-1767394800@charlestown.ie
SUMMARY:Friday Night Darts
DESCRIPTION:
URL:https://charlestown.ie/event/friday-night-darts/2026-01-02/
LOCATION:Johnny’s Bar & Off Licence\, The Square\, Charlestown\, Co Mayo\, Ireland
CATEGORIES:Adult Sport
ATTACH;FMTTYPE=image/jpeg:https://charlestown.ie/wp-content/uploads/2025/09/Screenshot_20250930_081147_Facebook.jpg
END:VEVENT
BEGIN:VEVENT
DTSTART;TZID=Europe/Dublin:20251212T210000
DTEND;TZID=Europe/Dublin:20251212T230000
DTSTAMP:20260424T015935
CREATED:20250930T071606Z
LAST-MODIFIED:20250930T071606Z
UID:10002930-1765573200-1765580400@charlestown.ie
SUMMARY:Friday Night Darts
DESCRIPTION:
URL:https://charlestown.ie/event/friday-night-darts/2025-12-12/
LOCATION:Johnny’s Bar & Off Licence\, The Square\, Charlestown\, Co Mayo\, Ireland
CATEGORIES:Adult Sport
ATTACH;FMTTYPE=image/jpeg:https://charlestown.ie/wp-content/uploads/2025/09/Screenshot_20250930_081147_Facebook.jpg
END:VEVENT
BEGIN:VEVENT
DTSTART;TZID=Europe/Dublin:20251205T210000
DTEND;TZID=Europe/Dublin:20251205T230000
DTSTAMP:20260424T015935
CREATED:20250930T071606Z
LAST-MODIFIED:20250930T071606Z
UID:10002929-1764968400-1764975600@charlestown.ie
SUMMARY:Friday Night Darts
DESCRIPTION:
URL:https://charlestown.ie/event/friday-night-darts/2025-12-05/
LOCATION:Johnny’s Bar & Off Licence\, The Square\, Charlestown\, Co Mayo\, Ireland
CATEGORIES:Adult Sport
ATTACH;FMTTYPE=image/jpeg:https://charlestown.ie/wp-content/uploads/2025/09/Screenshot_20250930_081147_Facebook.jpg
END:VEVENT
BEGIN:VEVENT
DTSTART;TZID=Europe/Dublin:20251128T210000
DTEND;TZID=Europe/Dublin:20251128T230000
DTSTAMP:20260424T015935
CREATED:20250930T071606Z
LAST-MODIFIED:20250930T071606Z
UID:10002928-1764363600-1764370800@charlestown.ie
SUMMARY:Friday Night Darts
DESCRIPTION:
URL:https://charlestown.ie/event/friday-night-darts/2025-11-28/
LOCATION:Johnny’s Bar & Off Licence\, The Square\, Charlestown\, Co Mayo\, Ireland
CATEGORIES:Adult Sport
ATTACH;FMTTYPE=image/jpeg:https://charlestown.ie/wp-content/uploads/2025/09/Screenshot_20250930_081147_Facebook.jpg
END:VEVENT
BEGIN:VEVENT
DTSTART;TZID=Europe/Dublin:20251121T210000
DTEND;TZID=Europe/Dublin:20251121T230000
DTSTAMP:20260424T015935
CREATED:20250930T071606Z
LAST-MODIFIED:20250930T071606Z
UID:10002927-1763758800-1763766000@charlestown.ie
SUMMARY:Friday Night Darts
DESCRIPTION:
URL:https://charlestown.ie/event/friday-night-darts/2025-11-21/
LOCATION:Johnny’s Bar & Off Licence\, The Square\, Charlestown\, Co Mayo\, Ireland
CATEGORIES:Adult Sport
ATTACH;FMTTYPE=image/jpeg:https://charlestown.ie/wp-content/uploads/2025/09/Screenshot_20250930_081147_Facebook.jpg
END:VEVENT
BEGIN:VEVENT
DTSTART;TZID=Europe/Dublin:20251114T210000
DTEND;TZID=Europe/Dublin:20251114T230000
DTSTAMP:20260424T015935
CREATED:20250930T071606Z
LAST-MODIFIED:20250930T071606Z
UID:10002926-1763154000-1763161200@charlestown.ie
SUMMARY:Friday Night Darts
DESCRIPTION:
URL:https://charlestown.ie/event/friday-night-darts/2025-11-14/
LOCATION:Johnny’s Bar & Off Licence\, The Square\, Charlestown\, Co Mayo\, Ireland
CATEGORIES:Adult Sport
ATTACH;FMTTYPE=image/jpeg:https://charlestown.ie/wp-content/uploads/2025/09/Screenshot_20250930_081147_Facebook.jpg
END:VEVENT
BEGIN:VEVENT
DTSTART;TZID=Europe/Dublin:20251107T210000
DTEND;TZID=Europe/Dublin:20251107T230000
DTSTAMP:20260424T015935
CREATED:20250930T071606Z
LAST-MODIFIED:20250930T071606Z
UID:10002925-1762549200-1762556400@charlestown.ie
SUMMARY:Friday Night Darts
DESCRIPTION:
URL:https://charlestown.ie/event/friday-night-darts/2025-11-07/
LOCATION:Johnny’s Bar & Off Licence\, The Square\, Charlestown\, Co Mayo\, Ireland
CATEGORIES:Adult Sport
ATTACH;FMTTYPE=image/jpeg:https://charlestown.ie/wp-content/uploads/2025/09/Screenshot_20250930_081147_Facebook.jpg
END:VEVENT
BEGIN:VEVENT
DTSTART;TZID=Europe/Dublin:20251031T210000
DTEND;TZID=Europe/Dublin:20251031T230000
DTSTAMP:20260424T015935
CREATED:20250930T071606Z
LAST-MODIFIED:20250930T071606Z
UID:10002924-1761944400-1761951600@charlestown.ie
SUMMARY:Friday Night Darts
DESCRIPTION:
URL:https://charlestown.ie/event/friday-night-darts/2025-10-31/
LOCATION:Johnny’s Bar & Off Licence\, The Square\, Charlestown\, Co Mayo\, Ireland
CATEGORIES:Adult Sport
ATTACH;FMTTYPE=image/jpeg:https://charlestown.ie/wp-content/uploads/2025/09/Screenshot_20250930_081147_Facebook.jpg
END:VEVENT
BEGIN:VEVENT
DTSTART;TZID=Europe/Dublin:20251024T210000
DTEND;TZID=Europe/Dublin:20251024T230000
DTSTAMP:20260424T015935
CREATED:20250930T071606Z
LAST-MODIFIED:20250930T071606Z
UID:10002923-1761339600-1761346800@charlestown.ie
SUMMARY:Friday Night Darts
DESCRIPTION:
URL:https://charlestown.ie/event/friday-night-darts/2025-10-24/
LOCATION:Johnny’s Bar & Off Licence\, The Square\, Charlestown\, Co Mayo\, Ireland
CATEGORIES:Adult Sport
ATTACH;FMTTYPE=image/jpeg:https://charlestown.ie/wp-content/uploads/2025/09/Screenshot_20250930_081147_Facebook.jpg
END:VEVENT
BEGIN:VEVENT
DTSTART;TZID=Europe/Dublin:20251017T210000
DTEND;TZID=Europe/Dublin:20251017T230000
DTSTAMP:20260424T015935
CREATED:20250930T071606Z
LAST-MODIFIED:20250930T071606Z
UID:10002922-1760734800-1760742000@charlestown.ie
SUMMARY:Friday Night Darts
DESCRIPTION:
URL:https://charlestown.ie/event/friday-night-darts/2025-10-17/
LOCATION:Johnny’s Bar & Off Licence\, The Square\, Charlestown\, Co Mayo\, Ireland
CATEGORIES:Adult Sport
ATTACH;FMTTYPE=image/jpeg:https://charlestown.ie/wp-content/uploads/2025/09/Screenshot_20250930_081147_Facebook.jpg
END:VEVENT
BEGIN:VEVENT
DTSTART;TZID=Europe/Dublin:20241005T143000
DTEND;TZID=Europe/Dublin:20241005T160000
DTSTAMP:20260424T015935
CREATED:20240929T204609Z
LAST-MODIFIED:20240929T204609Z
UID:10001286-1728138600-1728144000@charlestown.ie
SUMMARY:GAA - Intermediate C'Ship - Moy Davitts v Davitts
DESCRIPTION:
URL:https://charlestown.ie/event/gaa-intermediate-cship-moy-davitts-v-davitts/
LOCATION:Charlestown Sarsfields GAA grounds\, Lowpark\, Charlestown\, Co. Mayo\, Ireland
CATEGORIES:Adult Sport,GAA- LGFA
ATTACH;FMTTYPE=image/jpeg:https://charlestown.ie/wp-content/uploads/2024/09/Screenshot_20240919_200230_Facebook.jpg
END:VEVENT
BEGIN:VEVENT
DTSTART;TZID=Europe/Dublin:20240707T120000
DTEND;TZID=Europe/Dublin:20240707T120000
DTSTAMP:20260424T015935
CREATED:20240702T104458Z
LAST-MODIFIED:20240702T104458Z
UID:10001005-1720353600-1720353600@charlestown.ie
SUMMARY:GAA - Mayo SFL Division 3B v Balla (home)
DESCRIPTION:
URL:https://charlestown.ie/event/gaa-mayo-sfl-division-3b-v-balla-home/
LOCATION:Fr. O’ Hara Park\, Charlestown Sarsfields GAA Club\, Lowpark\, Charlestown\, Mayo
CATEGORIES:Adult Sport,Community,Sport
ATTACH;FMTTYPE=image/jpeg:https://charlestown.ie/wp-content/uploads/2024/07/Club-Fixture-2nd-July-2024.jpg
END:VEVENT
BEGIN:VEVENT
DTSTART;TZID=Europe/Dublin:20240706T190000
DTEND;TZID=Europe/Dublin:20240706T190000
DTSTAMP:20260424T015935
CREATED:20240702T104244Z
LAST-MODIFIED:20240702T104244Z
UID:10001004-1720292400-1720292400@charlestown.ie
SUMMARY:GAA - Mayo SFL Division 1A v Belmullet (home)
DESCRIPTION:
URL:https://charlestown.ie/event/gaa-mayo-sfl-division-1a-v-belmullet-home/
LOCATION:Fr. O’ Hara Park\, Charlestown Sarsfields GAA Club\, Lowpark\, Charlestown\, Mayo
CATEGORIES:Adult Sport,Community,Sport
ATTACH;FMTTYPE=image/jpeg:https://charlestown.ie/wp-content/uploads/2024/07/Club-Fixture-2nd-July-2024.jpg
END:VEVENT
BEGIN:VEVENT
DTSTART;TZID=Europe/Dublin:20240618T100000
DTEND;TZID=Europe/Dublin:20240618T140000
DTSTAMP:20260424T015936
CREATED:20240609T174329Z
LAST-MODIFIED:20240611T104140Z
UID:10000968-1718704800-1718719200@charlestown.ie
SUMMARY:Croí Heart Day
DESCRIPTION:
URL:https://charlestown.ie/event/croi-heart-day/
LOCATION:CBD Recreational Centre\, Charlestown\, Lowpark\, Charlestown\, Mayo\, Ireland
CATEGORIES:Adult Sport,Community,Fitness,Schools,Sport
ATTACH;FMTTYPE=image/jpeg:https://charlestown.ie/wp-content/uploads/2024/06/Croi-1.jpg
END:VEVENT
BEGIN:VEVENT
DTSTART;TZID=Europe/Dublin:20240616T120000
DTEND;TZID=Europe/Dublin:20240616T120000
DTSTAMP:20260424T015936
CREATED:20240611T114801Z
LAST-MODIFIED:20240611T120127Z
UID:10000971-1718539200-1718539200@charlestown.ie
SUMMARY:GAA - SFL Division 3B v Davitts (away)
DESCRIPTION:Location: Davitt’s GAA Club
URL:https://charlestown.ie/event/gaa-sfl-division-3-v-davitts-away/
LOCATION:Co Mayo
CATEGORIES:Adult Sport,Community,Family Event,Sport
ATTACH;FMTTYPE=image/jpeg:https://charlestown.ie/wp-content/uploads/2015/06/Charlestown-Aerial-View.jpg
END:VEVENT
BEGIN:VEVENT
DTSTART;TZID=Europe/Dublin:20240615T190000
DTEND;TZID=Europe/Dublin:20240615T190000
DTSTAMP:20260424T015936
CREATED:20240611T115507Z
LAST-MODIFIED:20240611T120005Z
UID:10000972-1718478000-1718478000@charlestown.ie
SUMMARY:GAA - SFL Division 1A v Parke/Keelogue/Crimlin (away)
DESCRIPTION:Location: Parke
URL:https://charlestown.ie/event/gaa-sfl-division-1a-v-parke-keelogue-crimlin-away/
LOCATION:Co Mayo
CATEGORIES:Adult Sport,Community,Sport
ATTACH;FMTTYPE=image/jpeg:https://charlestown.ie/wp-content/uploads/2015/06/Charlestown-Aerial-View.jpg
END:VEVENT
BEGIN:VEVENT
DTSTART;TZID=Europe/Dublin:20240322T190000
DTEND;TZID=Europe/Dublin:20240322T190000
DTSTAMP:20260424T015936
CREATED:20240320T112214Z
LAST-MODIFIED:20240320T112214Z
UID:10000902-1711134000-1711134000@charlestown.ie
SUMMARY:Charlestown Swimming Pool AGM
DESCRIPTION:Charlestown Swimming Pool AGM will take place on Friday\, 22nd March at 7pm. \nAll are welcome.
URL:https://charlestown.ie/event/charlestown-swimming-pool-agm-2/
LOCATION:Charlestown Swimming Pool\, Lowpark\, Charlestown\, Co. Mayo\, Ireland
CATEGORIES:Adult Sport,Children,Community,Fitness
ATTACH;FMTTYPE=image/jpeg:https://charlestown.ie/wp-content/uploads/2015/06/Charlestown-Aerial-View.jpg
END:VEVENT
BEGIN:VEVENT
DTSTART;TZID=Europe/Dublin:20231105T120000
DTEND;TZID=Europe/Dublin:20231105T120000
DTSTAMP:20260424T015936
CREATED:20231102T122025Z
LAST-MODIFIED:20231102T122025Z
UID:10000801-1699185600-1699185600@charlestown.ie
SUMMARY:GAA - U21 C Championship Group 1 v Ballaghaderreen (home)
DESCRIPTION:
URL:https://charlestown.ie/event/gaa-u21-c-championship-group-1-v-ballaghaderreen-home/
LOCATION:Fr. O’ Hara Park\, Charlestown Sarsfields GAA Club\, Lowpark\, Charlestown\, Mayo
CATEGORIES:Adult Sport,Community,Sport
END:VEVENT
BEGIN:VEVENT
DTSTART;TZID=Europe/Dublin:20230924T110000
DTEND;TZID=Europe/Dublin:20230924T130000
DTSTAMP:20260424T015936
CREATED:20230917T202410Z
LAST-MODIFIED:20230917T202410Z
UID:10000760-1695553200-1695560400@charlestown.ie
SUMMARY:LGFA - Senior Championship Rd 2 v Westport (home)
DESCRIPTION:
URL:https://charlestown.ie/event/lgfa-senior-championship-rd-2-v-westport-home/
LOCATION:Charlestown Sarsfields GAA grounds\, Lowpark\, Charlestown\, Co. Mayo\, Ireland
CATEGORIES:Adult Sport,Community,Family Event,GAA- LGFA,Sport
END:VEVENT
BEGIN:VEVENT
DTSTART;TZID=Europe/Dublin:20230917T160000
DTEND;TZID=Europe/Dublin:20230917T170000
DTSTAMP:20260424T015936
CREATED:20230907T133226Z
LAST-MODIFIED:20230907T133226Z
UID:10000755-1694966400-1694970000@charlestown.ie
SUMMARY:GAA - Mayo Senior Football Championship Rd 3 v Ballaghaderreen (away)
DESCRIPTION:Pitch – Ballyhaunis
URL:https://charlestown.ie/event/gaa-mayo-senior-football-championship-rd-3-v-ballaghaderreen-away/
LOCATION:Co Mayo
CATEGORIES:Adult Sport,Community,Family Event,GAA- LGFA,Sport
ORGANIZER;CN="Charlestown Sarsfields GAA":MAILTO:secretary.charlestown.mayo@gaa.ie
END:VEVENT
BEGIN:VEVENT
DTSTART;TZID=Europe/Dublin:20230911T080000
DTEND;TZID=Europe/Dublin:20230911T170000
DTSTAMP:20260424T015936
CREATED:20230911T161250Z
LAST-MODIFIED:20230911T161533Z
UID:10000757-1694419200-1694451600@charlestown.ie
SUMMARY:Charlestown Activities List 2023/24 - Click here
DESCRIPTION:An up to date list of Activies currently happening in Charlestown.  \nIf any activity is missing \, please email info@charlestown.ie
URL:https://charlestown.ie/event/charlestown-activities-2023-24-click-here/
LOCATION:Co Mayo
CATEGORIES:Adult Sport,Basketball,Children,Community,Family Event,GAA- LGFA,Schools,Sport
END:VEVENT
BEGIN:VEVENT
DTSTART;TZID=Europe/Dublin:20230909T190000
DTEND;TZID=Europe/Dublin:20230909T190000
DTSTAMP:20260424T015936
CREATED:20230622T120226Z
LAST-MODIFIED:20230622T120226Z
UID:10000655-1694286000-1694286000@charlestown.ie
SUMMARY:Ireland West Airport - Runway Fun Run
DESCRIPTION:Ireland West Airport are delighted to announce\, in partnership with Portwest\, the 6th annual charity 5k runway fun run will take place on the runway at Ireland West Airport at 7pm on Saturday\, 9th September 2023. \nAll are welcome to attend with all proceeds from the event going to the airport charity partners for 2023 – Breakthrough Cancer Research\, Diabetes Ireland\, The Irish Society for the Prevention of Cruelty to Children\, The Children’s Cancer Fund\, The Royal National Lifeboat Institution\, and the Mayo Society for the Prevention of Cruelty to Animals. \nTo book your place visit www.irelandwestairport.com/runwayrun \n  \n\n 
URL:https://charlestown.ie/event/ireland-west-airport-runway-fun-run/
LOCATION:Ireland West Airport Knock\, Charlestown\, Co. Mayo\, Ireland
CATEGORIES:Adult Sport,Annual Run,Charity,Community
END:VEVENT
BEGIN:VEVENT
DTSTART;TZID=Europe/Dublin:20230827T110000
DTEND;TZID=Europe/Dublin:20230827T123000
DTSTAMP:20260424T015936
CREATED:20230821T122040Z
LAST-MODIFIED:20230821T122040Z
UID:10000734-1693134000-1693139400@charlestown.ie
SUMMARY:LGFA - Senior Ladies Div 2 League Semi Final v MacHale Rovers (home)
DESCRIPTION:
URL:https://charlestown.ie/event/lgfa-senior-ladies-div-2-league-semi-final-v-machale-rovers-home/
LOCATION:Charlestown Sarsfields GAA grounds\, Lowpark\, Charlestown\, Co. Mayo\, Ireland
CATEGORIES:Adult Sport,GAA- LGFA,Sport
END:VEVENT
BEGIN:VEVENT
DTSTART;TZID=Europe/Dublin:20230820T110000
DTEND;TZID=Europe/Dublin:20230820T130000
DTSTAMP:20260424T015936
CREATED:20230819T162130Z
LAST-MODIFIED:20230819T162130Z
UID:10000731-1692529200-1692536400@charlestown.ie
SUMMARY:LGFA - Senior Ladies League Div 2B - Rd 3 v Kilmoremoy (home)
DESCRIPTION:
URL:https://charlestown.ie/event/lgfa-senior-ladies-league-div-2b-rd-3-v-kilmoremoy-home/
LOCATION:Charlestown Sarsfields GAA grounds\, Lowpark\, Charlestown\, Co. Mayo\, Ireland
CATEGORIES:Adult Sport,GAA- LGFA,Sport
END:VEVENT
BEGIN:VEVENT
DTSTART;TZID=Europe/Dublin:20230804T193000
DTEND;TZID=Europe/Dublin:20230804T210000
DTSTAMP:20260424T015936
CREATED:20230722T193757Z
LAST-MODIFIED:20230802T155319Z
UID:10000707-1691177400-1691182800@charlestown.ie
SUMMARY:LGFA - Senior Ladies Div 2B League v Louisburgh (away)
DESCRIPTION:
URL:https://charlestown.ie/event/lgfa-senior-ladies-division-2b-league-v-louisburgh-home/
LOCATION:Co Mayo
CATEGORIES:Adult Sport,Children,Community,GAA- LGFA,Sport
END:VEVENT
BEGIN:VEVENT
DTSTART;TZID=Europe/Dublin:20230730T120000
DTEND;TZID=Europe/Dublin:20230730T133000
DTSTAMP:20260424T015936
CREATED:20230725T162044Z
LAST-MODIFIED:20230729T200649Z
UID:10000716-1690718400-1690723800@charlestown.ie
SUMMARY:GAA - Michael Walsh Snr Qtr Final v Belmullet (home)
DESCRIPTION:
URL:https://charlestown.ie/event/gaa-michael-walsh-snr-qtr-final-v-belmullet/
LOCATION:Charlestown Sarsfields GAA grounds\, Lowpark\, Charlestown\, Co. Mayo\, Ireland
CATEGORIES:Adult Sport,Community,GAA- LGFA,Sport
ORGANIZER;CN="Charlestown Sarsfields GAA":MAILTO:secretary.charlestown.mayo@gaa.ie
END:VEVENT
BEGIN:VEVENT
DTSTART;TZID=Europe/Dublin:20230708T190000
DTEND;TZID=Europe/Dublin:20230708T203000
DTSTAMP:20260424T015936
CREATED:20230703T154112Z
LAST-MODIFIED:20230703T154112Z
UID:10000681-1688842800-1688848200@charlestown.ie
SUMMARY:GAA- Mayo GAA SFL Div 1A v Garrymore (away)
DESCRIPTION:
URL:https://charlestown.ie/event/gaa-mayo-gaa-sfl-div-1a-v-garrymore-away/
LOCATION:Co Mayo
CATEGORIES:Adult Sport,Community,GAA- LGFA,Sport
ORGANIZER;CN="Charlestown Sarsfields GAA":MAILTO:secretary.charlestown.mayo@gaa.ie
END:VEVENT
BEGIN:VEVENT
DTSTART;TZID=Europe/Dublin:20230707T193000
DTEND;TZID=Europe/Dublin:20230707T203000
DTSTAMP:20260424T015936
CREATED:20230623T083435Z
LAST-MODIFIED:20230623T083435Z
UID:10000656-1688758200-1688761800@charlestown.ie
SUMMARY:LGFA - Memorial League Senior Ladies v Knockmore (away)
DESCRIPTION:
URL:https://charlestown.ie/event/lgfa-memorial-league-senior-ladies-v-knockmore-away/
LOCATION:Co Mayo
CATEGORIES:Adult Sport,Children,GAA- LGFA,Sport
END:VEVENT
END:VCALENDAR