BEGIN:VCALENDAR
VERSION:2.0
PRODID:-//Charlestown - ECPv6.6.4.2//NONSGML v1.0//EN
CALSCALE:GREGORIAN
METHOD:PUBLISH
X-ORIGINAL-URL:https://charlestown.ie
X-WR-CALDESC:Events for Charlestown
REFRESH-INTERVAL;VALUE=DURATION:PT1H
X-Robots-Tag:noindex
X-PUBLISHED-TTL:PT1H
BEGIN:VTIMEZONE
TZID:Europe/Dublin
BEGIN:DAYLIGHT
TZOFFSETFROM:+0000
TZOFFSETTO:+0100
TZNAME:IST
DTSTART:20260329T010000
END:DAYLIGHT
BEGIN:STANDARD
TZOFFSETFROM:+0100
TZOFFSETTO:+0000
TZNAME:GMT
DTSTART:20261025T010000
END:STANDARD
END:VTIMEZONE
BEGIN:VEVENT
DTSTART;TZID=Europe/Dublin:20260306T210000
DTEND;TZID=Europe/Dublin:20260306T230000
DTSTAMP:20260423T224732
CREATED:20250930T071606Z
LAST-MODIFIED:20250930T071606Z
UID:10002940-1772830800-1772838000@charlestown.ie
SUMMARY:Friday Night Darts
DESCRIPTION:
URL:https://charlestown.ie/event/friday-night-darts/2026-03-06/
LOCATION:Johnny’s Bar & Off Licence\, The Square\, Charlestown\, Co Mayo\, Ireland
CATEGORIES:Adult Sport
ATTACH;FMTTYPE=image/jpeg:https://charlestown.ie/wp-content/uploads/2025/09/Screenshot_20250930_081147_Facebook.jpg
END:VEVENT
BEGIN:VEVENT
DTSTART;TZID=Europe/Dublin:20260313T210000
DTEND;TZID=Europe/Dublin:20260313T230000
DTSTAMP:20260423T224732
CREATED:20250930T071606Z
LAST-MODIFIED:20250930T071606Z
UID:10002941-1773435600-1773442800@charlestown.ie
SUMMARY:Friday Night Darts
DESCRIPTION:
URL:https://charlestown.ie/event/friday-night-darts/2026-03-13/
LOCATION:Johnny’s Bar & Off Licence\, The Square\, Charlestown\, Co Mayo\, Ireland
CATEGORIES:Adult Sport
ATTACH;FMTTYPE=image/jpeg:https://charlestown.ie/wp-content/uploads/2025/09/Screenshot_20250930_081147_Facebook.jpg
END:VEVENT
BEGIN:VEVENT
DTSTART;TZID=Europe/Dublin:20260320T210000
DTEND;TZID=Europe/Dublin:20260320T230000
DTSTAMP:20260423T224732
CREATED:20250930T071606Z
LAST-MODIFIED:20250930T071606Z
UID:10002942-1774040400-1774047600@charlestown.ie
SUMMARY:Friday Night Darts
DESCRIPTION:
URL:https://charlestown.ie/event/friday-night-darts/2026-03-20/
LOCATION:Johnny’s Bar & Off Licence\, The Square\, Charlestown\, Co Mayo\, Ireland
CATEGORIES:Adult Sport
ATTACH;FMTTYPE=image/jpeg:https://charlestown.ie/wp-content/uploads/2025/09/Screenshot_20250930_081147_Facebook.jpg
END:VEVENT
BEGIN:VEVENT
DTSTART;TZID=Europe/Dublin:20260327T210000
DTEND;TZID=Europe/Dublin:20260327T230000
DTSTAMP:20260423T224732
CREATED:20250930T071606Z
LAST-MODIFIED:20250930T071606Z
UID:10002943-1774645200-1774652400@charlestown.ie
SUMMARY:Friday Night Darts
DESCRIPTION:
URL:https://charlestown.ie/event/friday-night-darts/2026-03-27/
LOCATION:Johnny’s Bar & Off Licence\, The Square\, Charlestown\, Co Mayo\, Ireland
CATEGORIES:Adult Sport
ATTACH;FMTTYPE=image/jpeg:https://charlestown.ie/wp-content/uploads/2025/09/Screenshot_20250930_081147_Facebook.jpg
END:VEVENT
END:VCALENDAR