BEGIN:VCALENDAR
VERSION:2.0
PRODID:-//Charlestown - ECPv6.6.4.2//NONSGML v1.0//EN
CALSCALE:GREGORIAN
METHOD:PUBLISH
X-WR-CALNAME:Charlestown
X-ORIGINAL-URL:https://charlestown.ie
X-WR-CALDESC:Events for Charlestown
REFRESH-INTERVAL;VALUE=DURATION:PT1H
X-Robots-Tag:noindex
X-PUBLISHED-TTL:PT1H
BEGIN:VTIMEZONE
TZID:Europe/Dublin
BEGIN:DAYLIGHT
TZOFFSETFROM:+0000
TZOFFSETTO:+0100
TZNAME:IST
DTSTART:20260329T010000
END:DAYLIGHT
BEGIN:STANDARD
TZOFFSETFROM:+0100
TZOFFSETTO:+0000
TZNAME:GMT
DTSTART:20261025T010000
END:STANDARD
END:VTIMEZONE
BEGIN:VEVENT
DTSTART;TZID=Europe/Dublin:20260423T103000
DTEND;TZID=Europe/Dublin:20260423T130000
DTSTAMP:20260423T135524
CREATED:20250822T154401Z
LAST-MODIFIED:20251028T085401Z
UID:10002647-1776940200-1776949200@charlestown.ie
SUMMARY:Yarn Tales - Knit\, Crochet & Embroidery
DESCRIPTION:
URL:https://charlestown.ie/event/yarn-tales-knit-crochet-embroidery/2026-04-23/
LOCATION:Pastoral Centre\, Lowpark\, Charlestown\, Mayo\, Ireland
ATTACH;FMTTYPE=image/jpeg:https://charlestown.ie/wp-content/uploads/2025/08/Screenshot_20250901_212637_Gmail.jpg
END:VEVENT
BEGIN:VEVENT
DTSTART;TZID=Europe/Dublin:20260423T190000
DTEND;TZID=Europe/Dublin:20260423T200000
DTSTAMP:20260423T135524
CREATED:20260204T193609Z
LAST-MODIFIED:20260204T193609Z
UID:10003263-1776970800-1776974400@charlestown.ie
SUMMARY:Parish Choir
DESCRIPTION:
URL:https://charlestown.ie/event/parish-choir/2026-04-23/
LOCATION:St James Church\, Charlestown\, Church St\, Charlestown\, Co Mayo\, Ireland
ATTACH;FMTTYPE=image/jpeg:https://charlestown.ie/wp-content/uploads/2026/01/file_000000006b58720ab11c32110733255a.jpg
END:VEVENT
BEGIN:VEVENT
DTSTART;TZID=Europe/Dublin:20260424T093000
DTEND;TZID=Europe/Dublin:20260424T103000
DTSTAMP:20260423T135524
CREATED:20250312T224914Z
LAST-MODIFIED:20260111T123846Z
UID:10001811-1777023000-1777026600@charlestown.ie
SUMMARY:Buggy Walking Group
DESCRIPTION:
URL:https://charlestown.ie/event/new-buggy-walking-group/2026-04-24/
LOCATION:CBD Recreational Centre\, Charlestown\, Lowpark\, Charlestown\, Mayo\, Ireland
ATTACH;FMTTYPE=image/jpeg:https://charlestown.ie/wp-content/uploads/2025/03/Screenshot_20250312_195807_Canva-1.jpg
END:VEVENT
BEGIN:VEVENT
DTSTART;TZID=Europe/Dublin:20260424T220000
DTEND;TZID=Europe/Dublin:20260424T230000
DTSTAMP:20260423T135524
CREATED:20260422T231422Z
LAST-MODIFIED:20260422T233420Z
UID:10003522-1777068000-1777071600@charlestown.ie
SUMMARY:Live Music - Tony Cunningham
DESCRIPTION:
URL:https://charlestown.ie/event/live-music-tony-cunningham/
LOCATION:Johnny’s Bar & Off Licence\, The Square\, Charlestown\, Co Mayo\, Ireland
CATEGORIES:Live Music
ATTACH;FMTTYPE=image/jpeg:https://charlestown.ie/wp-content/uploads/2026/04/Tony-Cunningham-e1776900816874.jpg
END:VEVENT
BEGIN:VEVENT
DTSTART;TZID=Europe/Dublin:20260425T220000
DTEND;TZID=Europe/Dublin:20260425T233000
DTSTAMP:20260423T135524
CREATED:20260422T233350Z
LAST-MODIFIED:20260422T233458Z
UID:10003523-1777154400-1777159800@charlestown.ie
SUMMARY:Live Music - Eamonn James
DESCRIPTION:
URL:https://charlestown.ie/event/live-music-eamonn-james-sat-25th-april/
LOCATION:Johnny’s Bar & Off Licence\, The Square\, Charlestown\, Co Mayo\, Ireland
CATEGORIES:Live Music
ATTACH;FMTTYPE=image/jpeg:https://charlestown.ie/wp-content/uploads/2026/04/Eamonn-James.jpg
END:VEVENT
BEGIN:VEVENT
DTSTART;TZID=Europe/Dublin:20260426T140000
DTEND;TZID=Europe/Dublin:20260426T170000
DTSTAMP:20260423T135524
CREATED:20260422T223856Z
LAST-MODIFIED:20260422T224113Z
UID:10003520-1777212000-1777222800@charlestown.ie
SUMMARY:Mayo v Roscommon Bus  - 26th April
DESCRIPTION:TO RESERVE A SEAT FOR EITHER OF THESE TRIPS MESSAGE US ON SOCIAL MEDIA OR CALL US ON 094-9254215
URL:https://charlestown.ie/event/mayo-v-roscommon-bus-26th-april/
LOCATION:MacHale Park\, Castlebar
CATEGORIES:GAA- LGFA
ATTACH;FMTTYPE=image/jpeg:https://charlestown.ie/wp-content/uploads/2026/04/Johnnys-Mayo-Game-e1776897425931.jpg
END:VEVENT
BEGIN:VEVENT
DTSTART;TZID=Europe/Dublin:20260428T191500
DTEND;TZID=Europe/Dublin:20260428T201500
DTSTAMP:20260423T135524
CREATED:20250820T123631Z
LAST-MODIFIED:20250820T123631Z
UID:10002475-1777403700-1777407300@charlestown.ie
SUMMARY:Yoga with Trish
DESCRIPTION:
URL:https://charlestown.ie/event/yoga-with-trish/2026-04-28/
LOCATION:Charlestown Arts Centre
ATTACH;FMTTYPE=image/jpeg:https://charlestown.ie/wp-content/uploads/2025/08/Screenshot_20250819_162049_Canva.jpg
END:VEVENT
BEGIN:VEVENT
DTSTART;TZID=Europe/Dublin:20260429T110000
DTEND;TZID=Europe/Dublin:20260429T130000
DTSTAMP:20260423T135524
CREATED:20250819T203259Z
LAST-MODIFIED:20250819T203259Z
UID:10002216-1777460400-1777467600@charlestown.ie
SUMMARY:Adult Arts & Crafts Group
DESCRIPTION:
URL:https://charlestown.ie/event/adult-arts-crafts-group/2026-04-29/
LOCATION:Charlestown Arts Centre
ATTACH;FMTTYPE=image/heic:https://charlestown.ie/wp-content/uploads/2025/08/20250819_175055.heic
END:VEVENT
BEGIN:VEVENT
DTSTART;TZID=Europe/Dublin:20260429T200000
DTEND;TZID=Europe/Dublin:20260429T220000
DTSTAMP:20260423T135524
CREATED:20250226T170301Z
LAST-MODIFIED:20250226T170418Z
UID:10001695-1777492800-1777500000@charlestown.ie
SUMMARY:Weekly Bridge Game - Walsh's Bar
DESCRIPTION:
URL:https://charlestown.ie/event/weekly-bridge-game-walshs-bar/2026-04-29/
LOCATION:Walsh’s Public House\, Main Street\, Charlestown\, Mayo\, Ireland
ATTACH;FMTTYPE=image/jpeg:https://charlestown.ie/wp-content/uploads/2025/02/20250226_165811.jpg
END:VEVENT
BEGIN:VEVENT
DTSTART;TZID=Europe/Dublin:20260430T103000
DTEND;TZID=Europe/Dublin:20260430T130000
DTSTAMP:20260423T135524
CREATED:20250822T154401Z
LAST-MODIFIED:20251028T085401Z
UID:10002648-1777545000-1777554000@charlestown.ie
SUMMARY:Yarn Tales - Knit\, Crochet & Embroidery
DESCRIPTION:
URL:https://charlestown.ie/event/yarn-tales-knit-crochet-embroidery/2026-04-30/
LOCATION:Pastoral Centre\, Lowpark\, Charlestown\, Mayo\, Ireland
ATTACH;FMTTYPE=image/jpeg:https://charlestown.ie/wp-content/uploads/2025/08/Screenshot_20250901_212637_Gmail.jpg
END:VEVENT
BEGIN:VEVENT
DTSTART;TZID=Europe/Dublin:20260430T190000
DTEND;TZID=Europe/Dublin:20260430T200000
DTSTAMP:20260423T135524
CREATED:20260204T193609Z
LAST-MODIFIED:20260204T193609Z
UID:10003264-1777575600-1777579200@charlestown.ie
SUMMARY:Parish Choir
DESCRIPTION:
URL:https://charlestown.ie/event/parish-choir/2026-04-30/
LOCATION:St James Church\, Charlestown\, Church St\, Charlestown\, Co Mayo\, Ireland
ATTACH;FMTTYPE=image/jpeg:https://charlestown.ie/wp-content/uploads/2026/01/file_000000006b58720ab11c32110733255a.jpg
END:VEVENT
END:VCALENDAR